BEGIN:VCALENDAR
VERSION:2.0
PRODID:-//Yorkshire of Edina - ECPv6.11.2.1//NONSGML v1.0//EN
CALSCALE:GREGORIAN
METHOD:PUBLISH
X-WR-CALNAME:Yorkshire of Edina
X-ORIGINAL-URL:https://yorkshireofedina.com
X-WR-CALDESC:Events for Yorkshire of Edina
REFRESH-INTERVAL;VALUE=DURATION:PT1H
X-Robots-Tag:noindex
X-PUBLISHED-TTL:PT1H
BEGIN:VTIMEZONE
TZID:America/Chicago
BEGIN:DAYLIGHT
TZOFFSETFROM:-0600
TZOFFSETTO:-0500
TZNAME:CDT
DTSTART:20260308T080000
END:DAYLIGHT
BEGIN:STANDARD
TZOFFSETFROM:-0500
TZOFFSETTO:-0600
TZNAME:CST
DTSTART:20261101T070000
END:STANDARD
END:VTIMEZONE
BEGIN:VEVENT
DTSTART;TZID=America/Chicago:20260424T093000
DTEND;TZID=America/Chicago:20260424T103000
DTSTAMP:20260424T030302
CREATED:20260326T114546Z
LAST-MODIFIED:20260423T153056Z
UID:10004696-1777023000-1777026600@yorkshireofedina.com
SUMMARY:Music Relaxation
DESCRIPTION:
URL:https://yorkshireofedina.com/event-calendar/music-relaxation-190/
LOCATION:Near Nurse Station
CATEGORIES:Memory Care
END:VEVENT
BEGIN:VEVENT
DTSTART;TZID=America/Chicago:20260424T100000
DTEND;TZID=America/Chicago:20260424T110000
DTSTAMP:20260424T030302
CREATED:20260326T113127Z
LAST-MODIFIED:20260423T161527Z
UID:10004691-1777024800-1777028400@yorkshireofedina.com
SUMMARY:Exercise: Combo Class (weights\, balance\, balls)
DESCRIPTION:
URL:https://yorkshireofedina.com/event-calendar/exercise-combo-class-weights-balance-balls-49/
LOCATION:Community Room
CATEGORIES:Assisted Living,Independent Living
END:VEVENT
BEGIN:VEVENT
DTSTART;TZID=America/Chicago:20260424T100000
DTEND;TZID=America/Chicago:20260424T110000
DTSTAMP:20260424T030302
CREATED:20260326T114546Z
LAST-MODIFIED:20260423T153107Z
UID:10004697-1777024800-1777028400@yorkshireofedina.com
SUMMARY:Coffee Social
DESCRIPTION:
URL:https://yorkshireofedina.com/event-calendar/coffee-social-156/
LOCATION:TV Room
CATEGORIES:Memory Care
END:VEVENT
BEGIN:VEVENT
DTSTART;TZID=America/Chicago:20260424T103000
DTEND;TZID=America/Chicago:20260424T113000
DTSTAMP:20260424T030302
CREATED:20260326T114546Z
LAST-MODIFIED:20260423T153107Z
UID:10004698-1777026600-1777030200@yorkshireofedina.com
SUMMARY:Devotion / Spiritual Sing Along
DESCRIPTION:
URL:https://yorkshireofedina.com/event-calendar/devotion-spiritual-sing-along-49/
LOCATION:TV Room
CATEGORIES:Memory Care
END:VEVENT
BEGIN:VEVENT
DTSTART;TZID=America/Chicago:20260424T110000
DTEND;TZID=America/Chicago:20260424T120000
DTSTAMP:20260424T030302
CREATED:20260326T114546Z
LAST-MODIFIED:20260423T153107Z
UID:10004699-1777028400-1777032000@yorkshireofedina.com
SUMMARY:Aging Into Strength
DESCRIPTION:
URL:https://yorkshireofedina.com/event-calendar/aging-into-strength-126/
LOCATION:TV Room
CATEGORIES:Memory Care
END:VEVENT
BEGIN:VEVENT
DTSTART;TZID=America/Chicago:20260424T113000
DTEND;TZID=America/Chicago:20260424T123000
DTSTAMP:20260424T030302
CREATED:20260326T114546Z
LAST-MODIFIED:20260423T153108Z
UID:10004700-1777030200-1777033800@yorkshireofedina.com
SUMMARY:Oshibori
DESCRIPTION:
URL:https://yorkshireofedina.com/event-calendar/oshibori-404/
LOCATION:Dining Room
CATEGORIES:Memory Care
END:VEVENT
BEGIN:VEVENT
DTSTART;TZID=America/Chicago:20260424T130000
DTEND;TZID=America/Chicago:20260424T140000
DTSTAMP:20260424T030302
CREATED:20260326T113127Z
LAST-MODIFIED:20260423T161527Z
UID:10004692-1777035600-1777039200@yorkshireofedina.com
SUMMARY:Robot Soccer Practice & The Really Big Show
DESCRIPTION:Virtual call with Dr. Bill Thomas (founder of the spark competitions) that goes over all of teams’ competition scores throughout the company.
URL:https://yorkshireofedina.com/event-calendar/the-really-big-show-18/
LOCATION:Community Room
CATEGORIES:Assisted Living,Independent Living
END:VEVENT
BEGIN:VEVENT
DTSTART;TZID=America/Chicago:20260424T130000
DTEND;TZID=America/Chicago:20260424T140000
DTSTAMP:20260424T030302
CREATED:20260326T114546Z
LAST-MODIFIED:20260423T153108Z
UID:10004701-1777035600-1777039200@yorkshireofedina.com
SUMMARY:Live Music (The Jupes 1-2pm)/ Happy Hour
DESCRIPTION:
URL:https://yorkshireofedina.com/event-calendar/live-music-the-jupes-1-2pm-happy-hour/
LOCATION:TV Room
CATEGORIES:Memory Care
END:VEVENT
BEGIN:VEVENT
DTSTART;TZID=America/Chicago:20260424T133000
DTEND;TZID=America/Chicago:20260424T143000
DTSTAMP:20260424T030302
CREATED:20260411T151536Z
LAST-MODIFIED:20260416T154536Z
UID:10004910-1777037400-1777041000@yorkshireofedina.com
SUMMARY:Robot Soccer Practice
DESCRIPTION:
URL:https://yorkshireofedina.com/event-calendar/robot-soccer-practice-16/
LOCATION:Community Room
CATEGORIES:Independent Living
END:VEVENT
BEGIN:VEVENT
DTSTART;TZID=America/Chicago:20260424T140000
DTEND;TZID=America/Chicago:20260424T150000
DTSTAMP:20260424T030302
CREATED:20260326T113127Z
LAST-MODIFIED:20260423T161527Z
UID:10004693-1777039200-1777042800@yorkshireofedina.com
SUMMARY:Live Music: The Jupes *2-3pm*
DESCRIPTION:
URL:https://yorkshireofedina.com/event-calendar/live-music-the-jupes-2-3pm-2/
LOCATION:Bistro
CATEGORIES:Assisted Living,Independent Living
END:VEVENT
BEGIN:VEVENT
DTSTART;TZID=America/Chicago:20260424T141500
DTEND;TZID=America/Chicago:20260424T151500
DTSTAMP:20260424T030302
CREATED:20260326T114546Z
LAST-MODIFIED:20260423T153108Z
UID:10004702-1777040100-1777043700@yorkshireofedina.com
SUMMARY:Monthly Birthday Party
DESCRIPTION:
URL:https://yorkshireofedina.com/event-calendar/monthly-birthday-party-12/
LOCATION:4th Floor in TV/ Soda Shop
CATEGORIES:Memory Care
END:VEVENT
BEGIN:VEVENT
DTSTART;TZID=America/Chicago:20260424T150000
DTEND;TZID=America/Chicago:20260424T160000
DTSTAMP:20260424T030302
CREATED:20260326T113127Z
LAST-MODIFIED:20260423T161527Z
UID:10004694-1777042800-1777046400@yorkshireofedina.com
SUMMARY:Happy Hour
DESCRIPTION:
URL:https://yorkshireofedina.com/event-calendar/happy-hour-46/
LOCATION:Bistro
CATEGORIES:Assisted Living,Independent Living
END:VEVENT
BEGIN:VEVENT
DTSTART;TZID=America/Chicago:20260424T163000
DTEND;TZID=America/Chicago:20260424T173000
DTSTAMP:20260424T030302
CREATED:20260326T114547Z
LAST-MODIFIED:20260423T153108Z
UID:10004703-1777048200-1777051800@yorkshireofedina.com
SUMMARY:Oshibori
DESCRIPTION:
URL:https://yorkshireofedina.com/event-calendar/oshibori-405/
LOCATION:Dining Room
CATEGORIES:Memory Care
END:VEVENT
BEGIN:VEVENT
DTSTART;TZID=America/Chicago:20260424T180000
DTEND;TZID=America/Chicago:20260424T184500
DTSTAMP:20260424T030302
CREATED:20260326T114547Z
LAST-MODIFIED:20260423T153108Z
UID:10004704-1777053600-1777056300@yorkshireofedina.com
SUMMARY:Yoga and Armchair Travel with Lisa
DESCRIPTION:
URL:https://yorkshireofedina.com/event-calendar/yoga-and-armchair-travel-with-lisa-46/
LOCATION:TV Room
CATEGORIES:Memory Care
END:VEVENT
BEGIN:VEVENT
DTSTART;TZID=America/Chicago:20260424T180000
DTEND;TZID=America/Chicago:20260424T190000
DTSTAMP:20260424T030302
CREATED:20260326T113128Z
LAST-MODIFIED:20260423T161527Z
UID:10004695-1777053600-1777057200@yorkshireofedina.com
SUMMARY:Dominos Game
DESCRIPTION:
URL:https://yorkshireofedina.com/event-calendar/dominos-game-50/
LOCATION:Bistro
CATEGORIES:Assisted Living,Independent Living
END:VEVENT
END:VCALENDAR