BEGIN:VCALENDAR
VERSION:2.0
PRODID:-//Yorkshire of Edina - ECPv6.11.2.1//NONSGML v1.0//EN
CALSCALE:GREGORIAN
METHOD:PUBLISH
X-WR-CALNAME:Yorkshire of Edina
X-ORIGINAL-URL:https://yorkshireofedina.com
X-WR-CALDESC:Events for Yorkshire of Edina
REFRESH-INTERVAL;VALUE=DURATION:PT1H
X-Robots-Tag:noindex
X-PUBLISHED-TTL:PT1H
BEGIN:VTIMEZONE
TZID:America/Chicago
BEGIN:DAYLIGHT
TZOFFSETFROM:-0600
TZOFFSETTO:-0500
TZNAME:CDT
DTSTART:20260308T080000
END:DAYLIGHT
BEGIN:STANDARD
TZOFFSETFROM:-0500
TZOFFSETTO:-0600
TZNAME:CST
DTSTART:20261101T070000
END:STANDARD
END:VTIMEZONE
BEGIN:VEVENT
DTSTART;TZID=America/Chicago:20260521T180000
DTEND;TZID=America/Chicago:20260521T190000
DTSTAMP:20260423T190744
CREATED:20260422T160117Z
LAST-MODIFIED:20260423T161545Z
UID:10005073-1779386400-1779390000@yorkshireofedina.com
SUMMARY:Rummikub & 500 Card Game
DESCRIPTION:
URL:https://yorkshireofedina.com/event-calendar/rummikub-500-card-game-36/
LOCATION:Bistro
CATEGORIES:Independent Living
END:VEVENT
BEGIN:VEVENT
DTSTART;TZID=America/Chicago:20260522T100000
DTEND;TZID=America/Chicago:20260522T110000
DTSTAMP:20260423T190744
CREATED:20260422T160117Z
LAST-MODIFIED:20260423T161545Z
UID:10005074-1779444000-1779447600@yorkshireofedina.com
SUMMARY:Exercise: Combo Class (weights\, balance\, balls)
DESCRIPTION:
URL:https://yorkshireofedina.com/event-calendar/exercise-combo-class-weights-balance-balls-53/
LOCATION:Community Room
CATEGORIES:Independent Living
END:VEVENT
BEGIN:VEVENT
DTSTART;TZID=America/Chicago:20260522T130000
DTEND;TZID=America/Chicago:20260522T140000
DTSTAMP:20260423T190744
CREATED:20260423T161545Z
LAST-MODIFIED:20260423T161545Z
UID:10005091-1779454800-1779458400@yorkshireofedina.com
SUMMARY:The Really Big Show
DESCRIPTION:Virtual call with Dr. Bill Thomas (founder of the spark competitions) that goes over all of teams’ competition scores throughout the company.
URL:https://yorkshireofedina.com/event-calendar/the-really-big-show-22/
LOCATION:Community Room
CATEGORIES:Independent Living
END:VEVENT
BEGIN:VEVENT
DTSTART;TZID=America/Chicago:20260522T133000
DTEND;TZID=America/Chicago:20260522T143000
DTSTAMP:20260423T190744
CREATED:20260423T161545Z
LAST-MODIFIED:20260423T161545Z
UID:10005092-1779456600-1779460200@yorkshireofedina.com
SUMMARY:Robot Soccer Practice
DESCRIPTION:
URL:https://yorkshireofedina.com/event-calendar/robot-soccer-practice-26/
LOCATION:Community Room
CATEGORIES:Independent Living
END:VEVENT
BEGIN:VEVENT
DTSTART;TZID=America/Chicago:20260522T143000
DTEND;TZID=America/Chicago:20260522T150000
DTSTAMP:20260423T190744
CREATED:20260423T161545Z
LAST-MODIFIED:20260423T161545Z
UID:10005093-1779460200-1779462000@yorkshireofedina.com
SUMMARY:Live Music: Maxwell & Guest
DESCRIPTION:
URL:https://yorkshireofedina.com/event-calendar/live-music-maxwell-guest-10/
LOCATION:Bistro
CATEGORIES:Independent Living
END:VEVENT
BEGIN:VEVENT
DTSTART;TZID=America/Chicago:20260522T150000
DTEND;TZID=America/Chicago:20260522T160000
DTSTAMP:20260423T190744
CREATED:20260423T161545Z
LAST-MODIFIED:20260423T161545Z
UID:10005094-1779462000-1779465600@yorkshireofedina.com
SUMMARY:Happy Hour
DESCRIPTION:
URL:https://yorkshireofedina.com/event-calendar/happy-hour-50/
LOCATION:Bistro
CATEGORIES:Independent Living
END:VEVENT
BEGIN:VEVENT
DTSTART;TZID=America/Chicago:20260522T180000
DTEND;TZID=America/Chicago:20260522T190000
DTSTAMP:20260423T190744
CREATED:20260423T161546Z
LAST-MODIFIED:20260423T161546Z
UID:10005083-1779472800-1779476400@yorkshireofedina.com
SUMMARY:Dominos Game
DESCRIPTION:
URL:https://yorkshireofedina.com/event-calendar/dominos-game-54/
LOCATION:Bistro
CATEGORIES:Independent Living
END:VEVENT
BEGIN:VEVENT
DTSTART;TZID=America/Chicago:20260523T093000
DTEND;TZID=America/Chicago:20260523T103000
DTSTAMP:20260423T190744
CREATED:20260423T161546Z
LAST-MODIFIED:20260423T161546Z
UID:10005084-1779528600-1779532200@yorkshireofedina.com
SUMMARY:Giant Crossword
DESCRIPTION:
URL:https://yorkshireofedina.com/event-calendar/giant-crossword-50/
LOCATION:Community Room
CATEGORIES:Independent Living
END:VEVENT
END:VCALENDAR