BEGIN:VCALENDAR
VERSION:2.0
PRODID:-//Yorkshire of Edina - ECPv6.11.2.1//NONSGML v1.0//EN
CALSCALE:GREGORIAN
METHOD:PUBLISH
X-WR-CALNAME:Yorkshire of Edina
X-ORIGINAL-URL:https://yorkshireofedina.com
X-WR-CALDESC:Events for Yorkshire of Edina
REFRESH-INTERVAL;VALUE=DURATION:PT1H
X-Robots-Tag:noindex
X-PUBLISHED-TTL:PT1H
BEGIN:VTIMEZONE
TZID:America/Chicago
BEGIN:DAYLIGHT
TZOFFSETFROM:-0600
TZOFFSETTO:-0500
TZNAME:CDT
DTSTART:20250309T080000
END:DAYLIGHT
BEGIN:STANDARD
TZOFFSETFROM:-0500
TZOFFSETTO:-0600
TZNAME:CST
DTSTART:20251102T070000
END:STANDARD
END:VTIMEZONE
BEGIN:VEVENT
DTSTART;TZID=America/Chicago:20250516T180000
DTEND;TZID=America/Chicago:20250516T184500
DTSTAMP:20260420T003207
CREATED:20250516T195758Z
LAST-MODIFIED:20250516T195759Z
UID:10000175-1747418400-1747421100@yorkshireofedina.com
SUMMARY:Yoga with Lisa
DESCRIPTION:
URL:https://yorkshireofedina.com/event-calendar/yoga-with-lisa/
LOCATION:TV/ Soda Shop
CATEGORIES:Memory Care
END:VEVENT
BEGIN:VEVENT
DTSTART;TZID=America/Chicago:20250516T184500
DTEND;TZID=America/Chicago:20250516T194500
DTSTAMP:20260420T003207
CREATED:20250516T195758Z
LAST-MODIFIED:20250516T195759Z
UID:10000176-1747421100-1747424700@yorkshireofedina.com
SUMMARY:Armchair Travel
DESCRIPTION:
URL:https://yorkshireofedina.com/event-calendar/armchair-travel/
LOCATION:TV/Soda Shop
CATEGORIES:Memory Care
END:VEVENT
BEGIN:VEVENT
DTSTART;TZID=America/Chicago:20250517T104500
DTEND;TZID=America/Chicago:20250517T114500
DTSTAMP:20260420T003207
CREATED:20250516T195759Z
LAST-MODIFIED:20250516T195759Z
UID:10000177-1747478700-1747482300@yorkshireofedina.com
SUMMARY:Exercise
DESCRIPTION:
URL:https://yorkshireofedina.com/event-calendar/exercise-3/
LOCATION:TV/ Soda Shop
CATEGORIES:Memory Care
END:VEVENT
BEGIN:VEVENT
DTSTART;TZID=America/Chicago:20250517T140000
DTEND;TZID=America/Chicago:20250517T153000
DTSTAMP:20260420T003207
CREATED:20250516T195718Z
LAST-MODIFIED:20250517T201933Z
UID:10000011-1747490400-1747495800@yorkshireofedina.com
SUMMARY:Marie T's Memorial Service
DESCRIPTION:
URL:https://yorkshireofedina.com/event-calendar/marie-ts-memorial-service/
LOCATION:Dining Room
CATEGORIES:Assisted Living,Memory Care
END:VEVENT
BEGIN:VEVENT
DTSTART;TZID=America/Chicago:20250517T144500
DTEND;TZID=America/Chicago:20250517T160000
DTSTAMP:20260420T003207
CREATED:20250516T195759Z
LAST-MODIFIED:20250517T201933Z
UID:10000178-1747493100-1747497600@yorkshireofedina.com
SUMMARY:Yoga with Lisa
DESCRIPTION:
URL:https://yorkshireofedina.com/event-calendar/yoga-with-lisa-2/
LOCATION:TV/ Soda Shop
CATEGORIES:Memory Care
END:VEVENT
BEGIN:VEVENT
DTSTART;TZID=America/Chicago:20250517T153000
DTEND;TZID=America/Chicago:20250517T163000
DTSTAMP:20260420T003207
CREATED:20250516T195759Z
LAST-MODIFIED:20250516T195759Z
UID:10000170-1747495800-1747499400@yorkshireofedina.com
SUMMARY:Armchair Travel
DESCRIPTION:
URL:https://yorkshireofedina.com/event-calendar/armchair-travel-3/
LOCATION:TV/ Soda Shop
CATEGORIES:Memory Care
END:VEVENT
BEGIN:VEVENT
DTSTART;TZID=America/Chicago:20250517T153000
DTEND;TZID=America/Chicago:20250517T163000
DTSTAMP:20260420T003207
CREATED:20250516T195759Z
LAST-MODIFIED:20250517T201933Z
UID:10000179-1747495800-1747499400@yorkshireofedina.com
SUMMARY:Armchair Travel
DESCRIPTION:
URL:https://yorkshireofedina.com/event-calendar/armchair-travel-2/
LOCATION:TV/ Soda Shop
CATEGORIES:Memory Care
END:VEVENT
BEGIN:VEVENT
DTSTART;TZID=America/Chicago:20250518T093000
DTEND;TZID=America/Chicago:20250518T103000
DTSTAMP:20260420T003207
CREATED:20250516T195759Z
LAST-MODIFIED:20250517T201933Z
UID:10000180-1747560600-1747564200@yorkshireofedina.com
SUMMARY:Church Service on TV
DESCRIPTION:
URL:https://yorkshireofedina.com/event-calendar/church-service-on-tv/
LOCATION:TV/ Soda Shop
CATEGORIES:Memory Care
END:VEVENT
BEGIN:VEVENT
DTSTART;TZID=America/Chicago:20250518T093000
DTEND;TZID=America/Chicago:20250518T103000
DTSTAMP:20260420T003207
CREATED:20250516T195800Z
LAST-MODIFIED:20250516T195800Z
UID:10000171-1747560600-1747564200@yorkshireofedina.com
SUMMARY:Church Service on TV
DESCRIPTION:
URL:https://yorkshireofedina.com/event-calendar/church-service-on-tv-2/
LOCATION:TV/ Soda Shop
CATEGORIES:Memory Care
END:VEVENT
BEGIN:VEVENT
DTSTART;TZID=America/Chicago:20250518T103000
DTEND;TZID=America/Chicago:20250518T113000
DTSTAMP:20260420T003207
CREATED:20250516T195759Z
LAST-MODIFIED:20250517T201933Z
UID:10000181-1747564200-1747567800@yorkshireofedina.com
SUMMARY:Exercise
DESCRIPTION:
URL:https://yorkshireofedina.com/event-calendar/exercise-4/
LOCATION:TV/ Soda Shop
CATEGORIES:Memory Care
END:VEVENT
BEGIN:VEVENT
DTSTART;TZID=America/Chicago:20250518T103000
DTEND;TZID=America/Chicago:20250518T113000
DTSTAMP:20260420T003207
CREATED:20250516T195801Z
LAST-MODIFIED:20250516T195801Z
UID:10000172-1747564200-1747567800@yorkshireofedina.com
SUMMARY:Exercise
DESCRIPTION:
URL:https://yorkshireofedina.com/event-calendar/exercise-6/
LOCATION:TV/ Soda Shop
CATEGORIES:Memory Care
END:VEVENT
BEGIN:VEVENT
DTSTART;TZID=America/Chicago:20250518T143000
DTEND;TZID=America/Chicago:20250518T153000
DTSTAMP:20260420T003207
CREATED:20250516T195759Z
LAST-MODIFIED:20250517T201933Z
UID:10000182-1747578600-1747582200@yorkshireofedina.com
SUMMARY:Coloring With Lisa
DESCRIPTION:
URL:https://yorkshireofedina.com/event-calendar/coloring-with-lisa/
LOCATION:Garden Room
CATEGORIES:Memory Care
END:VEVENT
BEGIN:VEVENT
DTSTART;TZID=America/Chicago:20250518T143000
DTEND;TZID=America/Chicago:20250518T153000
DTSTAMP:20260420T003207
CREATED:20250516T195801Z
LAST-MODIFIED:20250516T195801Z
UID:10000173-1747578600-1747582200@yorkshireofedina.com
SUMMARY:Coloring With Lisa
DESCRIPTION:
URL:https://yorkshireofedina.com/event-calendar/coloring-with-lisa-2/
LOCATION:Garden Room
CATEGORIES:Memory Care
END:VEVENT
BEGIN:VEVENT
DTSTART;TZID=America/Chicago:20250518T153000
DTEND;TZID=America/Chicago:20250518T163000
DTSTAMP:20260420T003207
CREATED:20250516T195759Z
LAST-MODIFIED:20250518T203027Z
UID:10000183-1747582200-1747585800@yorkshireofedina.com
SUMMARY:Activity with Lisa
DESCRIPTION:
URL:https://yorkshireofedina.com/event-calendar/activity-with-lisa/
LOCATION:Garden Room
CATEGORIES:Memory Care
END:VEVENT
BEGIN:VEVENT
DTSTART;TZID=America/Chicago:20250518T153000
DTEND;TZID=America/Chicago:20250518T163000
DTSTAMP:20260420T003207
CREATED:20250516T195802Z
LAST-MODIFIED:20250516T195802Z
UID:10000174-1747582200-1747585800@yorkshireofedina.com
SUMMARY:Activity with Lisa
DESCRIPTION:
URL:https://yorkshireofedina.com/event-calendar/activity-with-lisa-2/
LOCATION:Garden Room
CATEGORIES:Memory Care
END:VEVENT
BEGIN:VEVENT
DTSTART;TZID=America/Chicago:20250519T093000
DTEND;TZID=America/Chicago:20250519T103000
DTSTAMP:20260420T003207
CREATED:20250516T195759Z
LAST-MODIFIED:20250518T203027Z
UID:10000184-1747647000-1747650600@yorkshireofedina.com
SUMMARY:Scenic Relaxation
DESCRIPTION:
URL:https://yorkshireofedina.com/event-calendar/scenic-relaxation/
LOCATION:TV/ Soda Shop
CATEGORIES:Memory Care
END:VEVENT
BEGIN:VEVENT
DTSTART;TZID=America/Chicago:20250519T100000
DTEND;TZID=America/Chicago:20250519T110000
DTSTAMP:20260420T003207
CREATED:20250516T195759Z
LAST-MODIFIED:20250518T203027Z
UID:10000185-1747648800-1747652400@yorkshireofedina.com
SUMMARY:Coffee Club
DESCRIPTION:
URL:https://yorkshireofedina.com/event-calendar/coffee-club/
LOCATION:TV/ Soda Shop
CATEGORIES:Memory Care
END:VEVENT
BEGIN:VEVENT
DTSTART;TZID=America/Chicago:20250519T110000
DTEND;TZID=America/Chicago:20250519T120000
DTSTAMP:20260420T003207
CREATED:20250516T195800Z
LAST-MODIFIED:20250518T203027Z
UID:10000186-1747652400-1747656000@yorkshireofedina.com
SUMMARY:Exercise
DESCRIPTION:
URL:https://yorkshireofedina.com/event-calendar/exercise-5/
LOCATION:TV/ Soda Shop
CATEGORIES:Memory Care
END:VEVENT
BEGIN:VEVENT
DTSTART;TZID=America/Chicago:20250519T140000
DTEND;TZID=America/Chicago:20250519T153000
DTSTAMP:20260420T003207
CREATED:20250516T195800Z
LAST-MODIFIED:20250518T203027Z
UID:10000187-1747663200-1747668600@yorkshireofedina.com
SUMMARY:Puzzles
DESCRIPTION:
URL:https://yorkshireofedina.com/event-calendar/puzzles/
LOCATION:Garden Room
CATEGORIES:Memory Care
END:VEVENT
BEGIN:VEVENT
DTSTART;TZID=America/Chicago:20250519T153000
DTEND;TZID=America/Chicago:20250519T163000
DTSTAMP:20260420T003207
CREATED:20250516T195801Z
LAST-MODIFIED:20250519T204625Z
UID:10000188-1747668600-1747672200@yorkshireofedina.com
SUMMARY:Manicure/ Hand Massages
DESCRIPTION:
URL:https://yorkshireofedina.com/event-calendar/manicure-hand-massages/
LOCATION:Garden Room
CATEGORIES:Memory Care
END:VEVENT
BEGIN:VEVENT
DTSTART;TZID=America/Chicago:20250519T180000
DTEND;TZID=America/Chicago:20250519T190000
DTSTAMP:20260420T003207
CREATED:20250516T195801Z
LAST-MODIFIED:20250519T204625Z
UID:10000189-1747677600-1747681200@yorkshireofedina.com
SUMMARY:Trivia with Suzie
DESCRIPTION:
URL:https://yorkshireofedina.com/event-calendar/trivia-with-suzie/
LOCATION:TV/ Soda Shop
CATEGORIES:Memory Care
END:VEVENT
BEGIN:VEVENT
DTSTART;TZID=America/Chicago:20250519T184500
DTEND;TZID=America/Chicago:20250519T193000
DTSTAMP:20260420T003207
CREATED:20250516T195802Z
LAST-MODIFIED:20250519T204625Z
UID:10000190-1747680300-1747683000@yorkshireofedina.com
SUMMARY:Bowling with Suzie
DESCRIPTION:
URL:https://yorkshireofedina.com/event-calendar/bowling-with-suzie/
LOCATION:TV/ Soda Shop
CATEGORIES:Memory Care
END:VEVENT
BEGIN:VEVENT
DTSTART;TZID=America/Chicago:20250520T093000
DTEND;TZID=America/Chicago:20250520T103000
DTSTAMP:20260420T003207
CREATED:20250516T195802Z
LAST-MODIFIED:20250519T204625Z
UID:10000191-1747733400-1747737000@yorkshireofedina.com
SUMMARY:Scenic Relaxation
DESCRIPTION:
URL:https://yorkshireofedina.com/event-calendar/scenic-relaxation-2/
LOCATION:TV/ Soda Shop
CATEGORIES:Memory Care
END:VEVENT
BEGIN:VEVENT
DTSTART;TZID=America/Chicago:20250520T100000
DTEND;TZID=America/Chicago:20250520T110000
DTSTAMP:20260420T003207
CREATED:20250516T195802Z
LAST-MODIFIED:20250519T204626Z
UID:10000192-1747735200-1747738800@yorkshireofedina.com
SUMMARY:Worship Service
DESCRIPTION:
URL:https://yorkshireofedina.com/event-calendar/worship-service/
LOCATION:TV/ Soda Shop
CATEGORIES:Memory Care
END:VEVENT
BEGIN:VEVENT
DTSTART;TZID=America/Chicago:20250520T100000
DTEND;TZID=America/Chicago:20250520T110000
DTSTAMP:20260420T003207
CREATED:20250516T195802Z
LAST-MODIFIED:20250519T204626Z
UID:10000193-1747735200-1747738800@yorkshireofedina.com
SUMMARY:Coffee Club
DESCRIPTION:
URL:https://yorkshireofedina.com/event-calendar/coffee-club-2/
LOCATION:TV/ Soda Shop
CATEGORIES:Memory Care
END:VEVENT
BEGIN:VEVENT
DTSTART;TZID=America/Chicago:20250520T110000
DTEND;TZID=America/Chicago:20250520T120000
DTSTAMP:20260420T003207
CREATED:20250516T195802Z
LAST-MODIFIED:20250519T204626Z
UID:10000194-1747738800-1747742400@yorkshireofedina.com
SUMMARY:Exercise
DESCRIPTION:
URL:https://yorkshireofedina.com/event-calendar/exercise-7/
LOCATION:TV/ Soda Shop
CATEGORIES:Memory Care
END:VEVENT
BEGIN:VEVENT
DTSTART;TZID=America/Chicago:20250520T130000
DTEND;TZID=America/Chicago:20250520T140000
DTSTAMP:20260420T003207
CREATED:20250516T195802Z
LAST-MODIFIED:20250519T204626Z
UID:10000195-1747746000-1747749600@yorkshireofedina.com
SUMMARY:Forklift Racing
DESCRIPTION:
URL:https://yorkshireofedina.com/event-calendar/forklift-racing/
LOCATION:Assisted Living
CATEGORIES:Memory Care
END:VEVENT
BEGIN:VEVENT
DTSTART;TZID=America/Chicago:20250520T140000
DTEND;TZID=America/Chicago:20250520T150000
DTSTAMP:20260420T003207
CREATED:20250516T195802Z
LAST-MODIFIED:20250519T204626Z
UID:10000196-1747749600-1747753200@yorkshireofedina.com
SUMMARY:Bingo
DESCRIPTION:
URL:https://yorkshireofedina.com/event-calendar/bingo-14/
LOCATION:Garden Room
CATEGORIES:Memory Care
END:VEVENT
BEGIN:VEVENT
DTSTART;TZID=America/Chicago:20250520T153000
DTEND;TZID=America/Chicago:20250520T163000
DTSTAMP:20260420T003207
CREATED:20250516T195802Z
LAST-MODIFIED:20250520T204608Z
UID:10000197-1747755000-1747758600@yorkshireofedina.com
SUMMARY:Music Concert with Brad
DESCRIPTION:
URL:https://yorkshireofedina.com/event-calendar/music-concert-with-brad/
LOCATION:TV/ Soda Shop
CATEGORIES:Memory Care
END:VEVENT
BEGIN:VEVENT
DTSTART;TZID=America/Chicago:20250520T153000
DTEND;TZID=America/Chicago:20250520T163000
DTSTAMP:20260420T003207
CREATED:20250516T195802Z
LAST-MODIFIED:20250520T204608Z
UID:10000198-1747755000-1747758600@yorkshireofedina.com
SUMMARY:Cookie Baking/ Popcorn Socials
DESCRIPTION:
URL:https://yorkshireofedina.com/event-calendar/cookie-baking-popcorn-socials/
LOCATION:Garden Room
CATEGORIES:Memory Care
END:VEVENT
END:VCALENDAR