BEGIN:VCALENDAR
VERSION:2.0
PRODID:-//Yorkshire of Edina - ECPv6.11.2.1//NONSGML v1.0//EN
CALSCALE:GREGORIAN
METHOD:PUBLISH
X-ORIGINAL-URL:https://yorkshireofedina.com
X-WR-CALDESC:Events for Yorkshire of Edina
REFRESH-INTERVAL;VALUE=DURATION:PT1H
X-Robots-Tag:noindex
X-PUBLISHED-TTL:PT1H
BEGIN:VTIMEZONE
TZID:America/Chicago
BEGIN:DAYLIGHT
TZOFFSETFROM:-0600
TZOFFSETTO:-0500
TZNAME:CDT
DTSTART:20250309T080000
END:DAYLIGHT
BEGIN:STANDARD
TZOFFSETFROM:-0500
TZOFFSETTO:-0600
TZNAME:CST
DTSTART:20251102T070000
END:STANDARD
END:VTIMEZONE
BEGIN:VEVENT
DTSTART;TZID=America/Chicago:20250601T093000
DTEND;TZID=America/Chicago:20250601T103000
DTSTAMP:20260419T103749
CREATED:20250516T195806Z
LAST-MODIFIED:20250531T220037Z
UID:10000274-1748770200-1748773800@yorkshireofedina.com
SUMMARY:Church Service on TV
DESCRIPTION:
URL:https://yorkshireofedina.com/event-calendar/church-service-on-tv-4/
LOCATION:TV/ Soda Shop
CATEGORIES:Memory Care
END:VEVENT
BEGIN:VEVENT
DTSTART;TZID=America/Chicago:20250601T103000
DTEND;TZID=America/Chicago:20250601T113000
DTSTAMP:20260419T103749
CREATED:20250516T195806Z
LAST-MODIFIED:20250531T220037Z
UID:10000273-1748773800-1748777400@yorkshireofedina.com
SUMMARY:Sing-A-Long
DESCRIPTION:
URL:https://yorkshireofedina.com/event-calendar/sing-a-long/
LOCATION:TV Room
CATEGORIES:Memory Care
END:VEVENT
BEGIN:VEVENT
DTSTART;TZID=America/Chicago:20250601T103000
DTEND;TZID=America/Chicago:20250601T113000
DTSTAMP:20260419T103749
CREATED:20250516T195806Z
LAST-MODIFIED:20250531T220037Z
UID:10000275-1748773800-1748777400@yorkshireofedina.com
SUMMARY:Exercise
DESCRIPTION:
URL:https://yorkshireofedina.com/event-calendar/exercise-19/
LOCATION:TV/ Soda Shop
CATEGORIES:Memory Care
END:VEVENT
BEGIN:VEVENT
DTSTART;TZID=America/Chicago:20250601T143000
DTEND;TZID=America/Chicago:20250601T153000
DTSTAMP:20260419T103749
CREATED:20250516T195806Z
LAST-MODIFIED:20250531T220037Z
UID:10000276-1748788200-1748791800@yorkshireofedina.com
SUMMARY:Coloring With Lisa
DESCRIPTION:
URL:https://yorkshireofedina.com/event-calendar/coloring-with-lisa-3/
LOCATION:Garden Room
CATEGORIES:Memory Care
END:VEVENT
BEGIN:VEVENT
DTSTART;TZID=America/Chicago:20250601T153000
DTEND;TZID=America/Chicago:20250601T163000
DTSTAMP:20260419T103749
CREATED:20250516T195806Z
LAST-MODIFIED:20250531T220037Z
UID:10000277-1748791800-1748795400@yorkshireofedina.com
SUMMARY:Activity with Lisa
DESCRIPTION:
URL:https://yorkshireofedina.com/event-calendar/activity-with-lisa-3/
LOCATION:Garden Room
CATEGORIES:Memory Care
END:VEVENT
BEGIN:VEVENT
DTSTART;TZID=America/Chicago:20250602T093000
DTEND;TZID=America/Chicago:20250602T103000
DTSTAMP:20260419T103749
CREATED:20250516T195806Z
LAST-MODIFIED:20250601T220400Z
UID:10000278-1748856600-1748860200@yorkshireofedina.com
SUMMARY:Scenic Relaxation
DESCRIPTION:
URL:https://yorkshireofedina.com/event-calendar/scenic-relaxation-11/
LOCATION:TV/ Soda Shop
CATEGORIES:Memory Care
END:VEVENT
BEGIN:VEVENT
DTSTART;TZID=America/Chicago:20250602T100000
DTEND;TZID=America/Chicago:20250602T110000
DTSTAMP:20260419T103749
CREATED:20250516T195806Z
LAST-MODIFIED:20250601T220400Z
UID:10000279-1748858400-1748862000@yorkshireofedina.com
SUMMARY:Coffee Club
DESCRIPTION:
URL:https://yorkshireofedina.com/event-calendar/coffee-club-11/
LOCATION:TV/ Soda Shop
CATEGORIES:Memory Care
END:VEVENT
BEGIN:VEVENT
DTSTART;TZID=America/Chicago:20250602T110000
DTEND;TZID=America/Chicago:20250602T120000
DTSTAMP:20260419T103749
CREATED:20250516T195806Z
LAST-MODIFIED:20250601T220400Z
UID:10000280-1748862000-1748865600@yorkshireofedina.com
SUMMARY:Exercise
DESCRIPTION:
URL:https://yorkshireofedina.com/event-calendar/exercise-20/
LOCATION:TV/ Soda Shop
CATEGORIES:Memory Care
END:VEVENT
BEGIN:VEVENT
DTSTART;TZID=America/Chicago:20250602T140000
DTEND;TZID=America/Chicago:20250602T153000
DTSTAMP:20260419T103749
CREATED:20250516T195806Z
LAST-MODIFIED:20250601T220400Z
UID:10000281-1748872800-1748878200@yorkshireofedina.com
SUMMARY:Garden Club - Planting Flowers.
DESCRIPTION:
URL:https://yorkshireofedina.com/event-calendar/puzzles-3/
LOCATION:Patio – Outside
CATEGORIES:Memory Care
END:VEVENT
BEGIN:VEVENT
DTSTART;TZID=America/Chicago:20250602T153000
DTEND;TZID=America/Chicago:20250602T163000
DTSTAMP:20260419T103749
CREATED:20250516T195806Z
LAST-MODIFIED:20250601T220400Z
UID:10000282-1748878200-1748881800@yorkshireofedina.com
SUMMARY:Manicure/ Hand Massages
DESCRIPTION:
URL:https://yorkshireofedina.com/event-calendar/manicure-hand-massages-5/
LOCATION:Garden Room
CATEGORIES:Memory Care
END:VEVENT
BEGIN:VEVENT
DTSTART;TZID=America/Chicago:20250602T180000
DTEND;TZID=America/Chicago:20250602T190000
DTSTAMP:20260419T103749
CREATED:20250516T195806Z
LAST-MODIFIED:20250602T221615Z
UID:10000283-1748887200-1748890800@yorkshireofedina.com
SUMMARY:Trivia with Suzie
DESCRIPTION:
URL:https://yorkshireofedina.com/event-calendar/trivia-with-suzie-3/
LOCATION:TV/ Soda Shop
CATEGORIES:Memory Care
END:VEVENT
BEGIN:VEVENT
DTSTART;TZID=America/Chicago:20250602T184500
DTEND;TZID=America/Chicago:20250602T193000
DTSTAMP:20260419T103749
CREATED:20250516T195807Z
LAST-MODIFIED:20250602T221615Z
UID:10000284-1748889900-1748892600@yorkshireofedina.com
SUMMARY:Bowling with Suzie
DESCRIPTION:
URL:https://yorkshireofedina.com/event-calendar/bowling-with-suzie-3/
LOCATION:TV/ Soda Shop
CATEGORIES:Memory Care
END:VEVENT
BEGIN:VEVENT
DTSTART;TZID=America/Chicago:20250603T093000
DTEND;TZID=America/Chicago:20250603T103000
DTSTAMP:20260419T103749
CREATED:20250516T195807Z
LAST-MODIFIED:20250602T221615Z
UID:10000288-1748943000-1748946600@yorkshireofedina.com
SUMMARY:Scenic Relaxation
DESCRIPTION:
URL:https://yorkshireofedina.com/event-calendar/scenic-relaxation-12/
LOCATION:TV/ Soda Shop
CATEGORIES:Memory Care
END:VEVENT
BEGIN:VEVENT
DTSTART;TZID=America/Chicago:20250603T100000
DTEND;TZID=America/Chicago:20250603T110000
DTSTAMP:20260419T103749
CREATED:20250516T195807Z
LAST-MODIFIED:20250602T221615Z
UID:10000286-1748944800-1748948400@yorkshireofedina.com
SUMMARY:Coffee Club
DESCRIPTION:
URL:https://yorkshireofedina.com/event-calendar/coffee-club-12/
LOCATION:TV/ Soda Shop
CATEGORIES:Memory Care
END:VEVENT
BEGIN:VEVENT
DTSTART;TZID=America/Chicago:20250603T100000
DTEND;TZID=America/Chicago:20250603T110000
DTSTAMP:20260419T103749
CREATED:20250516T195807Z
LAST-MODIFIED:20250602T221615Z
UID:10000287-1748944800-1748948400@yorkshireofedina.com
SUMMARY:Worship Service
DESCRIPTION:
URL:https://yorkshireofedina.com/event-calendar/worship-service-4/
LOCATION:TV/ Soda Shop
CATEGORIES:Memory Care
END:VEVENT
BEGIN:VEVENT
DTSTART;TZID=America/Chicago:20250603T110000
DTEND;TZID=America/Chicago:20250603T120000
DTSTAMP:20260419T103749
CREATED:20250516T195807Z
LAST-MODIFIED:20250602T221615Z
UID:10000285-1748948400-1748952000@yorkshireofedina.com
SUMMARY:Exercise
DESCRIPTION:
URL:https://yorkshireofedina.com/event-calendar/exercise-21/
LOCATION:TV/ Soda Shop
CATEGORIES:Memory Care
END:VEVENT
BEGIN:VEVENT
DTSTART;TZID=America/Chicago:20250603T130000
DTEND;TZID=America/Chicago:20250603T140000
DTSTAMP:20260419T103749
CREATED:20250516T195807Z
LAST-MODIFIED:20250602T221615Z
UID:10000289-1748955600-1748959200@yorkshireofedina.com
SUMMARY:Forklift Racing
DESCRIPTION:
URL:https://yorkshireofedina.com/event-calendar/forklift-racing-3/
LOCATION:Assisted Living
CATEGORIES:Memory Care
END:VEVENT
BEGIN:VEVENT
DTSTART;TZID=America/Chicago:20250603T140000
DTEND;TZID=America/Chicago:20250603T150000
DTSTAMP:20260419T103749
CREATED:20250516T195807Z
LAST-MODIFIED:20250602T221615Z
UID:10000290-1748959200-1748962800@yorkshireofedina.com
SUMMARY:Bingo
DESCRIPTION:
URL:https://yorkshireofedina.com/event-calendar/bingo-16/
LOCATION:Garden Room
CATEGORIES:Memory Care
END:VEVENT
BEGIN:VEVENT
DTSTART;TZID=America/Chicago:20250603T153000
DTEND;TZID=America/Chicago:20250603T163000
DTSTAMP:20260419T103749
CREATED:20250516T195807Z
LAST-MODIFIED:20250602T221616Z
UID:10000291-1748964600-1748968200@yorkshireofedina.com
SUMMARY:Cookie Baking/ Popcorn Social
DESCRIPTION:
URL:https://yorkshireofedina.com/event-calendar/cookie-baking-popcorn-socials-3/
LOCATION:Garden Room
CATEGORIES:Memory Care
END:VEVENT
BEGIN:VEVENT
DTSTART;TZID=America/Chicago:20250603T180000
DTEND;TZID=America/Chicago:20250603T190000
DTSTAMP:20260419T103749
CREATED:20250516T195808Z
LAST-MODIFIED:20250603T221601Z
UID:10000292-1748973600-1748977200@yorkshireofedina.com
SUMMARY:Sensory with Suzie
DESCRIPTION:
URL:https://yorkshireofedina.com/event-calendar/arts-and-crafts-with-suzie-3/
CATEGORIES:Memory Care
END:VEVENT
BEGIN:VEVENT
DTSTART;TZID=America/Chicago:20250603T184500
DTEND;TZID=America/Chicago:20250603T194500
DTSTAMP:20260419T103749
CREATED:20250516T195808Z
LAST-MODIFIED:20250603T221601Z
UID:10000293-1748976300-1748979900@yorkshireofedina.com
SUMMARY:Sing-A-Long with Suzie
DESCRIPTION:
URL:https://yorkshireofedina.com/event-calendar/puzzles-with-suzie-3/
CATEGORIES:Memory Care
END:VEVENT
BEGIN:VEVENT
DTSTART;TZID=America/Chicago:20250604T093000
DTEND;TZID=America/Chicago:20250604T103000
DTSTAMP:20260419T103749
CREATED:20250516T195808Z
LAST-MODIFIED:20250603T221601Z
UID:10000294-1749029400-1749033000@yorkshireofedina.com
SUMMARY:Scenic Relaxation
DESCRIPTION:
URL:https://yorkshireofedina.com/event-calendar/scenic-relaxation-13/
LOCATION:TV/ Soda Shop
CATEGORIES:Memory Care
END:VEVENT
BEGIN:VEVENT
DTSTART;TZID=America/Chicago:20250604T100000
DTEND;TZID=America/Chicago:20250604T110000
DTSTAMP:20260419T103749
CREATED:20250516T195808Z
LAST-MODIFIED:20250603T221601Z
UID:10000295-1749031200-1749034800@yorkshireofedina.com
SUMMARY:Coffee Club
DESCRIPTION:
URL:https://yorkshireofedina.com/event-calendar/coffee-club-13/
LOCATION:TV/ Soda Shop
CATEGORIES:Memory Care
END:VEVENT
BEGIN:VEVENT
DTSTART;TZID=America/Chicago:20250604T101500
DTEND;TZID=America/Chicago:20250604T111500
DTSTAMP:20260419T103749
CREATED:20250529T220224Z
LAST-MODIFIED:20250603T221601Z
UID:10000548-1749032100-1749035700@yorkshireofedina.com
SUMMARY:Blessed Trinity 1st Grade Concert (3 songs)
DESCRIPTION:
URL:https://yorkshireofedina.com/event-calendar/blessed-trinity-1st-grade-concert-3-songs-2/
LOCATION:TV/ Soda Shop
CATEGORIES:Memory Care
END:VEVENT
BEGIN:VEVENT
DTSTART;TZID=America/Chicago:20250604T110000
DTEND;TZID=America/Chicago:20250604T120000
DTSTAMP:20260419T103749
CREATED:20250516T195808Z
LAST-MODIFIED:20250603T221601Z
UID:10000296-1749034800-1749038400@yorkshireofedina.com
SUMMARY:Exercise
DESCRIPTION:
URL:https://yorkshireofedina.com/event-calendar/exercise-22/
LOCATION:TV/ Soda Shop
CATEGORIES:Memory Care
END:VEVENT
BEGIN:VEVENT
DTSTART;TZID=America/Chicago:20250604T140000
DTEND;TZID=America/Chicago:20250604T150000
DTSTAMP:20260419T103749
CREATED:20250516T195722Z
LAST-MODIFIED:20250604T193043Z
UID:10000107-1749045600-1749049200@yorkshireofedina.com
SUMMARY:Holy Communion Service by Mount Olivet Lutheran Church
DESCRIPTION:
URL:https://yorkshireofedina.com/event-calendar/holy-communion-service-by-mount-olivet-lutheran-church/
LOCATION:Community Room
CATEGORIES:Assisted Living,Independent Living,Memory Care
END:VEVENT
BEGIN:VEVENT
DTSTART;TZID=America/Chicago:20250604T150000
DTEND;TZID=America/Chicago:20250604T160000
DTSTAMP:20260419T103749
CREATED:20250516T195808Z
LAST-MODIFIED:20250603T221601Z
UID:10000297-1749049200-1749052800@yorkshireofedina.com
SUMMARY:Classroom Experience
DESCRIPTION:
URL:https://yorkshireofedina.com/event-calendar/classroom-experience-2/
LOCATION:Garden Room
CATEGORIES:Memory Care
END:VEVENT
BEGIN:VEVENT
DTSTART;TZID=America/Chicago:20250604T153000
DTEND;TZID=America/Chicago:20250604T163000
DTSTAMP:20260419T103749
CREATED:20250516T195808Z
LAST-MODIFIED:20250603T221601Z
UID:10000298-1749051000-1749054600@yorkshireofedina.com
SUMMARY:Manicure/ Hand Massages
DESCRIPTION:
URL:https://yorkshireofedina.com/event-calendar/manicure-hand-massages-6/
LOCATION:Garden Room
CATEGORIES:Memory Care
END:VEVENT
BEGIN:VEVENT
DTSTART;TZID=America/Chicago:20250604T180000
DTEND;TZID=America/Chicago:20250604T190000
DTSTAMP:20260419T103749
CREATED:20250516T195808Z
LAST-MODIFIED:20250604T221634Z
UID:10000299-1749060000-1749063600@yorkshireofedina.com
SUMMARY:Yoga with Lisa
DESCRIPTION:
URL:https://yorkshireofedina.com/event-calendar/yoga-with-lisa-8/
LOCATION:TV/ Soda Shop
CATEGORIES:Memory Care
END:VEVENT
BEGIN:VEVENT
DTSTART;TZID=America/Chicago:20250604T184500
DTEND;TZID=America/Chicago:20250604T190000
DTSTAMP:20260419T103749
CREATED:20250516T195808Z
LAST-MODIFIED:20250604T221634Z
UID:10000300-1749062700-1749063600@yorkshireofedina.com
SUMMARY:Armchair Travel
DESCRIPTION:
URL:https://yorkshireofedina.com/event-calendar/armchair-travel-9/
LOCATION:TV/ Soda Shop
CATEGORIES:Memory Care
END:VEVENT
END:VCALENDAR