BEGIN:VCALENDAR
VERSION:2.0
PRODID:-//Yorkshire of Edina - ECPv6.11.2.1//NONSGML v1.0//EN
CALSCALE:GREGORIAN
METHOD:PUBLISH
X-WR-CALNAME:Yorkshire of Edina
X-ORIGINAL-URL:https://yorkshireofedina.com
X-WR-CALDESC:Events for Yorkshire of Edina
REFRESH-INTERVAL;VALUE=DURATION:PT1H
X-Robots-Tag:noindex
X-PUBLISHED-TTL:PT1H
BEGIN:VTIMEZONE
TZID:America/Chicago
BEGIN:DAYLIGHT
TZOFFSETFROM:-0600
TZOFFSETTO:-0500
TZNAME:CDT
DTSTART:20250309T080000
END:DAYLIGHT
BEGIN:STANDARD
TZOFFSETFROM:-0500
TZOFFSETTO:-0600
TZNAME:CST
DTSTART:20251102T070000
END:STANDARD
END:VTIMEZONE
BEGIN:VEVENT
DTSTART;TZID=America/Chicago:20251001T093000
DTEND;TZID=America/Chicago:20251001T103000
DTSTAMP:20260419T065056
CREATED:20250901T204535Z
LAST-MODIFIED:20250930T220027Z
UID:10001890-1759311000-1759314600@yorkshireofedina.com
SUMMARY:Music Relaxation
DESCRIPTION:
URL:https://yorkshireofedina.com/event-calendar/music-relaxation-40/
LOCATION:Near Nurse Station
CATEGORIES:Memory Care
END:VEVENT
BEGIN:VEVENT
DTSTART;TZID=America/Chicago:20251001T100000
DTEND;TZID=America/Chicago:20251001T110000
DTSTAMP:20260419T065056
CREATED:20250901T204535Z
LAST-MODIFIED:20250930T220027Z
UID:10001891-1759312800-1759316400@yorkshireofedina.com
SUMMARY:Coffee Social
DESCRIPTION:
URL:https://yorkshireofedina.com/event-calendar/coffee-social-8/
LOCATION:TV Room
CATEGORIES:Memory Care
END:VEVENT
BEGIN:VEVENT
DTSTART;TZID=America/Chicago:20251001T110000
DTEND;TZID=America/Chicago:20251001T120000
DTSTAMP:20260419T065056
CREATED:20250901T204535Z
LAST-MODIFIED:20250930T220027Z
UID:10001892-1759316400-1759320000@yorkshireofedina.com
SUMMARY:Aging With Strength
DESCRIPTION:
URL:https://yorkshireofedina.com/event-calendar/exercise-149/
LOCATION:TV Room
CATEGORIES:Memory Care
END:VEVENT
BEGIN:VEVENT
DTSTART;TZID=America/Chicago:20251001T113000
DTEND;TZID=America/Chicago:20251001T123000
DTSTAMP:20260419T065056
CREATED:20250901T204535Z
LAST-MODIFIED:20250930T220027Z
UID:10001893-1759318200-1759321800@yorkshireofedina.com
SUMMARY:Oshibori
DESCRIPTION:
URL:https://yorkshireofedina.com/event-calendar/lunch-on-the-patio-3/
LOCATION:Dining Room
CATEGORIES:Memory Care
END:VEVENT
BEGIN:VEVENT
DTSTART;TZID=America/Chicago:20251001T140000
DTEND;TZID=America/Chicago:20251001T150000
DTSTAMP:20260419T065056
CREATED:20250901T204535Z
LAST-MODIFIED:20250930T220027Z
UID:10001894-1759327200-1759330800@yorkshireofedina.com
SUMMARY:Classroom Experience
DESCRIPTION:
URL:https://yorkshireofedina.com/event-calendar/classroom-experience-19/
LOCATION:Garden Room
CATEGORIES:Memory Care
END:VEVENT
BEGIN:VEVENT
DTSTART;TZID=America/Chicago:20251001T140000
DTEND;TZID=America/Chicago:20251001T150000
DTSTAMP:20260419T065056
CREATED:20250901T204535Z
LAST-MODIFIED:20251001T004529Z
UID:10001895-1759327200-1759330800@yorkshireofedina.com
SUMMARY:Communion Service by Mount Olivet Lutheran Church
DESCRIPTION:
URL:https://yorkshireofedina.com/event-calendar/communion-service-by-mount-olivet-lutheran-church/
LOCATION:Community Room
CATEGORIES:Assisted Living,Independent Living,Memory Care
END:VEVENT
BEGIN:VEVENT
DTSTART;TZID=America/Chicago:20251001T153000
DTEND;TZID=America/Chicago:20251001T163000
DTSTAMP:20260419T065056
CREATED:20250901T204535Z
LAST-MODIFIED:20250930T220027Z
UID:10001896-1759332600-1759336200@yorkshireofedina.com
SUMMARY:Manicure/ Hand Massages
DESCRIPTION:
URL:https://yorkshireofedina.com/event-calendar/manicure-hand-massages-40/
LOCATION:Garden Room
CATEGORIES:Memory Care
END:VEVENT
BEGIN:VEVENT
DTSTART;TZID=America/Chicago:20251001T153000
DTEND;TZID=America/Chicago:20251001T163000
DTSTAMP:20260419T065056
CREATED:20250919T220029Z
LAST-MODIFIED:20250930T220027Z
UID:10002160-1759332600-1759336200@yorkshireofedina.com
SUMMARY:Hearing Aide Cleaning
DESCRIPTION:
URL:https://yorkshireofedina.com/event-calendar/hearing-aide-cleaning/
LOCATION:Garden Room
CATEGORIES:Memory Care
END:VEVENT
BEGIN:VEVENT
DTSTART;TZID=America/Chicago:20251001T163000
DTEND;TZID=America/Chicago:20251001T173000
DTSTAMP:20260419T065056
CREATED:20250902T210053Z
LAST-MODIFIED:20251001T220029Z
UID:10001901-1759336200-1759339800@yorkshireofedina.com
SUMMARY:Oshibori
DESCRIPTION:
URL:https://yorkshireofedina.com/event-calendar/oshibori-112/
LOCATION:Dining Room
CATEGORIES:Memory Care
END:VEVENT
BEGIN:VEVENT
DTSTART;TZID=America/Chicago:20251001T180000
DTEND;TZID=America/Chicago:20251001T190000
DTSTAMP:20260419T065056
CREATED:20250902T210053Z
LAST-MODIFIED:20251001T220029Z
UID:10001902-1759341600-1759345200@yorkshireofedina.com
SUMMARY:Activity with Aides
DESCRIPTION:
URL:https://yorkshireofedina.com/event-calendar/yoga-with-lisa-50/
LOCATION:TV Room
CATEGORIES:Memory Care
END:VEVENT
BEGIN:VEVENT
DTSTART;TZID=America/Chicago:20251001T184500
DTEND;TZID=America/Chicago:20251001T190000
DTSTAMP:20260419T065056
CREATED:20250902T210053Z
LAST-MODIFIED:20250925T220026Z
UID:10001903-1759344300-1759345200@yorkshireofedina.com
SUMMARY:Armchair Travel
DESCRIPTION:
URL:https://yorkshireofedina.com/event-calendar/armchair-travel-51/
LOCATION:TV Room
CATEGORIES:Memory Care
END:VEVENT
BEGIN:VEVENT
DTSTART;TZID=America/Chicago:20251002T093000
DTEND;TZID=America/Chicago:20251002T103000
DTSTAMP:20260419T065056
CREATED:20250902T210053Z
LAST-MODIFIED:20251001T220029Z
UID:10001904-1759397400-1759401000@yorkshireofedina.com
SUMMARY:Music Relaxation
DESCRIPTION:
URL:https://yorkshireofedina.com/event-calendar/music-relaxation-41/
LOCATION:Near Nurse Station
CATEGORIES:Memory Care
END:VEVENT
BEGIN:VEVENT
DTSTART;TZID=America/Chicago:20251002T100000
DTEND;TZID=America/Chicago:20251002T110000
DTSTAMP:20260419T065056
CREATED:20250902T210053Z
LAST-MODIFIED:20251001T220029Z
UID:10001905-1759399200-1759402800@yorkshireofedina.com
SUMMARY:Coffee Social
DESCRIPTION:
URL:https://yorkshireofedina.com/event-calendar/coffee-social-9/
LOCATION:TV Room
CATEGORIES:Memory Care
END:VEVENT
BEGIN:VEVENT
DTSTART;TZID=America/Chicago:20251002T100000
DTEND;TZID=America/Chicago:20251002T110000
DTSTAMP:20260419T065056
CREATED:20250902T210053Z
LAST-MODIFIED:20251001T220029Z
UID:10001906-1759399200-1759402800@yorkshireofedina.com
SUMMARY:Worship Service
DESCRIPTION:
URL:https://yorkshireofedina.com/event-calendar/worship-service-41/
LOCATION:TV Room
CATEGORIES:Memory Care
END:VEVENT
BEGIN:VEVENT
DTSTART;TZID=America/Chicago:20251002T104500
DTEND;TZID=America/Chicago:20251002T114500
DTSTAMP:20260419T065056
CREATED:20250902T210053Z
LAST-MODIFIED:20250902T210053Z
UID:10001907-1759401900-1759405500@yorkshireofedina.com
SUMMARY:Animal Therapy - Howie & Piper
DESCRIPTION:
URL:https://yorkshireofedina.com/event-calendar/animal-therapy-howie-piper-7/
LOCATION:TV/ Soda Shop
CATEGORIES:Memory Care
END:VEVENT
BEGIN:VEVENT
DTSTART;TZID=America/Chicago:20251002T110000
DTEND;TZID=America/Chicago:20251002T120000
DTSTAMP:20260419T065056
CREATED:20250902T210053Z
LAST-MODIFIED:20251001T220029Z
UID:10001908-1759402800-1759406400@yorkshireofedina.com
SUMMARY:Aging With Strength
DESCRIPTION:
URL:https://yorkshireofedina.com/event-calendar/exercise-150/
LOCATION:TV Room
CATEGORIES:Memory Care
END:VEVENT
BEGIN:VEVENT
DTSTART;TZID=America/Chicago:20251002T113000
DTEND;TZID=America/Chicago:20251002T123000
DTSTAMP:20260419T065056
CREATED:20250902T210053Z
LAST-MODIFIED:20251001T220029Z
UID:10001909-1759404600-1759408200@yorkshireofedina.com
SUMMARY:Oshibori
DESCRIPTION:
URL:https://yorkshireofedina.com/event-calendar/lunch-on-the-patio-4/
LOCATION:Dining Room
CATEGORIES:Memory Care
END:VEVENT
BEGIN:VEVENT
DTSTART;TZID=America/Chicago:20251002T140000
DTEND;TZID=America/Chicago:20251002T150000
DTSTAMP:20260419T065056
CREATED:20250902T210053Z
LAST-MODIFIED:20250925T220027Z
UID:10001911-1759413600-1759417200@yorkshireofedina.com
SUMMARY:Sing Along\, Dance and Ice Cream Social
DESCRIPTION:
URL:https://yorkshireofedina.com/event-calendar/sing-along-dance-and-ice-cream-social-8/
LOCATION:TV Room
CATEGORIES:Memory Care
END:VEVENT
BEGIN:VEVENT
DTSTART;TZID=America/Chicago:20251002T140000
DTEND;TZID=America/Chicago:20251002T150000
DTSTAMP:20260419T065056
CREATED:20250902T210053Z
LAST-MODIFIED:20250926T004613Z
UID:10001910-1759413600-1759417200@yorkshireofedina.com
SUMMARY:Live Virtual Programming
DESCRIPTION:
URL:https://yorkshireofedina.com/event-calendar/live-virtual-programming-5/
LOCATION:Community Room
CATEGORIES:Assisted Living,Independent Living,Memory Care
END:VEVENT
BEGIN:VEVENT
DTSTART;TZID=America/Chicago:20251002T140000
DTEND;TZID=America/Chicago:20251002T150000
DTSTAMP:20260419T065056
CREATED:20250904T210035Z
LAST-MODIFIED:20251002T004528Z
UID:10001936-1759413600-1759417200@yorkshireofedina.com
SUMMARY:Andy M. Memorial Service
DESCRIPTION:
URL:https://yorkshireofedina.com/event-calendar/andy-m-memorial-service-tbd/
LOCATION:Dining Room
CATEGORIES:Assisted Living,Independent Living,Memory Care
END:VEVENT
BEGIN:VEVENT
DTSTART;TZID=America/Chicago:20251002T150000
DTEND;TZID=America/Chicago:20251002T160000
DTSTAMP:20260419T065056
CREATED:20250902T210054Z
LAST-MODIFIED:20250925T220027Z
UID:10001912-1759417200-1759420800@yorkshireofedina.com
SUMMARY:Trivia
DESCRIPTION:
URL:https://yorkshireofedina.com/event-calendar/trivia-29/
LOCATION:Garden Room
CATEGORIES:Memory Care
END:VEVENT
BEGIN:VEVENT
DTSTART;TZID=America/Chicago:20251002T163000
DTEND;TZID=America/Chicago:20251002T173000
DTSTAMP:20260419T065056
CREATED:20250903T210036Z
LAST-MODIFIED:20251002T220027Z
UID:10001919-1759422600-1759426200@yorkshireofedina.com
SUMMARY:Oshibori
DESCRIPTION:
URL:https://yorkshireofedina.com/event-calendar/oshibori-113/
LOCATION:Dining Room
CATEGORIES:Memory Care
END:VEVENT
BEGIN:VEVENT
DTSTART;TZID=America/Chicago:20251002T180000
DTEND;TZID=America/Chicago:20251002T190000
DTSTAMP:20260419T065056
CREATED:20250903T210037Z
LAST-MODIFIED:20251002T220027Z
UID:10001920-1759428000-1759431600@yorkshireofedina.com
SUMMARY:Sweep Six with Lisa
DESCRIPTION:
URL:https://yorkshireofedina.com/event-calendar/sweep-six-20/
LOCATION:TV Room
CATEGORIES:Memory Care
END:VEVENT
BEGIN:VEVENT
DTSTART;TZID=America/Chicago:20251002T184500
DTEND;TZID=America/Chicago:20251002T194500
DTSTAMP:20260419T065056
CREATED:20250903T210037Z
LAST-MODIFIED:20251002T220027Z
UID:10001921-1759430700-1759434300@yorkshireofedina.com
SUMMARY:Who Am I? with Lisa
DESCRIPTION:
URL:https://yorkshireofedina.com/event-calendar/who-am-i-20/
LOCATION:TV Room
CATEGORIES:Memory Care
END:VEVENT
BEGIN:VEVENT
DTSTART;TZID=America/Chicago:20251003T093000
DTEND;TZID=America/Chicago:20251003T103000
DTSTAMP:20260419T065056
CREATED:20250903T210037Z
LAST-MODIFIED:20251002T220027Z
UID:10001922-1759483800-1759487400@yorkshireofedina.com
SUMMARY:Music Relaxation
DESCRIPTION:
URL:https://yorkshireofedina.com/event-calendar/music-relaxation-42/
LOCATION:Near Nurse Station
CATEGORIES:Memory Care
END:VEVENT
BEGIN:VEVENT
DTSTART;TZID=America/Chicago:20251003T100000
DTEND;TZID=America/Chicago:20251003T110000
DTSTAMP:20260419T065056
CREATED:20250903T210037Z
LAST-MODIFIED:20251002T220027Z
UID:10001923-1759485600-1759489200@yorkshireofedina.com
SUMMARY:Coffee Social
DESCRIPTION:
URL:https://yorkshireofedina.com/event-calendar/coffee-social-10/
LOCATION:TV Room
CATEGORIES:Memory Care
END:VEVENT
BEGIN:VEVENT
DTSTART;TZID=America/Chicago:20251003T103000
DTEND;TZID=America/Chicago:20251003T113000
DTSTAMP:20260419T065056
CREATED:20250903T210037Z
LAST-MODIFIED:20251002T220027Z
UID:10001924-1759487400-1759491000@yorkshireofedina.com
SUMMARY:Devotion / Spiritual Sing Along
DESCRIPTION:
URL:https://yorkshireofedina.com/event-calendar/devotion-spiritual-sing-along-20/
LOCATION:TV Room
CATEGORIES:Memory Care
END:VEVENT
BEGIN:VEVENT
DTSTART;TZID=America/Chicago:20251003T110000
DTEND;TZID=America/Chicago:20251003T120000
DTSTAMP:20260419T065056
CREATED:20250903T210037Z
LAST-MODIFIED:20251002T220027Z
UID:10001925-1759489200-1759492800@yorkshireofedina.com
SUMMARY:Aging With Strength
DESCRIPTION:
URL:https://yorkshireofedina.com/event-calendar/exercise-151/
LOCATION:TV Room
CATEGORIES:Memory Care
END:VEVENT
BEGIN:VEVENT
DTSTART;TZID=America/Chicago:20251003T113000
DTEND;TZID=America/Chicago:20251003T123000
DTSTAMP:20260419T065056
CREATED:20250903T210037Z
LAST-MODIFIED:20251002T220027Z
UID:10001926-1759491000-1759494600@yorkshireofedina.com
SUMMARY:Oshibori
DESCRIPTION:
URL:https://yorkshireofedina.com/event-calendar/oshibori-114/
LOCATION:Dining Room
CATEGORIES:Memory Care
END:VEVENT
BEGIN:VEVENT
DTSTART;TZID=America/Chicago:20251003T134500
DTEND;TZID=America/Chicago:20251003T144500
DTSTAMP:20260419T065056
CREATED:20250903T210037Z
LAST-MODIFIED:20251002T220027Z
UID:10001927-1759499100-1759502700@yorkshireofedina.com
SUMMARY:Live Music/ Happy Hour
DESCRIPTION:
URL:https://yorkshireofedina.com/event-calendar/live-music-happy-hour-18/
LOCATION:TV Room
CATEGORIES:Memory Care
END:VEVENT
END:VCALENDAR