BEGIN:VCALENDAR
VERSION:2.0
PRODID:-//Yorkshire of Edina - ECPv6.11.2.1//NONSGML v1.0//EN
CALSCALE:GREGORIAN
METHOD:PUBLISH
X-WR-CALNAME:Yorkshire of Edina
X-ORIGINAL-URL:https://yorkshireofedina.com
X-WR-CALDESC:Events for Yorkshire of Edina
REFRESH-INTERVAL;VALUE=DURATION:PT1H
X-Robots-Tag:noindex
X-PUBLISHED-TTL:PT1H
BEGIN:VTIMEZONE
TZID:America/Chicago
BEGIN:DAYLIGHT
TZOFFSETFROM:-0600
TZOFFSETTO:-0500
TZNAME:CDT
DTSTART:20250309T080000
END:DAYLIGHT
BEGIN:STANDARD
TZOFFSETFROM:-0500
TZOFFSETTO:-0600
TZNAME:CST
DTSTART:20251102T070000
END:STANDARD
END:VTIMEZONE
BEGIN:VEVENT
DTSTART;TZID=America/Chicago:20250604T093000
DTEND;TZID=America/Chicago:20250604T103000
DTSTAMP:20260419T120416
CREATED:20250516T195808Z
LAST-MODIFIED:20250603T221601Z
UID:10000294-1749029400-1749033000@yorkshireofedina.com
SUMMARY:Scenic Relaxation
DESCRIPTION:
URL:https://yorkshireofedina.com/event-calendar/scenic-relaxation-13/
LOCATION:TV/ Soda Shop
CATEGORIES:Memory Care
END:VEVENT
BEGIN:VEVENT
DTSTART;TZID=America/Chicago:20250604T100000
DTEND;TZID=America/Chicago:20250604T110000
DTSTAMP:20260419T120417
CREATED:20250516T195808Z
LAST-MODIFIED:20250603T221601Z
UID:10000295-1749031200-1749034800@yorkshireofedina.com
SUMMARY:Coffee Club
DESCRIPTION:
URL:https://yorkshireofedina.com/event-calendar/coffee-club-13/
LOCATION:TV/ Soda Shop
CATEGORIES:Memory Care
END:VEVENT
BEGIN:VEVENT
DTSTART;TZID=America/Chicago:20250604T101500
DTEND;TZID=America/Chicago:20250604T111500
DTSTAMP:20260419T120417
CREATED:20250529T220224Z
LAST-MODIFIED:20250603T221601Z
UID:10000548-1749032100-1749035700@yorkshireofedina.com
SUMMARY:Blessed Trinity 1st Grade Concert (3 songs)
DESCRIPTION:
URL:https://yorkshireofedina.com/event-calendar/blessed-trinity-1st-grade-concert-3-songs-2/
LOCATION:TV/ Soda Shop
CATEGORIES:Memory Care
END:VEVENT
BEGIN:VEVENT
DTSTART;TZID=America/Chicago:20250604T110000
DTEND;TZID=America/Chicago:20250604T120000
DTSTAMP:20260419T120417
CREATED:20250516T195808Z
LAST-MODIFIED:20250603T221601Z
UID:10000296-1749034800-1749038400@yorkshireofedina.com
SUMMARY:Exercise
DESCRIPTION:
URL:https://yorkshireofedina.com/event-calendar/exercise-22/
LOCATION:TV/ Soda Shop
CATEGORIES:Memory Care
END:VEVENT
BEGIN:VEVENT
DTSTART;TZID=America/Chicago:20250604T140000
DTEND;TZID=America/Chicago:20250604T150000
DTSTAMP:20260419T120417
CREATED:20250516T195722Z
LAST-MODIFIED:20250604T193043Z
UID:10000107-1749045600-1749049200@yorkshireofedina.com
SUMMARY:Holy Communion Service by Mount Olivet Lutheran Church
DESCRIPTION:
URL:https://yorkshireofedina.com/event-calendar/holy-communion-service-by-mount-olivet-lutheran-church/
LOCATION:Community Room
CATEGORIES:Assisted Living,Independent Living,Memory Care
END:VEVENT
BEGIN:VEVENT
DTSTART;TZID=America/Chicago:20250604T150000
DTEND;TZID=America/Chicago:20250604T160000
DTSTAMP:20260419T120417
CREATED:20250516T195808Z
LAST-MODIFIED:20250603T221601Z
UID:10000297-1749049200-1749052800@yorkshireofedina.com
SUMMARY:Classroom Experience
DESCRIPTION:
URL:https://yorkshireofedina.com/event-calendar/classroom-experience-2/
LOCATION:Garden Room
CATEGORIES:Memory Care
END:VEVENT
BEGIN:VEVENT
DTSTART;TZID=America/Chicago:20250604T153000
DTEND;TZID=America/Chicago:20250604T163000
DTSTAMP:20260419T120417
CREATED:20250516T195808Z
LAST-MODIFIED:20250603T221601Z
UID:10000298-1749051000-1749054600@yorkshireofedina.com
SUMMARY:Manicure/ Hand Massages
DESCRIPTION:
URL:https://yorkshireofedina.com/event-calendar/manicure-hand-massages-6/
LOCATION:Garden Room
CATEGORIES:Memory Care
END:VEVENT
BEGIN:VEVENT
DTSTART;TZID=America/Chicago:20250604T180000
DTEND;TZID=America/Chicago:20250604T190000
DTSTAMP:20260419T120417
CREATED:20250516T195808Z
LAST-MODIFIED:20250604T221634Z
UID:10000299-1749060000-1749063600@yorkshireofedina.com
SUMMARY:Yoga with Lisa
DESCRIPTION:
URL:https://yorkshireofedina.com/event-calendar/yoga-with-lisa-8/
LOCATION:TV/ Soda Shop
CATEGORIES:Memory Care
END:VEVENT
BEGIN:VEVENT
DTSTART;TZID=America/Chicago:20250604T184500
DTEND;TZID=America/Chicago:20250604T190000
DTSTAMP:20260419T120417
CREATED:20250516T195808Z
LAST-MODIFIED:20250604T221634Z
UID:10000300-1749062700-1749063600@yorkshireofedina.com
SUMMARY:Armchair Travel
DESCRIPTION:
URL:https://yorkshireofedina.com/event-calendar/armchair-travel-9/
LOCATION:TV/ Soda Shop
CATEGORIES:Memory Care
END:VEVENT
END:VCALENDAR