BEGIN:VCALENDAR
VERSION:2.0
PRODID:-//Yorkshire of Edina - ECPv6.11.2.1//NONSGML v1.0//EN
CALSCALE:GREGORIAN
METHOD:PUBLISH
X-WR-CALNAME:Yorkshire of Edina
X-ORIGINAL-URL:https://yorkshireofedina.com
X-WR-CALDESC:Events for Yorkshire of Edina
REFRESH-INTERVAL;VALUE=DURATION:PT1H
X-Robots-Tag:noindex
X-PUBLISHED-TTL:PT1H
BEGIN:VTIMEZONE
TZID:America/Chicago
BEGIN:DAYLIGHT
TZOFFSETFROM:-0600
TZOFFSETTO:-0500
TZNAME:CDT
DTSTART:20250309T080000
END:DAYLIGHT
BEGIN:STANDARD
TZOFFSETFROM:-0500
TZOFFSETTO:-0600
TZNAME:CST
DTSTART:20251102T070000
END:STANDARD
END:VTIMEZONE
BEGIN:VEVENT
DTSTART;TZID=America/Chicago:20250609T093000
DTEND;TZID=America/Chicago:20250609T103000
DTSTAMP:20260419T120523
CREATED:20250516T195809Z
LAST-MODIFIED:20250608T221541Z
UID:10000323-1749461400-1749465000@yorkshireofedina.com
SUMMARY:Scenic Relaxation
DESCRIPTION:
URL:https://yorkshireofedina.com/event-calendar/scenic-relaxation-16/
LOCATION:TV/ Soda Shop
CATEGORIES:Memory Care
END:VEVENT
BEGIN:VEVENT
DTSTART;TZID=America/Chicago:20250609T100000
DTEND;TZID=America/Chicago:20250609T110000
DTSTAMP:20260419T120523
CREATED:20250516T195809Z
LAST-MODIFIED:20250608T221541Z
UID:10000324-1749463200-1749466800@yorkshireofedina.com
SUMMARY:Coffee Club
DESCRIPTION:
URL:https://yorkshireofedina.com/event-calendar/coffee-club-16/
LOCATION:TV/ Soda Shop
CATEGORIES:Memory Care
END:VEVENT
BEGIN:VEVENT
DTSTART;TZID=America/Chicago:20250609T110000
DTEND;TZID=America/Chicago:20250609T120000
DTSTAMP:20260419T120523
CREATED:20250516T195809Z
LAST-MODIFIED:20250608T221541Z
UID:10000325-1749466800-1749470400@yorkshireofedina.com
SUMMARY:Exercise
DESCRIPTION:
URL:https://yorkshireofedina.com/event-calendar/exercise-27/
LOCATION:TV/ Soda Shop
CATEGORIES:Memory Care
END:VEVENT
BEGIN:VEVENT
DTSTART;TZID=America/Chicago:20250609T140000
DTEND;TZID=America/Chicago:20250609T153000
DTSTAMP:20260419T120523
CREATED:20250516T195809Z
LAST-MODIFIED:20250608T221541Z
UID:10000326-1749477600-1749483000@yorkshireofedina.com
SUMMARY:Bingo
DESCRIPTION:
URL:https://yorkshireofedina.com/event-calendar/puzzles-4/
LOCATION:Garden Room
CATEGORIES:Memory Care
END:VEVENT
BEGIN:VEVENT
DTSTART;TZID=America/Chicago:20250609T153000
DTEND;TZID=America/Chicago:20250609T163000
DTSTAMP:20260419T120523
CREATED:20250516T195809Z
LAST-MODIFIED:20250608T221541Z
UID:10000327-1749483000-1749486600@yorkshireofedina.com
SUMMARY:Manicure/ Hand Massages
DESCRIPTION:
URL:https://yorkshireofedina.com/event-calendar/manicure-hand-massages-7/
LOCATION:Garden Room
CATEGORIES:Memory Care
END:VEVENT
BEGIN:VEVENT
DTSTART;TZID=America/Chicago:20250609T180000
DTEND;TZID=America/Chicago:20250609T190000
DTSTAMP:20260419T120523
CREATED:20250516T195809Z
LAST-MODIFIED:20250609T221610Z
UID:10000328-1749492000-1749495600@yorkshireofedina.com
SUMMARY:Remember When with Suzie
DESCRIPTION:
URL:https://yorkshireofedina.com/event-calendar/trivia-with-suzie-4/
LOCATION:TV/ Soda Shop
CATEGORIES:Memory Care
END:VEVENT
BEGIN:VEVENT
DTSTART;TZID=America/Chicago:20250609T184500
DTEND;TZID=America/Chicago:20250609T193000
DTSTAMP:20260419T120523
CREATED:20250516T195810Z
LAST-MODIFIED:20250609T221610Z
UID:10000329-1749494700-1749497400@yorkshireofedina.com
SUMMARY:Ring Toss with Suzie
DESCRIPTION:
URL:https://yorkshireofedina.com/event-calendar/bowling-with-suzie-4/
LOCATION:TV/ Soda Shop
CATEGORIES:Memory Care
END:VEVENT
END:VCALENDAR