BEGIN:VCALENDAR
VERSION:2.0
PRODID:-//Yorkshire of Edina - ECPv6.11.2.1//NONSGML v1.0//EN
CALSCALE:GREGORIAN
METHOD:PUBLISH
X-ORIGINAL-URL:https://yorkshireofedina.com
X-WR-CALDESC:Events for Yorkshire of Edina
REFRESH-INTERVAL;VALUE=DURATION:PT1H
X-Robots-Tag:noindex
X-PUBLISHED-TTL:PT1H
BEGIN:VTIMEZONE
TZID:America/Chicago
BEGIN:DAYLIGHT
TZOFFSETFROM:-0600
TZOFFSETTO:-0500
TZNAME:CDT
DTSTART:20250309T080000
END:DAYLIGHT
BEGIN:STANDARD
TZOFFSETFROM:-0500
TZOFFSETTO:-0600
TZNAME:CST
DTSTART:20251102T070000
END:STANDARD
END:VTIMEZONE
BEGIN:VEVENT
DTSTART;TZID=America/Chicago:20250611T093000
DTEND;TZID=America/Chicago:20250611T103000
DTSTAMP:20260419T120821
CREATED:20250516T195810Z
LAST-MODIFIED:20250610T221640Z
UID:10000339-1749634200-1749637800@yorkshireofedina.com
SUMMARY:Scenic Relaxation
DESCRIPTION:
URL:https://yorkshireofedina.com/event-calendar/scenic-relaxation-18/
LOCATION:TV/ Soda Shop
CATEGORIES:Memory Care
END:VEVENT
BEGIN:VEVENT
DTSTART;TZID=America/Chicago:20250611T100000
DTEND;TZID=America/Chicago:20250611T110000
DTSTAMP:20260419T120821
CREATED:20250516T195810Z
LAST-MODIFIED:20250610T221640Z
UID:10000340-1749636000-1749639600@yorkshireofedina.com
SUMMARY:Coffee Club
DESCRIPTION:
URL:https://yorkshireofedina.com/event-calendar/coffee-club-18/
LOCATION:TV/ Soda Shop
CATEGORIES:Memory Care
END:VEVENT
BEGIN:VEVENT
DTSTART;TZID=America/Chicago:20250611T100000
DTEND;TZID=America/Chicago:20250611T110000
DTSTAMP:20260419T120821
CREATED:20250606T221618Z
LAST-MODIFIED:20250610T221640Z
UID:10000647-1749636000-1749639600@yorkshireofedina.com
SUMMARY:Daycare Group Activity
DESCRIPTION:
URL:https://yorkshireofedina.com/event-calendar/daycare-group-activity/
LOCATION:TV/ Soda Shop
CATEGORIES:Memory Care
END:VEVENT
BEGIN:VEVENT
DTSTART;TZID=America/Chicago:20250611T110000
DTEND;TZID=America/Chicago:20250611T120000
DTSTAMP:20260419T120821
CREATED:20250516T195810Z
LAST-MODIFIED:20250610T221640Z
UID:10000341-1749639600-1749643200@yorkshireofedina.com
SUMMARY:Exercise
DESCRIPTION:
URL:https://yorkshireofedina.com/event-calendar/exercise-29/
LOCATION:TV/ Soda Shop
CATEGORIES:Memory Care
END:VEVENT
BEGIN:VEVENT
DTSTART;TZID=America/Chicago:20250611T140000
DTEND;TZID=America/Chicago:20250611T150000
DTSTAMP:20260419T120821
CREATED:20250516T195810Z
LAST-MODIFIED:20250605T221524Z
UID:10000342-1749650400-1749654000@yorkshireofedina.com
SUMMARY:Classroom Experience
DESCRIPTION:
URL:https://yorkshireofedina.com/event-calendar/classroom-experience-3/
LOCATION:Garden Room
CATEGORIES:Memory Care
END:VEVENT
BEGIN:VEVENT
DTSTART;TZID=America/Chicago:20250611T143000
DTEND;TZID=America/Chicago:20250611T153000
DTSTAMP:20260419T120821
CREATED:20250520T204614Z
LAST-MODIFIED:20250611T193128Z
UID:10000420-1749652200-1749655800@yorkshireofedina.com
SUMMARY:Water Balloon & Gun Fight
DESCRIPTION:
URL:https://yorkshireofedina.com/event-calendar/water-balloon-gun-fight/
LOCATION:Patio
CATEGORIES:Assisted Living,Independent Living,Memory Care
END:VEVENT
BEGIN:VEVENT
DTSTART;TZID=America/Chicago:20250611T153000
DTEND;TZID=America/Chicago:20250611T163000
DTSTAMP:20260419T120821
CREATED:20250516T195810Z
LAST-MODIFIED:20250610T221640Z
UID:10000343-1749655800-1749659400@yorkshireofedina.com
SUMMARY:Manicure/ Hand Massages
DESCRIPTION:
URL:https://yorkshireofedina.com/event-calendar/manicure-hand-massages-8/
LOCATION:Garden Room
CATEGORIES:Memory Care
END:VEVENT
BEGIN:VEVENT
DTSTART;TZID=America/Chicago:20250611T180000
DTEND;TZID=America/Chicago:20250611T190000
DTSTAMP:20260419T120821
CREATED:20250516T195724Z
LAST-MODIFIED:20250611T221631Z
UID:10000148-1749664800-1749668400@yorkshireofedina.com
SUMMARY:Dementia Friends Presentation
DESCRIPTION:
URL:https://yorkshireofedina.com/event-calendar/dementia-friends-presentation/
LOCATION:Community Room
CATEGORIES:Assisted Living,Independent Living,Memory Care
END:VEVENT
BEGIN:VEVENT
DTSTART;TZID=America/Chicago:20250611T180000
DTEND;TZID=America/Chicago:20250611T190000
DTSTAMP:20260419T120821
CREATED:20250516T195810Z
LAST-MODIFIED:20250611T221631Z
UID:10000345-1749664800-1749668400@yorkshireofedina.com
SUMMARY:Yoga with Lisa
DESCRIPTION:
URL:https://yorkshireofedina.com/event-calendar/yoga-with-lisa-10/
LOCATION:TV/ Soda Shop
CATEGORIES:Memory Care
END:VEVENT
BEGIN:VEVENT
DTSTART;TZID=America/Chicago:20250611T184500
DTEND;TZID=America/Chicago:20250611T190000
DTSTAMP:20260419T120821
CREATED:20250516T195810Z
LAST-MODIFIED:20250611T221631Z
UID:10000344-1749667500-1749668400@yorkshireofedina.com
SUMMARY:Armchair Travel
DESCRIPTION:
URL:https://yorkshireofedina.com/event-calendar/armchair-travel-11/
LOCATION:TV/ Soda Shop
CATEGORIES:Memory Care
END:VEVENT
END:VCALENDAR