BEGIN:VCALENDAR
VERSION:2.0
PRODID:-//Yorkshire of Edina - ECPv6.11.2.1//NONSGML v1.0//EN
CALSCALE:GREGORIAN
METHOD:PUBLISH
X-WR-CALNAME:Yorkshire of Edina
X-ORIGINAL-URL:https://yorkshireofedina.com
X-WR-CALDESC:Events for Yorkshire of Edina
REFRESH-INTERVAL;VALUE=DURATION:PT1H
X-Robots-Tag:noindex
X-PUBLISHED-TTL:PT1H
BEGIN:VTIMEZONE
TZID:America/Chicago
BEGIN:DAYLIGHT
TZOFFSETFROM:-0600
TZOFFSETTO:-0500
TZNAME:CDT
DTSTART:20250309T080000
END:DAYLIGHT
BEGIN:STANDARD
TZOFFSETFROM:-0500
TZOFFSETTO:-0600
TZNAME:CST
DTSTART:20251102T070000
END:STANDARD
END:VTIMEZONE
BEGIN:VEVENT
DTSTART;TZID=America/Chicago:20250615T093000
DTEND;TZID=America/Chicago:20250615T103000
DTSTAMP:20260419T115622
CREATED:20250516T195811Z
LAST-MODIFIED:20250614T223048Z
UID:10000365-1749979800-1749983400@yorkshireofedina.com
SUMMARY:Church Service on TV
DESCRIPTION:
URL:https://yorkshireofedina.com/event-calendar/church-service-on-tv-6/
LOCATION:TV/ Soda Shop
CATEGORIES:Memory Care
END:VEVENT
BEGIN:VEVENT
DTSTART;TZID=America/Chicago:20250615T103000
DTEND;TZID=America/Chicago:20250615T113000
DTSTAMP:20260419T115622
CREATED:20250516T195811Z
LAST-MODIFIED:20250614T223048Z
UID:10000366-1749983400-1749987000@yorkshireofedina.com
SUMMARY:Exercise
DESCRIPTION:
URL:https://yorkshireofedina.com/event-calendar/exercise-33/
LOCATION:TV/ Soda Shop
CATEGORIES:Memory Care
END:VEVENT
BEGIN:VEVENT
DTSTART;TZID=America/Chicago:20250615T103000
DTEND;TZID=America/Chicago:20250615T113000
DTSTAMP:20260419T115622
CREATED:20250516T195811Z
LAST-MODIFIED:20250614T223048Z
UID:10000367-1749983400-1749987000@yorkshireofedina.com
SUMMARY:Sing-A-Long
DESCRIPTION:
URL:https://yorkshireofedina.com/event-calendar/sing-a-long-2/
LOCATION:TV Room
CATEGORIES:Memory Care
END:VEVENT
BEGIN:VEVENT
DTSTART;TZID=America/Chicago:20250615T143000
DTEND;TZID=America/Chicago:20250615T153000
DTSTAMP:20260419T115622
CREATED:20250516T195811Z
LAST-MODIFIED:20250614T223048Z
UID:10000368-1749997800-1750001400@yorkshireofedina.com
SUMMARY:Coloring With Lisa
DESCRIPTION:
URL:https://yorkshireofedina.com/event-calendar/coloring-with-lisa-4/
LOCATION:Garden Room
CATEGORIES:Memory Care
END:VEVENT
BEGIN:VEVENT
DTSTART;TZID=America/Chicago:20250615T153000
DTEND;TZID=America/Chicago:20250615T163000
DTSTAMP:20260419T115622
CREATED:20250517T201940Z
LAST-MODIFIED:20250614T223048Z
UID:10000372-1750001400-1750005000@yorkshireofedina.com
SUMMARY:Activity with Lisa
DESCRIPTION:
URL:https://yorkshireofedina.com/event-calendar/activity-with-lisa-4/
LOCATION:Garden Room
CATEGORIES:Memory Care
END:VEVENT
END:VCALENDAR