BEGIN:VCALENDAR
VERSION:2.0
PRODID:-//Yorkshire of Edina - ECPv6.11.2.1//NONSGML v1.0//EN
CALSCALE:GREGORIAN
METHOD:PUBLISH
X-ORIGINAL-URL:https://yorkshireofedina.com
X-WR-CALDESC:Events for Yorkshire of Edina
REFRESH-INTERVAL;VALUE=DURATION:PT1H
X-Robots-Tag:noindex
X-PUBLISHED-TTL:PT1H
BEGIN:VTIMEZONE
TZID:America/Chicago
BEGIN:DAYLIGHT
TZOFFSETFROM:-0600
TZOFFSETTO:-0500
TZNAME:CDT
DTSTART:20250309T080000
END:DAYLIGHT
BEGIN:STANDARD
TZOFFSETFROM:-0500
TZOFFSETTO:-0600
TZNAME:CST
DTSTART:20251102T070000
END:STANDARD
END:VTIMEZONE
BEGIN:VEVENT
DTSTART;TZID=America/Chicago:20250616T093000
DTEND;TZID=America/Chicago:20250616T103000
DTSTAMP:20260419T120708
CREATED:20250517T201940Z
LAST-MODIFIED:20250615T223056Z
UID:10000373-1750066200-1750069800@yorkshireofedina.com
SUMMARY:Scenic Relaxation
DESCRIPTION:
URL:https://yorkshireofedina.com/event-calendar/scenic-relaxation-21/
LOCATION:TV/ Soda Shop
CATEGORIES:Memory Care
END:VEVENT
BEGIN:VEVENT
DTSTART;TZID=America/Chicago:20250616T100000
DTEND;TZID=America/Chicago:20250616T110000
DTSTAMP:20260419T120708
CREATED:20250517T201940Z
LAST-MODIFIED:20250615T223056Z
UID:10000374-1750068000-1750071600@yorkshireofedina.com
SUMMARY:Coffee Club
DESCRIPTION:
URL:https://yorkshireofedina.com/event-calendar/coffee-club-21/
LOCATION:TV/ Soda Shop
CATEGORIES:Memory Care
END:VEVENT
BEGIN:VEVENT
DTSTART;TZID=America/Chicago:20250616T110000
DTEND;TZID=America/Chicago:20250616T120000
DTSTAMP:20260419T120708
CREATED:20250517T201940Z
LAST-MODIFIED:20250615T223056Z
UID:10000375-1750071600-1750075200@yorkshireofedina.com
SUMMARY:Exercise
DESCRIPTION:
URL:https://yorkshireofedina.com/event-calendar/exercise-34/
LOCATION:TV/ Soda Shop
CATEGORIES:Memory Care
END:VEVENT
BEGIN:VEVENT
DTSTART;TZID=America/Chicago:20250616T140000
DTEND;TZID=America/Chicago:20250616T153000
DTSTAMP:20260419T120708
CREATED:20250517T201940Z
LAST-MODIFIED:20250615T223056Z
UID:10000376-1750082400-1750087800@yorkshireofedina.com
SUMMARY:Bingo
DESCRIPTION:
URL:https://yorkshireofedina.com/event-calendar/puzzles-5/
LOCATION:Garden Room
CATEGORIES:Memory Care
END:VEVENT
BEGIN:VEVENT
DTSTART;TZID=America/Chicago:20250616T153000
DTEND;TZID=America/Chicago:20250616T163000
DTSTAMP:20260419T120708
CREATED:20250518T203032Z
LAST-MODIFIED:20250615T223056Z
UID:10000385-1750087800-1750091400@yorkshireofedina.com
SUMMARY:Manicure/ Hand Massages
DESCRIPTION:
URL:https://yorkshireofedina.com/event-calendar/manicure-hand-massages-9/
LOCATION:Garden Room
CATEGORIES:Memory Care
END:VEVENT
BEGIN:VEVENT
DTSTART;TZID=America/Chicago:20250616T180000
DTEND;TZID=America/Chicago:20250616T190000
DTSTAMP:20260419T120708
CREATED:20250518T203032Z
LAST-MODIFIED:20250615T223057Z
UID:10000386-1750096800-1750100400@yorkshireofedina.com
SUMMARY:Trivia with Suzie
DESCRIPTION:
URL:https://yorkshireofedina.com/event-calendar/trivia-with-suzie-5/
LOCATION:TV/ Soda Shop
CATEGORIES:Memory Care
END:VEVENT
BEGIN:VEVENT
DTSTART;TZID=America/Chicago:20250616T184500
DTEND;TZID=America/Chicago:20250616T193000
DTSTAMP:20260419T120708
CREATED:20250518T203032Z
LAST-MODIFIED:20250615T223057Z
UID:10000387-1750099500-1750102200@yorkshireofedina.com
SUMMARY:Bowling with Suzie
DESCRIPTION:
URL:https://yorkshireofedina.com/event-calendar/bowling-with-suzie-5/
LOCATION:TV/ Soda Shop
CATEGORIES:Memory Care
END:VEVENT
END:VCALENDAR