BEGIN:VCALENDAR
VERSION:2.0
PRODID:-//Yorkshire of Edina - ECPv6.11.2.1//NONSGML v1.0//EN
CALSCALE:GREGORIAN
METHOD:PUBLISH
X-WR-CALNAME:Yorkshire of Edina
X-ORIGINAL-URL:https://yorkshireofedina.com
X-WR-CALDESC:Events for Yorkshire of Edina
REFRESH-INTERVAL;VALUE=DURATION:PT1H
X-Robots-Tag:noindex
X-PUBLISHED-TTL:PT1H
BEGIN:VTIMEZONE
TZID:America/Chicago
BEGIN:DAYLIGHT
TZOFFSETFROM:-0600
TZOFFSETTO:-0500
TZNAME:CDT
DTSTART:20250309T080000
END:DAYLIGHT
BEGIN:STANDARD
TZOFFSETFROM:-0500
TZOFFSETTO:-0600
TZNAME:CST
DTSTART:20251102T070000
END:STANDARD
END:VTIMEZONE
BEGIN:VEVENT
DTSTART;TZID=America/Chicago:20250621T104500
DTEND;TZID=America/Chicago:20250621T114500
DTSTAMP:20260419T115349
CREATED:20250522T210509Z
LAST-MODIFIED:20250620T183049Z
UID:10000458-1750502700-1750506300@yorkshireofedina.com
SUMMARY:Exercise
DESCRIPTION:
URL:https://yorkshireofedina.com/event-calendar/exercise-39/
LOCATION:TV/ Soda Shop
CATEGORIES:Memory Care
END:VEVENT
BEGIN:VEVENT
DTSTART;TZID=America/Chicago:20250621T143000
DTEND;TZID=America/Chicago:20250621T153000
DTSTAMP:20260419T115349
CREATED:20250522T210511Z
LAST-MODIFIED:20250621T183041Z
UID:10000459-1750516200-1750519800@yorkshireofedina.com
SUMMARY:Painting with Suzie
DESCRIPTION:
URL:https://yorkshireofedina.com/event-calendar/painting-with-suzie-3/
LOCATION:Garden Room
CATEGORIES:Memory Care
END:VEVENT
BEGIN:VEVENT
DTSTART;TZID=America/Chicago:20250621T153000
DTEND;TZID=America/Chicago:20250621T163000
DTSTAMP:20260419T115349
CREATED:20250522T210512Z
LAST-MODIFIED:20250621T183041Z
UID:10000460-1750519800-1750523400@yorkshireofedina.com
SUMMARY:Sweep six with Suzie
DESCRIPTION:
URL:https://yorkshireofedina.com/event-calendar/sweep-six-with-suzie-3/
LOCATION:Garden Room
CATEGORIES:Memory Care
END:VEVENT
END:VCALENDAR