BEGIN:VCALENDAR
VERSION:2.0
PRODID:-//Yorkshire of Edina - ECPv6.11.2.1//NONSGML v1.0//EN
CALSCALE:GREGORIAN
METHOD:PUBLISH
X-ORIGINAL-URL:https://yorkshireofedina.com
X-WR-CALDESC:Events for Yorkshire of Edina
REFRESH-INTERVAL;VALUE=DURATION:PT1H
X-Robots-Tag:noindex
X-PUBLISHED-TTL:PT1H
BEGIN:VTIMEZONE
TZID:America/Chicago
BEGIN:DAYLIGHT
TZOFFSETFROM:-0600
TZOFFSETTO:-0500
TZNAME:CDT
DTSTART:20250309T080000
END:DAYLIGHT
BEGIN:STANDARD
TZOFFSETFROM:-0500
TZOFFSETTO:-0600
TZNAME:CST
DTSTART:20251102T070000
END:STANDARD
END:VTIMEZONE
BEGIN:VEVENT
DTSTART;TZID=America/Chicago:20250626T093000
DTEND;TZID=America/Chicago:20250626T103000
DTSTAMP:20260419T120820
CREATED:20250527T220054Z
LAST-MODIFIED:20250625T183105Z
UID:10000519-1750930200-1750933800@yorkshireofedina.com
SUMMARY:Scenic Relaxation
DESCRIPTION:
URL:https://yorkshireofedina.com/event-calendar/scenic-relaxation-29/
LOCATION:TV/ Soda Shop
CATEGORIES:Memory Care
END:VEVENT
BEGIN:VEVENT
DTSTART;TZID=America/Chicago:20250626T100000
DTEND;TZID=America/Chicago:20250626T110000
DTSTAMP:20260419T120820
CREATED:20250527T220054Z
LAST-MODIFIED:20250625T183105Z
UID:10000520-1750932000-1750935600@yorkshireofedina.com
SUMMARY:Worship Service
DESCRIPTION:
URL:https://yorkshireofedina.com/event-calendar/worship-service-11/
LOCATION:TV/ Soda Shop
CATEGORIES:Memory Care
END:VEVENT
BEGIN:VEVENT
DTSTART;TZID=America/Chicago:20250626T100000
DTEND;TZID=America/Chicago:20250626T110000
DTSTAMP:20260419T120820
CREATED:20250527T220054Z
LAST-MODIFIED:20250625T183105Z
UID:10000521-1750932000-1750935600@yorkshireofedina.com
SUMMARY:Coffee Club
DESCRIPTION:
URL:https://yorkshireofedina.com/event-calendar/coffee-club-29/
LOCATION:TV/ Soda Shop
CATEGORIES:Memory Care
END:VEVENT
BEGIN:VEVENT
DTSTART;TZID=America/Chicago:20250626T104500
DTEND;TZID=America/Chicago:20250626T114500
DTSTAMP:20260419T120820
CREATED:20250527T220054Z
LAST-MODIFIED:20250625T183106Z
UID:10000522-1750934700-1750938300@yorkshireofedina.com
SUMMARY:Catholic Communion
DESCRIPTION:
URL:https://yorkshireofedina.com/event-calendar/catholic-communion-6/
LOCATION:TV/ Soda Shop
CATEGORIES:Memory Care
END:VEVENT
BEGIN:VEVENT
DTSTART;TZID=America/Chicago:20250626T110000
DTEND;TZID=America/Chicago:20250626T120000
DTSTAMP:20260419T120820
CREATED:20250527T220054Z
LAST-MODIFIED:20250625T183106Z
UID:10000523-1750935600-1750939200@yorkshireofedina.com
SUMMARY:Exercise
DESCRIPTION:
URL:https://yorkshireofedina.com/event-calendar/exercise-44/
LOCATION:TV/ Soda Shop
CATEGORIES:Memory Care
END:VEVENT
BEGIN:VEVENT
DTSTART;TZID=America/Chicago:20250626T140000
DTEND;TZID=America/Chicago:20250626T150000
DTSTAMP:20260419T120820
CREATED:20250527T220054Z
LAST-MODIFIED:20250626T183026Z
UID:10000524-1750946400-1750950000@yorkshireofedina.com
SUMMARY:Sing Along\, Dance And Ice Cream Socials
DESCRIPTION:
URL:https://yorkshireofedina.com/event-calendar/sing-along-dance-and-ice-cream-socials-5/
LOCATION:TV/ Soda Shop
CATEGORIES:Memory Care
END:VEVENT
BEGIN:VEVENT
DTSTART;TZID=America/Chicago:20250626T150000
DTEND;TZID=America/Chicago:20250626T160000
DTSTAMP:20260419T120820
CREATED:20250527T220054Z
LAST-MODIFIED:20250626T183026Z
UID:10000525-1750950000-1750953600@yorkshireofedina.com
SUMMARY:Trivia
DESCRIPTION:
URL:https://yorkshireofedina.com/event-calendar/trivia-8/
LOCATION:Garden Room
CATEGORIES:Memory Care
END:VEVENT
BEGIN:VEVENT
DTSTART;TZID=America/Chicago:20250626T180000
DTEND;TZID=America/Chicago:20250626T190000
DTSTAMP:20260419T120820
CREATED:20250528T220033Z
LAST-MODIFIED:20250626T183026Z
UID:10000532-1750960800-1750964400@yorkshireofedina.com
SUMMARY:Sweep Six
DESCRIPTION:
URL:https://yorkshireofedina.com/event-calendar/sweep-six-6/
LOCATION:TV/ Soda Shop
CATEGORIES:Memory Care
END:VEVENT
BEGIN:VEVENT
DTSTART;TZID=America/Chicago:20250626T184500
DTEND;TZID=America/Chicago:20250626T194500
DTSTAMP:20260419T120820
CREATED:20250528T220033Z
LAST-MODIFIED:20250626T183026Z
UID:10000533-1750963500-1750967100@yorkshireofedina.com
SUMMARY:Who Am I?
DESCRIPTION:
URL:https://yorkshireofedina.com/event-calendar/who-am-i-6/
LOCATION:TV/ Soda Shop
CATEGORIES:Memory Care
END:VEVENT
END:VCALENDAR