BEGIN:VCALENDAR
VERSION:2.0
PRODID:-//Yorkshire of Edina - ECPv6.11.2.1//NONSGML v1.0//EN
CALSCALE:GREGORIAN
METHOD:PUBLISH
X-ORIGINAL-URL:https://yorkshireofedina.com
X-WR-CALDESC:Events for Yorkshire of Edina
REFRESH-INTERVAL;VALUE=DURATION:PT1H
X-Robots-Tag:noindex
X-PUBLISHED-TTL:PT1H
BEGIN:VTIMEZONE
TZID:America/Chicago
BEGIN:DAYLIGHT
TZOFFSETFROM:-0600
TZOFFSETTO:-0500
TZNAME:CDT
DTSTART:20250309T080000
END:DAYLIGHT
BEGIN:STANDARD
TZOFFSETFROM:-0500
TZOFFSETTO:-0600
TZNAME:CST
DTSTART:20251102T070000
END:STANDARD
END:VTIMEZONE
BEGIN:VEVENT
DTSTART;TZID=America/Chicago:20250630T093000
DTEND;TZID=America/Chicago:20250630T103000
DTSTAMP:20260419T115700
CREATED:20250531T220043Z
LAST-MODIFIED:20250629T183130Z
UID:10000571-1751275800-1751279400@yorkshireofedina.com
SUMMARY:Scenic Relaxation
DESCRIPTION:
URL:https://yorkshireofedina.com/event-calendar/scenic-relaxation-31/
LOCATION:TV/ Soda Shop
CATEGORIES:Memory Care
END:VEVENT
BEGIN:VEVENT
DTSTART;TZID=America/Chicago:20250630T100000
DTEND;TZID=America/Chicago:20250630T110000
DTSTAMP:20260419T115700
CREATED:20250531T220043Z
LAST-MODIFIED:20250629T183130Z
UID:10000572-1751277600-1751281200@yorkshireofedina.com
SUMMARY:Coffee Club
DESCRIPTION:
URL:https://yorkshireofedina.com/event-calendar/coffee-club-31/
LOCATION:TV/ Soda Shop
CATEGORIES:Memory Care
END:VEVENT
BEGIN:VEVENT
DTSTART;TZID=America/Chicago:20250630T110000
DTEND;TZID=America/Chicago:20250630T120000
DTSTAMP:20260419T115700
CREATED:20250531T220043Z
LAST-MODIFIED:20250629T183130Z
UID:10000573-1751281200-1751284800@yorkshireofedina.com
SUMMARY:Exercise
DESCRIPTION:
URL:https://yorkshireofedina.com/event-calendar/exercise-49/
LOCATION:TV/ Soda Shop
CATEGORIES:Memory Care
END:VEVENT
BEGIN:VEVENT
DTSTART;TZID=America/Chicago:20250630T140000
DTEND;TZID=America/Chicago:20250630T153000
DTSTAMP:20260419T115700
CREATED:20250531T220043Z
LAST-MODIFIED:20250630T184529Z
UID:10000574-1751292000-1751297400@yorkshireofedina.com
SUMMARY:Puzzles
DESCRIPTION:
URL:https://yorkshireofedina.com/event-calendar/puzzles-7/
LOCATION:Garden Room
CATEGORIES:Memory Care
END:VEVENT
BEGIN:VEVENT
DTSTART;TZID=America/Chicago:20250630T153000
DTEND;TZID=America/Chicago:20250630T163000
DTSTAMP:20260419T115700
CREATED:20250531T220043Z
LAST-MODIFIED:20250630T184529Z
UID:10000575-1751297400-1751301000@yorkshireofedina.com
SUMMARY:Manicure/ Hand Massages
DESCRIPTION:
URL:https://yorkshireofedina.com/event-calendar/manicure-hand-massages-13/
LOCATION:Garden Room
CATEGORIES:Memory Care
END:VEVENT
BEGIN:VEVENT
DTSTART;TZID=America/Chicago:20250630T180000
DTEND;TZID=America/Chicago:20250630T190000
DTSTAMP:20260419T115700
CREATED:20250601T220409Z
LAST-MODIFIED:20250630T184529Z
UID:10000581-1751306400-1751310000@yorkshireofedina.com
SUMMARY:Trivia with Suzie
DESCRIPTION:
URL:https://yorkshireofedina.com/event-calendar/trivia-with-suzie-7/
LOCATION:TV/ Soda Shop
CATEGORIES:Memory Care
END:VEVENT
BEGIN:VEVENT
DTSTART;TZID=America/Chicago:20250630T184500
DTEND;TZID=America/Chicago:20250630T193000
DTSTAMP:20260419T115700
CREATED:20250601T220409Z
LAST-MODIFIED:20250630T184529Z
UID:10000582-1751309100-1751311800@yorkshireofedina.com
SUMMARY:Bowling with Suzie
DESCRIPTION:
URL:https://yorkshireofedina.com/event-calendar/bowling-with-suzie-7/
LOCATION:TV/ Soda Shop
CATEGORIES:Memory Care
END:VEVENT
END:VCALENDAR