BEGIN:VCALENDAR
VERSION:2.0
PRODID:-//Yorkshire of Edina - ECPv6.11.2.1//NONSGML v1.0//EN
CALSCALE:GREGORIAN
METHOD:PUBLISH
X-WR-CALNAME:Yorkshire of Edina
X-ORIGINAL-URL:https://yorkshireofedina.com
X-WR-CALDESC:Events for Yorkshire of Edina
REFRESH-INTERVAL;VALUE=DURATION:PT1H
X-Robots-Tag:noindex
X-PUBLISHED-TTL:PT1H
BEGIN:VTIMEZONE
TZID:America/Chicago
BEGIN:DAYLIGHT
TZOFFSETFROM:-0600
TZOFFSETTO:-0500
TZNAME:CDT
DTSTART:20250309T080000
END:DAYLIGHT
BEGIN:STANDARD
TZOFFSETFROM:-0500
TZOFFSETTO:-0600
TZNAME:CST
DTSTART:20251102T070000
END:STANDARD
END:VTIMEZONE
BEGIN:VEVENT
DTSTART;TZID=America/Chicago:20250701T093000
DTEND;TZID=America/Chicago:20250701T103000
DTSTAMP:20260419T115411
CREATED:20250601T220409Z
LAST-MODIFIED:20250630T184529Z
UID:10000583-1751362200-1751365800@yorkshireofedina.com
SUMMARY:Scenic Relaxation
DESCRIPTION:
URL:https://yorkshireofedina.com/event-calendar/scenic-relaxation-32/
LOCATION:TV/ Soda Shop
CATEGORIES:Memory Care
END:VEVENT
BEGIN:VEVENT
DTSTART;TZID=America/Chicago:20250701T100000
DTEND;TZID=America/Chicago:20250701T110000
DTSTAMP:20260419T115411
CREATED:20250601T220409Z
LAST-MODIFIED:20250630T184529Z
UID:10000584-1751364000-1751367600@yorkshireofedina.com
SUMMARY:Worship Service
DESCRIPTION:
URL:https://yorkshireofedina.com/event-calendar/worship-service-12/
LOCATION:TV/ Soda Shop
CATEGORIES:Memory Care
END:VEVENT
BEGIN:VEVENT
DTSTART;TZID=America/Chicago:20250701T100000
DTEND;TZID=America/Chicago:20250701T110000
DTSTAMP:20260419T115411
CREATED:20250601T220410Z
LAST-MODIFIED:20250630T184529Z
UID:10000585-1751364000-1751367600@yorkshireofedina.com
SUMMARY:Coffee Club
DESCRIPTION:
URL:https://yorkshireofedina.com/event-calendar/coffee-club-32/
LOCATION:TV/ Soda Shop
CATEGORIES:Memory Care
END:VEVENT
BEGIN:VEVENT
DTSTART;TZID=America/Chicago:20250701T110000
DTEND;TZID=America/Chicago:20250701T120000
DTSTAMP:20260419T115411
CREATED:20250601T220410Z
LAST-MODIFIED:20250630T184529Z
UID:10000586-1751367600-1751371200@yorkshireofedina.com
SUMMARY:Exercise
DESCRIPTION:
URL:https://yorkshireofedina.com/event-calendar/exercise-50/
LOCATION:TV/ Soda Shop
CATEGORIES:Memory Care
END:VEVENT
BEGIN:VEVENT
DTSTART;TZID=America/Chicago:20250701T130000
DTEND;TZID=America/Chicago:20250701T140000
DTSTAMP:20260419T115411
CREATED:20250601T220410Z
LAST-MODIFIED:20250612T223142Z
UID:10000587-1751374800-1751378400@yorkshireofedina.com
SUMMARY:Forklift Racing
DESCRIPTION:
URL:https://yorkshireofedina.com/event-calendar/forklift-racing-7/
LOCATION:Assisted Living
CATEGORIES:Memory Care
END:VEVENT
BEGIN:VEVENT
DTSTART;TZID=America/Chicago:20250701T140000
DTEND;TZID=America/Chicago:20250701T150000
DTSTAMP:20260419T115411
CREATED:20250601T220410Z
LAST-MODIFIED:20250701T184540Z
UID:10000588-1751378400-1751382000@yorkshireofedina.com
SUMMARY:Bingo
DESCRIPTION:
URL:https://yorkshireofedina.com/event-calendar/bingo-26/
LOCATION:Garden Room
CATEGORIES:Memory Care
END:VEVENT
BEGIN:VEVENT
DTSTART;TZID=America/Chicago:20250701T153000
DTEND;TZID=America/Chicago:20250701T163000
DTSTAMP:20260419T115411
CREATED:20250601T220410Z
LAST-MODIFIED:20250701T184540Z
UID:10000589-1751383800-1751387400@yorkshireofedina.com
SUMMARY:Cookie Baking/ Popcorn Social
DESCRIPTION:
URL:https://yorkshireofedina.com/event-calendar/cookie-baking-popcorn-social/
LOCATION:Garden Room
CATEGORIES:Memory Care
END:VEVENT
BEGIN:VEVENT
DTSTART;TZID=America/Chicago:20250701T180000
DTEND;TZID=America/Chicago:20250701T190000
DTSTAMP:20260419T115411
CREATED:20250602T221622Z
LAST-MODIFIED:20250701T184540Z
UID:10000594-1751392800-1751396400@yorkshireofedina.com
SUMMARY:Arts and Crafts with Suzie
DESCRIPTION:
URL:https://yorkshireofedina.com/event-calendar/arts-and-crafts-with-suzie-7/
CATEGORIES:Memory Care
END:VEVENT
BEGIN:VEVENT
DTSTART;TZID=America/Chicago:20250701T184500
DTEND;TZID=America/Chicago:20250701T194500
DTSTAMP:20260419T115411
CREATED:20250602T221622Z
LAST-MODIFIED:20250701T184540Z
UID:10000595-1751395500-1751399100@yorkshireofedina.com
SUMMARY:Puzzles with Suzie
DESCRIPTION:
URL:https://yorkshireofedina.com/event-calendar/puzzles-with-suzie-7/
CATEGORIES:Memory Care
END:VEVENT
END:VCALENDAR