BEGIN:VCALENDAR
VERSION:2.0
PRODID:-//Yorkshire of Edina - ECPv6.11.2.1//NONSGML v1.0//EN
CALSCALE:GREGORIAN
METHOD:PUBLISH
X-ORIGINAL-URL:https://yorkshireofedina.com
X-WR-CALDESC:Events for Yorkshire of Edina
REFRESH-INTERVAL;VALUE=DURATION:PT1H
X-Robots-Tag:noindex
X-PUBLISHED-TTL:PT1H
BEGIN:VTIMEZONE
TZID:America/Chicago
BEGIN:DAYLIGHT
TZOFFSETFROM:-0600
TZOFFSETTO:-0500
TZNAME:CDT
DTSTART:20250309T080000
END:DAYLIGHT
BEGIN:STANDARD
TZOFFSETFROM:-0500
TZOFFSETTO:-0600
TZNAME:CST
DTSTART:20251102T070000
END:STANDARD
END:VTIMEZONE
BEGIN:VEVENT
DTSTART;TZID=America/Chicago:20250703T093000
DTEND;TZID=America/Chicago:20250703T103000
DTSTAMP:20260419T115852
CREATED:20250603T221609Z
LAST-MODIFIED:20250702T184534Z
UID:10000610-1751535000-1751538600@yorkshireofedina.com
SUMMARY:Scenic Relaxation
DESCRIPTION:
URL:https://yorkshireofedina.com/event-calendar/scenic-relaxation-34/
LOCATION:TV/ Soda Shop
CATEGORIES:Memory Care
END:VEVENT
BEGIN:VEVENT
DTSTART;TZID=America/Chicago:20250703T100000
DTEND;TZID=America/Chicago:20250703T110000
DTSTAMP:20260419T115852
CREATED:20250603T221609Z
LAST-MODIFIED:20250702T184534Z
UID:10000611-1751536800-1751540400@yorkshireofedina.com
SUMMARY:Worship Service
DESCRIPTION:
URL:https://yorkshireofedina.com/event-calendar/worship-service-13/
LOCATION:TV/ Soda Shop
CATEGORIES:Memory Care
END:VEVENT
BEGIN:VEVENT
DTSTART;TZID=America/Chicago:20250703T100000
DTEND;TZID=America/Chicago:20250703T110000
DTSTAMP:20260419T115852
CREATED:20250603T221609Z
LAST-MODIFIED:20250702T184534Z
UID:10000612-1751536800-1751540400@yorkshireofedina.com
SUMMARY:Coffee Club
DESCRIPTION:
URL:https://yorkshireofedina.com/event-calendar/coffee-club-34/
LOCATION:TV/ Soda Shop
CATEGORIES:Memory Care
END:VEVENT
BEGIN:VEVENT
DTSTART;TZID=America/Chicago:20250703T110000
DTEND;TZID=America/Chicago:20250703T120000
DTSTAMP:20260419T115852
CREATED:20250603T221609Z
LAST-MODIFIED:20250702T184534Z
UID:10000613-1751540400-1751544000@yorkshireofedina.com
SUMMARY:Exercise
DESCRIPTION:
URL:https://yorkshireofedina.com/event-calendar/exercise-52/
LOCATION:TV/ Soda Shop
CATEGORIES:Memory Care
END:VEVENT
BEGIN:VEVENT
DTSTART;TZID=America/Chicago:20250703T134500
DTEND;TZID=America/Chicago:20250703T144500
DTSTAMP:20260419T115852
CREATED:20250603T221609Z
LAST-MODIFIED:20250703T184529Z
UID:10000614-1751550300-1751553900@yorkshireofedina.com
SUMMARY:Live Music
DESCRIPTION:
URL:https://yorkshireofedina.com/event-calendar/sing-along-dance-and-ice-cream-socials-6/
LOCATION:TV/ Soda Shop
CATEGORIES:Memory Care
END:VEVENT
BEGIN:VEVENT
DTSTART;TZID=America/Chicago:20250703T141500
DTEND;TZID=America/Chicago:20250703T151500
DTSTAMP:20260419T115852
CREATED:20250603T221609Z
LAST-MODIFIED:20250703T184529Z
UID:10000615-1751552100-1751555700@yorkshireofedina.com
SUMMARY:Happy Hour
DESCRIPTION:
URL:https://yorkshireofedina.com/event-calendar/trivia-9/
LOCATION:TV/ Soda Shop
CATEGORIES:Memory Care
END:VEVENT
BEGIN:VEVENT
DTSTART;TZID=America/Chicago:20250703T180000
DTEND;TZID=America/Chicago:20250703T190000
DTSTAMP:20260419T115852
CREATED:20250604T221644Z
LAST-MODIFIED:20250703T184529Z
UID:10000624-1751565600-1751569200@yorkshireofedina.com
SUMMARY:Activity with Aides
DESCRIPTION:
URL:https://yorkshireofedina.com/event-calendar/sweep-six-7/
LOCATION:TV/ Soda Shop
CATEGORIES:Memory Care
END:VEVENT
BEGIN:VEVENT
DTSTART;TZID=America/Chicago:20250703T184500
DTEND;TZID=America/Chicago:20250703T194500
DTSTAMP:20260419T115852
CREATED:20250604T221644Z
LAST-MODIFIED:20250703T184529Z
UID:10000625-1751568300-1751571900@yorkshireofedina.com
SUMMARY:Activity with Aides
DESCRIPTION:
URL:https://yorkshireofedina.com/event-calendar/who-am-i-7/
LOCATION:TV/ Soda Shop
CATEGORIES:Memory Care
END:VEVENT
END:VCALENDAR