BEGIN:VCALENDAR
VERSION:2.0
PRODID:-//Yorkshire of Edina - ECPv6.11.2.1//NONSGML v1.0//EN
CALSCALE:GREGORIAN
METHOD:PUBLISH
X-ORIGINAL-URL:https://yorkshireofedina.com
X-WR-CALDESC:Events for Yorkshire of Edina
REFRESH-INTERVAL;VALUE=DURATION:PT1H
X-Robots-Tag:noindex
X-PUBLISHED-TTL:PT1H
BEGIN:VTIMEZONE
TZID:America/Chicago
BEGIN:DAYLIGHT
TZOFFSETFROM:-0600
TZOFFSETTO:-0500
TZNAME:CDT
DTSTART:20250309T080000
END:DAYLIGHT
BEGIN:STANDARD
TZOFFSETFROM:-0500
TZOFFSETTO:-0600
TZNAME:CST
DTSTART:20251102T070000
END:STANDARD
END:VTIMEZONE
BEGIN:VEVENT
DTSTART;TZID=America/Chicago:20250706T093000
DTEND;TZID=America/Chicago:20250706T103000
DTSTAMP:20260419T131509
CREATED:20250606T221625Z
LAST-MODIFIED:20250705T184525Z
UID:10000648-1751794200-1751797800@yorkshireofedina.com
SUMMARY:Church Service on TV
DESCRIPTION:
URL:https://yorkshireofedina.com/event-calendar/church-service-on-tv-9/
LOCATION:TV/ Soda Shop
CATEGORIES:Memory Care
END:VEVENT
BEGIN:VEVENT
DTSTART;TZID=America/Chicago:20250706T103000
DTEND;TZID=America/Chicago:20250706T113000
DTSTAMP:20260419T131509
CREATED:20250606T221625Z
LAST-MODIFIED:20250705T184525Z
UID:10000649-1751797800-1751801400@yorkshireofedina.com
SUMMARY:Exercise
DESCRIPTION:
URL:https://yorkshireofedina.com/event-calendar/exercise-55/
LOCATION:TV/ Soda Shop
CATEGORIES:Memory Care
END:VEVENT
BEGIN:VEVENT
DTSTART;TZID=America/Chicago:20250706T143000
DTEND;TZID=America/Chicago:20250706T153000
DTSTAMP:20260419T131509
CREATED:20250606T221625Z
LAST-MODIFIED:20250706T184534Z
UID:10000650-1751812200-1751815800@yorkshireofedina.com
SUMMARY:Sing-a-long With Suzie
DESCRIPTION:
URL:https://yorkshireofedina.com/event-calendar/sing-a-long-with-suzie-4/
LOCATION:TV Room
CATEGORIES:Memory Care
END:VEVENT
BEGIN:VEVENT
DTSTART;TZID=America/Chicago:20250706T153000
DTEND;TZID=America/Chicago:20250706T163000
DTSTAMP:20260419T131509
CREATED:20250606T221625Z
LAST-MODIFIED:20250706T184534Z
UID:10000651-1751815800-1751819400@yorkshireofedina.com
SUMMARY:Armchair travel with Suzie
DESCRIPTION:
URL:https://yorkshireofedina.com/event-calendar/armchair-travel-with-suzie-4/
LOCATION:TV/ Soda Shop
CATEGORIES:Memory Care
END:VEVENT
END:VCALENDAR