BEGIN:VCALENDAR
VERSION:2.0
PRODID:-//Yorkshire of Edina - ECPv6.11.2.1//NONSGML v1.0//EN
CALSCALE:GREGORIAN
METHOD:PUBLISH
X-WR-CALNAME:Yorkshire of Edina
X-ORIGINAL-URL:https://yorkshireofedina.com
X-WR-CALDESC:Events for Yorkshire of Edina
REFRESH-INTERVAL;VALUE=DURATION:PT1H
X-Robots-Tag:noindex
X-PUBLISHED-TTL:PT1H
BEGIN:VTIMEZONE
TZID:America/Chicago
BEGIN:DAYLIGHT
TZOFFSETFROM:-0600
TZOFFSETTO:-0500
TZNAME:CDT
DTSTART:20250309T080000
END:DAYLIGHT
BEGIN:STANDARD
TZOFFSETFROM:-0500
TZOFFSETTO:-0600
TZNAME:CST
DTSTART:20251102T070000
END:STANDARD
END:VTIMEZONE
BEGIN:VEVENT
DTSTART;TZID=America/Chicago:20250710T093000
DTEND;TZID=America/Chicago:20250710T103000
DTSTAMP:20260419T131245
CREATED:20250610T221648Z
LAST-MODIFIED:20250709T184554Z
UID:10000697-1752139800-1752143400@yorkshireofedina.com
SUMMARY:Music Relaxation
DESCRIPTION:
URL:https://yorkshireofedina.com/event-calendar/scenic-relaxation-39/
LOCATION:TV/ Soda Shop
CATEGORIES:Memory Care
END:VEVENT
BEGIN:VEVENT
DTSTART;TZID=America/Chicago:20250710T100000
DTEND;TZID=America/Chicago:20250710T110000
DTSTAMP:20260419T131245
CREATED:20250610T221648Z
LAST-MODIFIED:20250709T184554Z
UID:10000698-1752141600-1752145200@yorkshireofedina.com
SUMMARY:Worship Service
DESCRIPTION:
URL:https://yorkshireofedina.com/event-calendar/worship-service-15/
LOCATION:TV/ Soda Shop
CATEGORIES:Memory Care
END:VEVENT
BEGIN:VEVENT
DTSTART;TZID=America/Chicago:20250710T100000
DTEND;TZID=America/Chicago:20250710T110000
DTSTAMP:20260419T131245
CREATED:20250610T221648Z
LAST-MODIFIED:20250709T184554Z
UID:10000699-1752141600-1752145200@yorkshireofedina.com
SUMMARY:Coffee Club
DESCRIPTION:
URL:https://yorkshireofedina.com/event-calendar/coffee-club-39/
LOCATION:TV/ Soda Shop
CATEGORIES:Memory Care
END:VEVENT
BEGIN:VEVENT
DTSTART;TZID=America/Chicago:20250710T104500
DTEND;TZID=America/Chicago:20250710T114500
DTSTAMP:20260419T131245
CREATED:20250610T221648Z
LAST-MODIFIED:20250709T184554Z
UID:10000700-1752144300-1752147900@yorkshireofedina.com
SUMMARY:Catholic Communion
DESCRIPTION:
URL:https://yorkshireofedina.com/event-calendar/catholic-communion-8/
LOCATION:TV/ Soda Shop
CATEGORIES:Memory Care
END:VEVENT
BEGIN:VEVENT
DTSTART;TZID=America/Chicago:20250710T104500
DTEND;TZID=America/Chicago:20250710T114500
DTSTAMP:20260419T131245
CREATED:20250610T221648Z
LAST-MODIFIED:20250709T184555Z
UID:10000701-1752144300-1752147900@yorkshireofedina.com
SUMMARY:Animal Therapy - Howie & Piper
DESCRIPTION:
URL:https://yorkshireofedina.com/event-calendar/animal-therapy-howie-piper/
LOCATION:TV/ Soda Shop
CATEGORIES:Memory Care
END:VEVENT
BEGIN:VEVENT
DTSTART;TZID=America/Chicago:20250710T110000
DTEND;TZID=America/Chicago:20250710T120000
DTSTAMP:20260419T131245
CREATED:20250610T221648Z
LAST-MODIFIED:20250709T184555Z
UID:10000702-1752145200-1752148800@yorkshireofedina.com
SUMMARY:Exercise
DESCRIPTION:
URL:https://yorkshireofedina.com/event-calendar/exercise-59/
LOCATION:TV/ Soda Shop
CATEGORIES:Memory Care
END:VEVENT
BEGIN:VEVENT
DTSTART;TZID=America/Chicago:20250710T140000
DTEND;TZID=America/Chicago:20250710T150000
DTSTAMP:20260419T131245
CREATED:20250610T193109Z
LAST-MODIFIED:20250710T193033Z
UID:10000692-1752156000-1752159600@yorkshireofedina.com
SUMMARY:Virtual Programming: Adventures of Ben Franklin
DESCRIPTION:
URL:https://yorkshireofedina.com/event-calendar/live-virtual-programming-2/
LOCATION:Community Room
CATEGORIES:Assisted Living,Independent Living,Memory Care
END:VEVENT
BEGIN:VEVENT
DTSTART;TZID=America/Chicago:20250710T150000
DTEND;TZID=America/Chicago:20250710T160000
DTSTAMP:20260419T131245
CREATED:20250610T221648Z
LAST-MODIFIED:20250702T184534Z
UID:10000704-1752159600-1752163200@yorkshireofedina.com
SUMMARY:Trivia
DESCRIPTION:
URL:https://yorkshireofedina.com/event-calendar/trivia-11/
LOCATION:Garden Room
CATEGORIES:Memory Care
END:VEVENT
BEGIN:VEVENT
DTSTART;TZID=America/Chicago:20250710T150000
DTEND;TZID=America/Chicago:20250710T160000
DTSTAMP:20260419T131245
CREATED:20250610T221648Z
LAST-MODIFIED:20250710T190030Z
UID:10000703-1752159600-1752163200@yorkshireofedina.com
SUMMARY:Sing Along\, Dance And Ice Cream Socials
DESCRIPTION:
URL:https://yorkshireofedina.com/event-calendar/sing-along-dance-and-ice-cream-socials-7/
LOCATION:TV/ Soda Shop
CATEGORIES:Memory Care
END:VEVENT
BEGIN:VEVENT
DTSTART;TZID=America/Chicago:20250710T180000
DTEND;TZID=America/Chicago:20250710T190000
DTSTAMP:20260419T131245
CREATED:20250611T221637Z
LAST-MODIFIED:20250710T190030Z
UID:10000710-1752170400-1752174000@yorkshireofedina.com
SUMMARY:Sweep Six
DESCRIPTION:
URL:https://yorkshireofedina.com/event-calendar/sweep-six-8/
LOCATION:TV/ Soda Shop
CATEGORIES:Memory Care
END:VEVENT
BEGIN:VEVENT
DTSTART;TZID=America/Chicago:20250710T184500
DTEND;TZID=America/Chicago:20250710T194500
DTSTAMP:20260419T131245
CREATED:20250611T221637Z
LAST-MODIFIED:20250710T190030Z
UID:10000711-1752173100-1752176700@yorkshireofedina.com
SUMMARY:Who Am I?
DESCRIPTION:
URL:https://yorkshireofedina.com/event-calendar/who-am-i-8/
LOCATION:TV/ Soda Shop
CATEGORIES:Memory Care
END:VEVENT
BEGIN:VEVENT
DTSTART;TZID=America/Chicago:20250710T224500
DTEND;TZID=America/Chicago:20250710T234500
DTSTAMP:20260419T131245
CREATED:20250611T221637Z
LAST-MODIFIED:20250702T184534Z
UID:10000712-1752187500-1752191100@yorkshireofedina.com
SUMMARY:Animal Therapy - Howie & Piper
DESCRIPTION:
URL:https://yorkshireofedina.com/event-calendar/animal-therapy-howie-piper-2/
LOCATION:TV/ Soda Shop
CATEGORIES:Memory Care
END:VEVENT
END:VCALENDAR