BEGIN:VCALENDAR
VERSION:2.0
PRODID:-//Yorkshire of Edina - ECPv6.11.2.1//NONSGML v1.0//EN
CALSCALE:GREGORIAN
METHOD:PUBLISH
X-WR-CALNAME:Yorkshire of Edina
X-ORIGINAL-URL:https://yorkshireofedina.com
X-WR-CALDESC:Events for Yorkshire of Edina
REFRESH-INTERVAL;VALUE=DURATION:PT1H
X-Robots-Tag:noindex
X-PUBLISHED-TTL:PT1H
BEGIN:VTIMEZONE
TZID:America/Chicago
BEGIN:DAYLIGHT
TZOFFSETFROM:-0600
TZOFFSETTO:-0500
TZNAME:CDT
DTSTART:20250309T080000
END:DAYLIGHT
BEGIN:STANDARD
TZOFFSETFROM:-0500
TZOFFSETTO:-0600
TZNAME:CST
DTSTART:20251102T070000
END:STANDARD
END:VTIMEZONE
BEGIN:VEVENT
DTSTART;TZID=America/Chicago:20250711T093000
DTEND;TZID=America/Chicago:20250711T103000
DTSTAMP:20260419T132034
CREATED:20250611T221637Z
LAST-MODIFIED:20250710T190030Z
UID:10000713-1752226200-1752229800@yorkshireofedina.com
SUMMARY:Music Relaxation
DESCRIPTION:
URL:https://yorkshireofedina.com/event-calendar/scenic-relaxation-40/
LOCATION:TV/ Soda Shop
CATEGORIES:Memory Care
END:VEVENT
BEGIN:VEVENT
DTSTART;TZID=America/Chicago:20250711T100000
DTEND;TZID=America/Chicago:20250711T110000
DTSTAMP:20260419T132034
CREATED:20250611T221637Z
LAST-MODIFIED:20250710T190030Z
UID:10000714-1752228000-1752231600@yorkshireofedina.com
SUMMARY:Coffee Club
DESCRIPTION:
URL:https://yorkshireofedina.com/event-calendar/coffee-club-40/
LOCATION:TV/ Soda Shop
CATEGORIES:Memory Care
END:VEVENT
BEGIN:VEVENT
DTSTART;TZID=America/Chicago:20250711T103000
DTEND;TZID=America/Chicago:20250711T113000
DTSTAMP:20260419T132034
CREATED:20250611T221637Z
LAST-MODIFIED:20250710T190030Z
UID:10000715-1752229800-1752233400@yorkshireofedina.com
SUMMARY:Devotion / Spiritual Sing Along
DESCRIPTION:
URL:https://yorkshireofedina.com/event-calendar/devotion-spiritual-sing-along-8/
LOCATION:TV/ Soda Shop
CATEGORIES:Memory Care
END:VEVENT
BEGIN:VEVENT
DTSTART;TZID=America/Chicago:20250711T110000
DTEND;TZID=America/Chicago:20250711T120000
DTSTAMP:20260419T132034
CREATED:20250611T221637Z
LAST-MODIFIED:20250710T190030Z
UID:10000716-1752231600-1752235200@yorkshireofedina.com
SUMMARY:Exercise
DESCRIPTION:
URL:https://yorkshireofedina.com/event-calendar/exercise-60/
LOCATION:TV/ Soda Shop
CATEGORIES:Memory Care
END:VEVENT
BEGIN:VEVENT
DTSTART;TZID=America/Chicago:20250711T134500
DTEND;TZID=America/Chicago:20250711T144500
DTSTAMP:20260419T132034
CREATED:20250611T221637Z
LAST-MODIFIED:20250711T190026Z
UID:10000717-1752241500-1752245100@yorkshireofedina.com
SUMMARY:Live Music/ Happy Hour
DESCRIPTION:
URL:https://yorkshireofedina.com/event-calendar/live-music-happy-hour-7/
LOCATION:TV/ Soda Shop
CATEGORIES:Memory Care
END:VEVENT
BEGIN:VEVENT
DTSTART;TZID=America/Chicago:20250711T180000
DTEND;TZID=America/Chicago:20250711T184500
DTSTAMP:20260419T132034
CREATED:20250612T223144Z
LAST-MODIFIED:20250711T190026Z
UID:10000724-1752256800-1752259500@yorkshireofedina.com
SUMMARY:Yoga with Lisa
DESCRIPTION:
URL:https://yorkshireofedina.com/event-calendar/yoga-with-lisa-21/
LOCATION:TV/ Soda Shop
CATEGORIES:Memory Care
END:VEVENT
BEGIN:VEVENT
DTSTART;TZID=America/Chicago:20250711T184500
DTEND;TZID=America/Chicago:20250711T194500
DTSTAMP:20260419T132034
CREATED:20250612T223144Z
LAST-MODIFIED:20250711T190026Z
UID:10000725-1752259500-1752263100@yorkshireofedina.com
SUMMARY:Armchair Travel
DESCRIPTION:
URL:https://yorkshireofedina.com/event-calendar/armchair-travel-22/
LOCATION:TV/Soda Shop
CATEGORIES:Memory Care
END:VEVENT
END:VCALENDAR