BEGIN:VCALENDAR
VERSION:2.0
PRODID:-//Yorkshire of Edina - ECPv6.11.2.1//NONSGML v1.0//EN
CALSCALE:GREGORIAN
METHOD:PUBLISH
X-ORIGINAL-URL:https://yorkshireofedina.com
X-WR-CALDESC:Events for Yorkshire of Edina
REFRESH-INTERVAL;VALUE=DURATION:PT1H
X-Robots-Tag:noindex
X-PUBLISHED-TTL:PT1H
BEGIN:VTIMEZONE
TZID:America/Chicago
BEGIN:DAYLIGHT
TZOFFSETFROM:-0600
TZOFFSETTO:-0500
TZNAME:CDT
DTSTART:20250309T080000
END:DAYLIGHT
BEGIN:STANDARD
TZOFFSETFROM:-0500
TZOFFSETTO:-0600
TZNAME:CST
DTSTART:20251102T070000
END:STANDARD
END:VTIMEZONE
BEGIN:VEVENT
DTSTART;TZID=America/Chicago:20250713T093000
DTEND;TZID=America/Chicago:20250713T103000
DTSTAMP:20260419T131526
CREATED:20250613T223033Z
LAST-MODIFIED:20250712T190028Z
UID:10000735-1752399000-1752402600@yorkshireofedina.com
SUMMARY:Church Service on TV
DESCRIPTION:
URL:https://yorkshireofedina.com/event-calendar/church-service-on-tv-10/
LOCATION:TV/ Soda Shop
CATEGORIES:Memory Care
END:VEVENT
BEGIN:VEVENT
DTSTART;TZID=America/Chicago:20250713T103000
DTEND;TZID=America/Chicago:20250713T113000
DTSTAMP:20260419T131526
CREATED:20250613T223033Z
LAST-MODIFIED:20250712T190028Z
UID:10000736-1752402600-1752406200@yorkshireofedina.com
SUMMARY:Exercise
DESCRIPTION:
URL:https://yorkshireofedina.com/event-calendar/exercise-63/
LOCATION:TV/ Soda Shop
CATEGORIES:Memory Care
END:VEVENT
BEGIN:VEVENT
DTSTART;TZID=America/Chicago:20250713T103000
DTEND;TZID=America/Chicago:20250713T113000
DTSTAMP:20260419T131526
CREATED:20250613T223033Z
LAST-MODIFIED:20250712T190028Z
UID:10000737-1752402600-1752406200@yorkshireofedina.com
SUMMARY:Sing-A-Long
DESCRIPTION:
URL:https://yorkshireofedina.com/event-calendar/sing-a-long-4/
LOCATION:TV Room
CATEGORIES:Memory Care
END:VEVENT
BEGIN:VEVENT
DTSTART;TZID=America/Chicago:20250713T143000
DTEND;TZID=America/Chicago:20250713T153000
DTSTAMP:20260419T131526
CREATED:20250613T223033Z
LAST-MODIFIED:20250713T191528Z
UID:10000738-1752417000-1752420600@yorkshireofedina.com
SUMMARY:Coloring With Lisa
DESCRIPTION:
URL:https://yorkshireofedina.com/event-calendar/coloring-with-lisa-6/
LOCATION:Garden Room
CATEGORIES:Memory Care
END:VEVENT
BEGIN:VEVENT
DTSTART;TZID=America/Chicago:20250713T153000
DTEND;TZID=America/Chicago:20250713T163000
DTSTAMP:20260419T131526
CREATED:20250613T223033Z
LAST-MODIFIED:20250713T191528Z
UID:10000739-1752420600-1752424200@yorkshireofedina.com
SUMMARY:Activity with Lisa
DESCRIPTION:
URL:https://yorkshireofedina.com/event-calendar/activity-with-lisa-6/
LOCATION:Garden Room
CATEGORIES:Memory Care
END:VEVENT
END:VCALENDAR