BEGIN:VCALENDAR
VERSION:2.0
PRODID:-//Yorkshire of Edina - ECPv6.11.2.1//NONSGML v1.0//EN
CALSCALE:GREGORIAN
METHOD:PUBLISH
X-WR-CALNAME:Yorkshire of Edina
X-ORIGINAL-URL:https://yorkshireofedina.com
X-WR-CALDESC:Events for Yorkshire of Edina
REFRESH-INTERVAL;VALUE=DURATION:PT1H
X-Robots-Tag:noindex
X-PUBLISHED-TTL:PT1H
BEGIN:VTIMEZONE
TZID:America/Chicago
BEGIN:DAYLIGHT
TZOFFSETFROM:-0600
TZOFFSETTO:-0500
TZNAME:CDT
DTSTART:20250309T080000
END:DAYLIGHT
BEGIN:STANDARD
TZOFFSETFROM:-0500
TZOFFSETTO:-0600
TZNAME:CST
DTSTART:20251102T070000
END:STANDARD
END:VTIMEZONE
BEGIN:VEVENT
DTSTART;TZID=America/Chicago:20250714T093000
DTEND;TZID=America/Chicago:20250714T103000
DTSTAMP:20260419T145131
CREATED:20250614T223055Z
LAST-MODIFIED:20250713T191528Z
UID:10000743-1752485400-1752489000@yorkshireofedina.com
SUMMARY:Music Relaxation
DESCRIPTION:
URL:https://yorkshireofedina.com/event-calendar/scenic-relaxation-41/
LOCATION:TV/ Soda Shop
CATEGORIES:Memory Care
END:VEVENT
BEGIN:VEVENT
DTSTART;TZID=America/Chicago:20250714T100000
DTEND;TZID=America/Chicago:20250714T110000
DTSTAMP:20260419T145131
CREATED:20250614T223055Z
LAST-MODIFIED:20250713T191528Z
UID:10000744-1752487200-1752490800@yorkshireofedina.com
SUMMARY:Coffee Club
DESCRIPTION:
URL:https://yorkshireofedina.com/event-calendar/coffee-club-41/
LOCATION:TV/ Soda Shop
CATEGORIES:Memory Care
END:VEVENT
BEGIN:VEVENT
DTSTART;TZID=America/Chicago:20250714T110000
DTEND;TZID=America/Chicago:20250714T120000
DTSTAMP:20260419T145131
CREATED:20250614T223055Z
LAST-MODIFIED:20250713T191528Z
UID:10000745-1752490800-1752494400@yorkshireofedina.com
SUMMARY:Exercise
DESCRIPTION:
URL:https://yorkshireofedina.com/event-calendar/exercise-64/
LOCATION:TV/ Soda Shop
CATEGORIES:Memory Care
END:VEVENT
BEGIN:VEVENT
DTSTART;TZID=America/Chicago:20250714T113000
DTEND;TZID=America/Chicago:20250714T123000
DTSTAMP:20260419T145131
CREATED:20250711T190024Z
LAST-MODIFIED:20250713T191528Z
UID:10001083-1752492600-1752496200@yorkshireofedina.com
SUMMARY:Oshibori
DESCRIPTION:
URL:https://yorkshireofedina.com/event-calendar/oshibori/
LOCATION:Dining Room
CATEGORIES:Memory Care
END:VEVENT
BEGIN:VEVENT
DTSTART;TZID=America/Chicago:20250714T140000
DTEND;TZID=America/Chicago:20250714T150000
DTSTAMP:20260419T145131
CREATED:20250709T184555Z
LAST-MODIFIED:20250714T191527Z
UID:10001059-1752501600-1752505200@yorkshireofedina.com
SUMMARY:Classroom Experience: Nature
DESCRIPTION:
URL:https://yorkshireofedina.com/event-calendar/classroom-experience-nature/
LOCATION:Patio
CATEGORIES:Memory Care
END:VEVENT
BEGIN:VEVENT
DTSTART;TZID=America/Chicago:20250714T140000
DTEND;TZID=America/Chicago:20250714T153000
DTSTAMP:20260419T145131
CREATED:20250614T223055Z
LAST-MODIFIED:20250708T184710Z
UID:10000746-1752501600-1752507000@yorkshireofedina.com
SUMMARY:Puzzles
DESCRIPTION:
URL:https://yorkshireofedina.com/event-calendar/puzzles-9/
LOCATION:Garden Room
CATEGORIES:Memory Care
END:VEVENT
BEGIN:VEVENT
DTSTART;TZID=America/Chicago:20250714T153000
DTEND;TZID=America/Chicago:20250714T163000
DTSTAMP:20260419T145132
CREATED:20250614T223055Z
LAST-MODIFIED:20250714T191527Z
UID:10000747-1752507000-1752510600@yorkshireofedina.com
SUMMARY:Manicure/ Hand Massages
DESCRIPTION:
URL:https://yorkshireofedina.com/event-calendar/manicure-hand-massages-17/
LOCATION:Garden Room
CATEGORIES:Memory Care
END:VEVENT
BEGIN:VEVENT
DTSTART;TZID=America/Chicago:20250714T180000
DTEND;TZID=America/Chicago:20250714T190000
DTSTAMP:20260419T145132
CREATED:20250615T223102Z
LAST-MODIFIED:20250714T191527Z
UID:10000755-1752516000-1752519600@yorkshireofedina.com
SUMMARY:Trivia with Suzie
DESCRIPTION:
URL:https://yorkshireofedina.com/event-calendar/trivia-with-suzie-9/
LOCATION:TV/ Soda Shop
CATEGORIES:Memory Care
END:VEVENT
BEGIN:VEVENT
DTSTART;TZID=America/Chicago:20250714T184500
DTEND;TZID=America/Chicago:20250714T193000
DTSTAMP:20260419T145132
CREATED:20250615T223102Z
LAST-MODIFIED:20250714T191528Z
UID:10000756-1752518700-1752521400@yorkshireofedina.com
SUMMARY:Bowling with Suzie
DESCRIPTION:
URL:https://yorkshireofedina.com/event-calendar/bowling-with-suzie-9/
LOCATION:TV/ Soda Shop
CATEGORIES:Memory Care
END:VEVENT
END:VCALENDAR