BEGIN:VCALENDAR
VERSION:2.0
PRODID:-//Yorkshire of Edina - ECPv6.11.2.1//NONSGML v1.0//EN
CALSCALE:GREGORIAN
METHOD:PUBLISH
X-WR-CALNAME:Yorkshire of Edina
X-ORIGINAL-URL:https://yorkshireofedina.com
X-WR-CALDESC:Events for Yorkshire of Edina
REFRESH-INTERVAL;VALUE=DURATION:PT1H
X-Robots-Tag:noindex
X-PUBLISHED-TTL:PT1H
BEGIN:VTIMEZONE
TZID:America/Chicago
BEGIN:DAYLIGHT
TZOFFSETFROM:-0600
TZOFFSETTO:-0500
TZNAME:CDT
DTSTART:20250309T080000
END:DAYLIGHT
BEGIN:STANDARD
TZOFFSETFROM:-0500
TZOFFSETTO:-0600
TZNAME:CST
DTSTART:20251102T070000
END:STANDARD
END:VTIMEZONE
BEGIN:VEVENT
DTSTART;TZID=America/Chicago:20250718T093000
DTEND;TZID=America/Chicago:20250718T103000
DTSTAMP:20260419T132034
CREATED:20250619T154408Z
LAST-MODIFIED:20250717T191526Z
UID:10000783-1752831000-1752834600@yorkshireofedina.com
SUMMARY:Music Relaxation
DESCRIPTION:
URL:https://yorkshireofedina.com/event-calendar/scenic-relaxation-45/
LOCATION:TV/ Soda Shop
CATEGORIES:Memory Care
END:VEVENT
BEGIN:VEVENT
DTSTART;TZID=America/Chicago:20250718T100000
DTEND;TZID=America/Chicago:20250718T110000
DTSTAMP:20260419T132034
CREATED:20250619T154408Z
LAST-MODIFIED:20250717T191526Z
UID:10000784-1752832800-1752836400@yorkshireofedina.com
SUMMARY:Coffee Club
DESCRIPTION:
URL:https://yorkshireofedina.com/event-calendar/coffee-club-45/
LOCATION:TV/ Soda Shop
CATEGORIES:Memory Care
END:VEVENT
BEGIN:VEVENT
DTSTART;TZID=America/Chicago:20250718T103000
DTEND;TZID=America/Chicago:20250718T113000
DTSTAMP:20260419T132034
CREATED:20250619T154408Z
LAST-MODIFIED:20250717T191526Z
UID:10000785-1752834600-1752838200@yorkshireofedina.com
SUMMARY:Devotion / Spiritual Sing Along
DESCRIPTION:
URL:https://yorkshireofedina.com/event-calendar/devotion-spiritual-sing-along-9/
LOCATION:TV/ Soda Shop
CATEGORIES:Memory Care
END:VEVENT
BEGIN:VEVENT
DTSTART;TZID=America/Chicago:20250718T110000
DTEND;TZID=America/Chicago:20250718T120000
DTSTAMP:20260419T132034
CREATED:20250619T154408Z
LAST-MODIFIED:20250717T191526Z
UID:10000786-1752836400-1752840000@yorkshireofedina.com
SUMMARY:Exercise
DESCRIPTION:
URL:https://yorkshireofedina.com/event-calendar/exercise-68/
LOCATION:TV/ Soda Shop
CATEGORIES:Memory Care
END:VEVENT
BEGIN:VEVENT
DTSTART;TZID=America/Chicago:20250718T113000
DTEND;TZID=America/Chicago:20250718T123000
DTSTAMP:20260419T132034
CREATED:20250711T190026Z
LAST-MODIFIED:20250717T191526Z
UID:10001087-1752838200-1752841800@yorkshireofedina.com
SUMMARY:Oshibori
DESCRIPTION:
URL:https://yorkshireofedina.com/event-calendar/oshibori-5/
LOCATION:Dining Room
CATEGORIES:Memory Care
END:VEVENT
BEGIN:VEVENT
DTSTART;TZID=America/Chicago:20250718T134500
DTEND;TZID=America/Chicago:20250718T144500
DTSTAMP:20260419T132034
CREATED:20250619T154408Z
LAST-MODIFIED:20250718T191526Z
UID:10000787-1752846300-1752849900@yorkshireofedina.com
SUMMARY:Live Music/ Happy Hour
DESCRIPTION:
URL:https://yorkshireofedina.com/event-calendar/live-music-happy-hour-8/
LOCATION:TV/ Soda Shop
CATEGORIES:Memory Care
END:VEVENT
BEGIN:VEVENT
DTSTART;TZID=America/Chicago:20250718T163000
DTEND;TZID=America/Chicago:20250718T173000
DTSTAMP:20260419T132034
CREATED:20250715T191527Z
LAST-MODIFIED:20250718T191526Z
UID:10001151-1752856200-1752859800@yorkshireofedina.com
SUMMARY:Oshibori
DESCRIPTION:
URL:https://yorkshireofedina.com/event-calendar/oshibori-27/
LOCATION:Dining Room
CATEGORIES:Memory Care
END:VEVENT
BEGIN:VEVENT
DTSTART;TZID=America/Chicago:20250718T180000
DTEND;TZID=America/Chicago:20250718T184500
DTSTAMP:20260419T132034
CREATED:20250619T154408Z
LAST-MODIFIED:20250718T191526Z
UID:10000788-1752861600-1752864300@yorkshireofedina.com
SUMMARY:Activity with Aides
DESCRIPTION:
URL:https://yorkshireofedina.com/event-calendar/yoga-with-lisa-24/
LOCATION:TV/ Soda Shop
CATEGORIES:Memory Care
END:VEVENT
BEGIN:VEVENT
DTSTART;TZID=America/Chicago:20250718T184500
DTEND;TZID=America/Chicago:20250718T194500
DTSTAMP:20260419T132034
CREATED:20250619T154408Z
LAST-MODIFIED:20250718T191526Z
UID:10000789-1752864300-1752867900@yorkshireofedina.com
SUMMARY:Activity with Aides
DESCRIPTION:
URL:https://yorkshireofedina.com/event-calendar/armchair-travel-25/
LOCATION:TV/Soda Shop
CATEGORIES:Memory Care
END:VEVENT
END:VCALENDAR