BEGIN:VCALENDAR
VERSION:2.0
PRODID:-//Yorkshire of Edina - ECPv6.11.2.1//NONSGML v1.0//EN
CALSCALE:GREGORIAN
METHOD:PUBLISH
X-ORIGINAL-URL:https://yorkshireofedina.com
X-WR-CALDESC:Events for Yorkshire of Edina
REFRESH-INTERVAL;VALUE=DURATION:PT1H
X-Robots-Tag:noindex
X-PUBLISHED-TTL:PT1H
BEGIN:VTIMEZONE
TZID:America/Chicago
BEGIN:DAYLIGHT
TZOFFSETFROM:-0600
TZOFFSETTO:-0500
TZNAME:CDT
DTSTART:20250309T080000
END:DAYLIGHT
BEGIN:STANDARD
TZOFFSETFROM:-0500
TZOFFSETTO:-0600
TZNAME:CST
DTSTART:20251102T070000
END:STANDARD
END:VTIMEZONE
BEGIN:VEVENT
DTSTART;TZID=America/Chicago:20250728T093000
DTEND;TZID=America/Chicago:20250728T103000
DTSTAMP:20260419T131520
CREATED:20250628T183116Z
LAST-MODIFIED:20250727T191536Z
UID:10000924-1753695000-1753698600@yorkshireofedina.com
SUMMARY:Music Relaxation
DESCRIPTION:
URL:https://yorkshireofedina.com/event-calendar/scenic-relaxation-51/
LOCATION:TV/ Soda Shop
CATEGORIES:Memory Care
END:VEVENT
BEGIN:VEVENT
DTSTART;TZID=America/Chicago:20250728T100000
DTEND;TZID=America/Chicago:20250728T110000
DTSTAMP:20260419T131520
CREATED:20250628T183116Z
LAST-MODIFIED:20250727T191536Z
UID:10000925-1753696800-1753700400@yorkshireofedina.com
SUMMARY:Coffee Club
DESCRIPTION:
URL:https://yorkshireofedina.com/event-calendar/coffee-club-51/
LOCATION:TV/ Soda Shop
CATEGORIES:Memory Care
END:VEVENT
BEGIN:VEVENT
DTSTART;TZID=America/Chicago:20250728T110000
DTEND;TZID=America/Chicago:20250728T120000
DTSTAMP:20260419T131520
CREATED:20250628T183116Z
LAST-MODIFIED:20250727T191536Z
UID:10000926-1753700400-1753704000@yorkshireofedina.com
SUMMARY:Exercise
DESCRIPTION:
URL:https://yorkshireofedina.com/event-calendar/exercise-80/
LOCATION:TV/ Soda Shop
CATEGORIES:Memory Care
END:VEVENT
BEGIN:VEVENT
DTSTART;TZID=America/Chicago:20250728T113000
DTEND;TZID=America/Chicago:20250728T123000
DTSTAMP:20260419T131520
CREATED:20250711T190030Z
LAST-MODIFIED:20250727T191536Z
UID:10001093-1753702200-1753705800@yorkshireofedina.com
SUMMARY:Oshibori
DESCRIPTION:
URL:https://yorkshireofedina.com/event-calendar/oshibori-11/
LOCATION:Dining Room
CATEGORIES:Memory Care
END:VEVENT
BEGIN:VEVENT
DTSTART;TZID=America/Chicago:20250728T140000
DTEND;TZID=America/Chicago:20250728T153000
DTSTAMP:20260419T131520
CREATED:20250629T183136Z
LAST-MODIFIED:20250728T191536Z
UID:10000931-1753711200-1753716600@yorkshireofedina.com
SUMMARY:Puzzles
DESCRIPTION:
URL:https://yorkshireofedina.com/event-calendar/puzzles-11/
LOCATION:Garden Room
CATEGORIES:Memory Care
END:VEVENT
BEGIN:VEVENT
DTSTART;TZID=America/Chicago:20250728T153000
DTEND;TZID=America/Chicago:20250728T163000
DTSTAMP:20260419T131520
CREATED:20250629T183136Z
LAST-MODIFIED:20250728T191536Z
UID:10000932-1753716600-1753720200@yorkshireofedina.com
SUMMARY:Manicure/ Hand Massages
DESCRIPTION:
URL:https://yorkshireofedina.com/event-calendar/manicure-hand-massages-21/
LOCATION:Garden Room
CATEGORIES:Memory Care
END:VEVENT
BEGIN:VEVENT
DTSTART;TZID=America/Chicago:20250728T163000
DTEND;TZID=America/Chicago:20250728T173000
DTSTAMP:20260419T131520
CREATED:20250715T191530Z
LAST-MODIFIED:20250728T191536Z
UID:10001157-1753720200-1753723800@yorkshireofedina.com
SUMMARY:Oshibori
DESCRIPTION:
URL:https://yorkshireofedina.com/event-calendar/oshibori-33/
LOCATION:Dining Room
CATEGORIES:Memory Care
END:VEVENT
BEGIN:VEVENT
DTSTART;TZID=America/Chicago:20250728T180000
DTEND;TZID=America/Chicago:20250728T190000
DTSTAMP:20260419T131520
CREATED:20250629T183136Z
LAST-MODIFIED:20250728T191536Z
UID:10000933-1753725600-1753729200@yorkshireofedina.com
SUMMARY:Trivia with Suzie
DESCRIPTION:
URL:https://yorkshireofedina.com/event-calendar/trivia-with-suzie-11/
LOCATION:TV/ Soda Shop
CATEGORIES:Memory Care
END:VEVENT
BEGIN:VEVENT
DTSTART;TZID=America/Chicago:20250728T184500
DTEND;TZID=America/Chicago:20250728T193000
DTSTAMP:20260419T131520
CREATED:20250629T183136Z
LAST-MODIFIED:20250728T191536Z
UID:10000934-1753728300-1753731000@yorkshireofedina.com
SUMMARY:Bowling with Suzie
DESCRIPTION:
URL:https://yorkshireofedina.com/event-calendar/bowling-with-suzie-11/
LOCATION:TV/ Soda Shop
CATEGORIES:Memory Care
END:VEVENT
END:VCALENDAR