BEGIN:VCALENDAR
VERSION:2.0
PRODID:-//Yorkshire of Edina - ECPv6.11.2.1//NONSGML v1.0//EN
CALSCALE:GREGORIAN
METHOD:PUBLISH
X-ORIGINAL-URL:https://yorkshireofedina.com
X-WR-CALDESC:Events for Yorkshire of Edina
REFRESH-INTERVAL;VALUE=DURATION:PT1H
X-Robots-Tag:noindex
X-PUBLISHED-TTL:PT1H
BEGIN:VTIMEZONE
TZID:America/Chicago
BEGIN:DAYLIGHT
TZOFFSETFROM:-0600
TZOFFSETTO:-0500
TZNAME:CDT
DTSTART:20250309T080000
END:DAYLIGHT
BEGIN:STANDARD
TZOFFSETFROM:-0500
TZOFFSETTO:-0600
TZNAME:CST
DTSTART:20251102T070000
END:STANDARD
END:VTIMEZONE
BEGIN:VEVENT
DTSTART;TZID=America/Chicago:20250730T093000
DTEND;TZID=America/Chicago:20250730T103000
DTSTAMP:20260419T145354
CREATED:20250630T184536Z
LAST-MODIFIED:20250729T191526Z
UID:10000950-1753867800-1753871400@yorkshireofedina.com
SUMMARY:Music Relaxation
DESCRIPTION:
URL:https://yorkshireofedina.com/event-calendar/scenic-relaxation-53/
LOCATION:TV/ Soda Shop
CATEGORIES:Memory Care
END:VEVENT
BEGIN:VEVENT
DTSTART;TZID=America/Chicago:20250730T100000
DTEND;TZID=America/Chicago:20250730T110000
DTSTAMP:20260419T145354
CREATED:20250630T184536Z
LAST-MODIFIED:20250729T191526Z
UID:10000951-1753869600-1753873200@yorkshireofedina.com
SUMMARY:Coffee Club
DESCRIPTION:
URL:https://yorkshireofedina.com/event-calendar/coffee-club-53/
LOCATION:TV/ Soda Shop
CATEGORIES:Memory Care
END:VEVENT
BEGIN:VEVENT
DTSTART;TZID=America/Chicago:20250730T110000
DTEND;TZID=America/Chicago:20250730T120000
DTSTAMP:20260419T145354
CREATED:20250630T184536Z
LAST-MODIFIED:20250729T191526Z
UID:10000952-1753873200-1753876800@yorkshireofedina.com
SUMMARY:Exercise
DESCRIPTION:
URL:https://yorkshireofedina.com/event-calendar/exercise-82/
LOCATION:TV/ Soda Shop
CATEGORIES:Memory Care
END:VEVENT
BEGIN:VEVENT
DTSTART;TZID=America/Chicago:20250730T113000
DTEND;TZID=America/Chicago:20250730T123000
DTSTAMP:20260419T145354
CREATED:20250711T190030Z
LAST-MODIFIED:20250729T191526Z
UID:10001095-1753875000-1753878600@yorkshireofedina.com
SUMMARY:Oshibori
DESCRIPTION:
URL:https://yorkshireofedina.com/event-calendar/oshibori-13/
LOCATION:Dining Room
CATEGORIES:Memory Care
END:VEVENT
BEGIN:VEVENT
DTSTART;TZID=America/Chicago:20250730T140000
DTEND;TZID=America/Chicago:20250730T150000
DTSTAMP:20260419T145354
CREATED:20250701T184549Z
LAST-MODIFIED:20250730T191527Z
UID:10000965-1753884000-1753887600@yorkshireofedina.com
SUMMARY:Classroom Experience
DESCRIPTION:
URL:https://yorkshireofedina.com/event-calendar/classroom-experience-10/
LOCATION:Garden Room
CATEGORIES:Memory Care
END:VEVENT
BEGIN:VEVENT
DTSTART;TZID=America/Chicago:20250730T153000
DTEND;TZID=America/Chicago:20250730T163000
DTSTAMP:20260419T145354
CREATED:20250701T184549Z
LAST-MODIFIED:20250730T191527Z
UID:10000966-1753889400-1753893000@yorkshireofedina.com
SUMMARY:Manicure/ Hand Massages
DESCRIPTION:
URL:https://yorkshireofedina.com/event-calendar/manicure-hand-massages-22/
LOCATION:Garden Room
CATEGORIES:Memory Care
END:VEVENT
BEGIN:VEVENT
DTSTART;TZID=America/Chicago:20250730T163000
DTEND;TZID=America/Chicago:20250730T173000
DTSTAMP:20260419T145354
CREATED:20250715T191531Z
LAST-MODIFIED:20250730T191527Z
UID:10001159-1753893000-1753896600@yorkshireofedina.com
SUMMARY:Oshibori
DESCRIPTION:
URL:https://yorkshireofedina.com/event-calendar/oshibori-35/
LOCATION:Dining Room
CATEGORIES:Memory Care
END:VEVENT
BEGIN:VEVENT
DTSTART;TZID=America/Chicago:20250730T180000
DTEND;TZID=America/Chicago:20250730T190000
DTSTAMP:20260419T145354
CREATED:20250701T184549Z
LAST-MODIFIED:20250730T191527Z
UID:10000967-1753898400-1753902000@yorkshireofedina.com
SUMMARY:Yoga with Lisa
DESCRIPTION:
URL:https://yorkshireofedina.com/event-calendar/yoga-with-lisa-28/
LOCATION:TV/ Soda Shop
CATEGORIES:Memory Care
END:VEVENT
BEGIN:VEVENT
DTSTART;TZID=America/Chicago:20250730T184500
DTEND;TZID=America/Chicago:20250730T190000
DTSTAMP:20260419T145354
CREATED:20250701T184549Z
LAST-MODIFIED:20250730T191527Z
UID:10000968-1753901100-1753902000@yorkshireofedina.com
SUMMARY:Armchair Travel
DESCRIPTION:
URL:https://yorkshireofedina.com/event-calendar/armchair-travel-29/
LOCATION:TV/ Soda Shop
CATEGORIES:Memory Care
END:VEVENT
END:VCALENDAR