BEGIN:VCALENDAR
VERSION:2.0
PRODID:-//Yorkshire of Edina - ECPv6.11.2.1//NONSGML v1.0//EN
CALSCALE:GREGORIAN
METHOD:PUBLISH
X-WR-CALNAME:Yorkshire of Edina
X-ORIGINAL-URL:https://yorkshireofedina.com
X-WR-CALDESC:Events for Yorkshire of Edina
REFRESH-INTERVAL;VALUE=DURATION:PT1H
X-Robots-Tag:noindex
X-PUBLISHED-TTL:PT1H
BEGIN:VTIMEZONE
TZID:America/Chicago
BEGIN:DAYLIGHT
TZOFFSETFROM:-0600
TZOFFSETTO:-0500
TZNAME:CDT
DTSTART:20250309T080000
END:DAYLIGHT
BEGIN:STANDARD
TZOFFSETFROM:-0500
TZOFFSETTO:-0600
TZNAME:CST
DTSTART:20251102T070000
END:STANDARD
END:VTIMEZONE
BEGIN:VEVENT
DTSTART;TZID=America/Chicago:20250731T093000
DTEND;TZID=America/Chicago:20250731T103000
DTSTAMP:20260419T131245
CREATED:20250701T184549Z
LAST-MODIFIED:20250730T191528Z
UID:10000969-1753954200-1753957800@yorkshireofedina.com
SUMMARY:Music Relaxation
DESCRIPTION:
URL:https://yorkshireofedina.com/event-calendar/scenic-relaxation-54/
LOCATION:TV/ Soda Shop
CATEGORIES:Memory Care
END:VEVENT
BEGIN:VEVENT
DTSTART;TZID=America/Chicago:20250731T100000
DTEND;TZID=America/Chicago:20250731T110000
DTSTAMP:20260419T131245
CREATED:20250701T184549Z
LAST-MODIFIED:20250730T191528Z
UID:10000970-1753956000-1753959600@yorkshireofedina.com
SUMMARY:Worship Service
DESCRIPTION:
URL:https://yorkshireofedina.com/event-calendar/worship-service-22/
LOCATION:TV/ Soda Shop
CATEGORIES:Memory Care
END:VEVENT
BEGIN:VEVENT
DTSTART;TZID=America/Chicago:20250731T100000
DTEND;TZID=America/Chicago:20250731T110000
DTSTAMP:20260419T131245
CREATED:20250701T184549Z
LAST-MODIFIED:20250730T191528Z
UID:10000971-1753956000-1753959600@yorkshireofedina.com
SUMMARY:Coffee Club
DESCRIPTION:
URL:https://yorkshireofedina.com/event-calendar/coffee-club-54/
LOCATION:TV/ Soda Shop
CATEGORIES:Memory Care
END:VEVENT
BEGIN:VEVENT
DTSTART;TZID=America/Chicago:20250731T110000
DTEND;TZID=America/Chicago:20250731T120000
DTSTAMP:20260419T131245
CREATED:20250701T184549Z
LAST-MODIFIED:20250730T191528Z
UID:10000972-1753959600-1753963200@yorkshireofedina.com
SUMMARY:Exercise
DESCRIPTION:
URL:https://yorkshireofedina.com/event-calendar/exercise-83/
LOCATION:TV/ Soda Shop
CATEGORIES:Memory Care
END:VEVENT
BEGIN:VEVENT
DTSTART;TZID=America/Chicago:20250731T113000
DTEND;TZID=America/Chicago:20250731T123000
DTSTAMP:20260419T131245
CREATED:20250711T190031Z
LAST-MODIFIED:20250730T191528Z
UID:10001096-1753961400-1753965000@yorkshireofedina.com
SUMMARY:Oshibori
DESCRIPTION:
URL:https://yorkshireofedina.com/event-calendar/oshibori-14/
LOCATION:Dining Room
CATEGORIES:Memory Care
END:VEVENT
BEGIN:VEVENT
DTSTART;TZID=America/Chicago:20250731T140000
DTEND;TZID=America/Chicago:20250731T150000
DTSTAMP:20260419T131245
CREATED:20250702T184540Z
LAST-MODIFIED:20250731T191526Z
UID:10000979-1753970400-1753974000@yorkshireofedina.com
SUMMARY:Sing Along\, Dance and Ice Cream Social
DESCRIPTION:
URL:https://yorkshireofedina.com/event-calendar/sing-along-dance-and-ice-cream-socials-10/
LOCATION:TV/ Soda Shop
CATEGORIES:Memory Care
END:VEVENT
BEGIN:VEVENT
DTSTART;TZID=America/Chicago:20250731T150000
DTEND;TZID=America/Chicago:20250731T160000
DTSTAMP:20260419T131245
CREATED:20250702T184540Z
LAST-MODIFIED:20250731T191526Z
UID:10000980-1753974000-1753977600@yorkshireofedina.com
SUMMARY:Trivia
DESCRIPTION:
URL:https://yorkshireofedina.com/event-calendar/trivia-15/
LOCATION:Garden Room
CATEGORIES:Memory Care
END:VEVENT
BEGIN:VEVENT
DTSTART;TZID=America/Chicago:20250731T163000
DTEND;TZID=America/Chicago:20250731T173000
DTSTAMP:20260419T131245
CREATED:20250715T191531Z
LAST-MODIFIED:20250731T191526Z
UID:10001160-1753979400-1753983000@yorkshireofedina.com
SUMMARY:Oshibori
DESCRIPTION:
URL:https://yorkshireofedina.com/event-calendar/oshibori-36/
LOCATION:Dining Room
CATEGORIES:Memory Care
END:VEVENT
BEGIN:VEVENT
DTSTART;TZID=America/Chicago:20250731T180000
DTEND;TZID=America/Chicago:20250731T190000
DTSTAMP:20260419T131245
CREATED:20250702T184540Z
LAST-MODIFIED:20250731T191526Z
UID:10000981-1753984800-1753988400@yorkshireofedina.com
SUMMARY:Sweep Six
DESCRIPTION:
URL:https://yorkshireofedina.com/event-calendar/sweep-six-11/
LOCATION:TV/ Soda Shop
CATEGORIES:Memory Care
END:VEVENT
BEGIN:VEVENT
DTSTART;TZID=America/Chicago:20250731T184500
DTEND;TZID=America/Chicago:20250731T194500
DTSTAMP:20260419T131245
CREATED:20250702T184541Z
LAST-MODIFIED:20250731T191526Z
UID:10000982-1753987500-1753991100@yorkshireofedina.com
SUMMARY:Who Am I?
DESCRIPTION:
URL:https://yorkshireofedina.com/event-calendar/who-am-i-11/
LOCATION:TV/ Soda Shop
CATEGORIES:Memory Care
END:VEVENT
END:VCALENDAR