BEGIN:VCALENDAR
VERSION:2.0
PRODID:-//Yorkshire of Edina - ECPv6.11.2.1//NONSGML v1.0//EN
CALSCALE:GREGORIAN
METHOD:PUBLISH
X-ORIGINAL-URL:https://yorkshireofedina.com
X-WR-CALDESC:Events for Yorkshire of Edina
REFRESH-INTERVAL;VALUE=DURATION:PT1H
X-Robots-Tag:noindex
X-PUBLISHED-TTL:PT1H
BEGIN:VTIMEZONE
TZID:America/Chicago
BEGIN:DAYLIGHT
TZOFFSETFROM:-0600
TZOFFSETTO:-0500
TZNAME:CDT
DTSTART:20250309T080000
END:DAYLIGHT
BEGIN:STANDARD
TZOFFSETFROM:-0500
TZOFFSETTO:-0600
TZNAME:CST
DTSTART:20251102T070000
END:STANDARD
END:VTIMEZONE
BEGIN:VEVENT
DTSTART;TZID=America/Chicago:20250804T093000
DTEND;TZID=America/Chicago:20250804T103000
DTSTAMP:20260419T145349
CREATED:20250705T184532Z
LAST-MODIFIED:20250803T193028Z
UID:10001011-1754299800-1754303400@yorkshireofedina.com
SUMMARY:Music Relaxation
DESCRIPTION:
URL:https://yorkshireofedina.com/event-calendar/scenic-relaxation-56/
LOCATION:TV/ Soda Shop
CATEGORIES:Memory Care
END:VEVENT
BEGIN:VEVENT
DTSTART;TZID=America/Chicago:20250804T100000
DTEND;TZID=America/Chicago:20250804T110000
DTSTAMP:20260419T145349
CREATED:20250705T184532Z
LAST-MODIFIED:20250803T193028Z
UID:10001012-1754301600-1754305200@yorkshireofedina.com
SUMMARY:Coffee Club
DESCRIPTION:
URL:https://yorkshireofedina.com/event-calendar/coffee-club-56/
LOCATION:TV/ Soda Shop
CATEGORIES:Memory Care
END:VEVENT
BEGIN:VEVENT
DTSTART;TZID=America/Chicago:20250804T110000
DTEND;TZID=America/Chicago:20250804T120000
DTSTAMP:20260419T145349
CREATED:20250705T184532Z
LAST-MODIFIED:20250803T193028Z
UID:10001013-1754305200-1754308800@yorkshireofedina.com
SUMMARY:Exercise
DESCRIPTION:
URL:https://yorkshireofedina.com/event-calendar/exercise-87/
LOCATION:TV/ Soda Shop
CATEGORIES:Memory Care
END:VEVENT
BEGIN:VEVENT
DTSTART;TZID=America/Chicago:20250804T113000
DTEND;TZID=America/Chicago:20250804T123000
DTSTAMP:20260419T145349
CREATED:20250711T190032Z
LAST-MODIFIED:20250803T193028Z
UID:10001098-1754307000-1754310600@yorkshireofedina.com
SUMMARY:Oshibori
DESCRIPTION:
URL:https://yorkshireofedina.com/event-calendar/oshibori-16/
LOCATION:Dining Room
CATEGORIES:Memory Care
END:VEVENT
BEGIN:VEVENT
DTSTART;TZID=America/Chicago:20250804T140000
DTEND;TZID=America/Chicago:20250804T153000
DTSTAMP:20260419T145349
CREATED:20250706T184541Z
LAST-MODIFIED:20250804T193027Z
UID:10001018-1754316000-1754321400@yorkshireofedina.com
SUMMARY:Puzzles
DESCRIPTION:
URL:https://yorkshireofedina.com/event-calendar/puzzles-12/
LOCATION:Garden Room
CATEGORIES:Memory Care
END:VEVENT
BEGIN:VEVENT
DTSTART;TZID=America/Chicago:20250804T153000
DTEND;TZID=America/Chicago:20250804T163000
DTSTAMP:20260419T145349
CREATED:20250706T184541Z
LAST-MODIFIED:20250804T193027Z
UID:10001019-1754321400-1754325000@yorkshireofedina.com
SUMMARY:Manicure/ Hand Massages
DESCRIPTION:
URL:https://yorkshireofedina.com/event-calendar/manicure-hand-massages-23/
LOCATION:Garden Room
CATEGORIES:Memory Care
END:VEVENT
BEGIN:VEVENT
DTSTART;TZID=America/Chicago:20250804T163000
DTEND;TZID=America/Chicago:20250804T173000
DTSTAMP:20260419T145349
CREATED:20250715T191532Z
LAST-MODIFIED:20250804T193027Z
UID:10001162-1754325000-1754328600@yorkshireofedina.com
SUMMARY:Oshibori
DESCRIPTION:
URL:https://yorkshireofedina.com/event-calendar/oshibori-38/
LOCATION:Dining Room
CATEGORIES:Memory Care
END:VEVENT
BEGIN:VEVENT
DTSTART;TZID=America/Chicago:20250804T180000
DTEND;TZID=America/Chicago:20250804T190000
DTSTAMP:20260419T145349
CREATED:20250706T184541Z
LAST-MODIFIED:20250804T193027Z
UID:10001020-1754330400-1754334000@yorkshireofedina.com
SUMMARY:Trivia with Suzie
DESCRIPTION:
URL:https://yorkshireofedina.com/event-calendar/trivia-with-suzie-12/
LOCATION:TV/ Soda Shop
CATEGORIES:Memory Care
END:VEVENT
BEGIN:VEVENT
DTSTART;TZID=America/Chicago:20250804T184500
DTEND;TZID=America/Chicago:20250804T193000
DTSTAMP:20260419T145349
CREATED:20250706T184541Z
LAST-MODIFIED:20250804T193027Z
UID:10001021-1754333100-1754335800@yorkshireofedina.com
SUMMARY:Yoga with Suzie
DESCRIPTION:
URL:https://yorkshireofedina.com/event-calendar/bowling-with-suzie-12/
LOCATION:TV/ Soda Shop
CATEGORIES:Memory Care
END:VEVENT
END:VCALENDAR