BEGIN:VCALENDAR
VERSION:2.0
PRODID:-//Yorkshire of Edina - ECPv6.11.2.1//NONSGML v1.0//EN
CALSCALE:GREGORIAN
METHOD:PUBLISH
X-WR-CALNAME:Yorkshire of Edina
X-ORIGINAL-URL:https://yorkshireofedina.com
X-WR-CALDESC:Events for Yorkshire of Edina
REFRESH-INTERVAL;VALUE=DURATION:PT1H
X-Robots-Tag:noindex
X-PUBLISHED-TTL:PT1H
BEGIN:VTIMEZONE
TZID:America/Chicago
BEGIN:DAYLIGHT
TZOFFSETFROM:-0600
TZOFFSETTO:-0500
TZNAME:CDT
DTSTART:20250309T080000
END:DAYLIGHT
BEGIN:STANDARD
TZOFFSETFROM:-0500
TZOFFSETTO:-0600
TZNAME:CST
DTSTART:20251102T070000
END:STANDARD
END:VTIMEZONE
BEGIN:VEVENT
DTSTART;TZID=America/Chicago:20250805T093000
DTEND;TZID=America/Chicago:20250805T103000
DTSTAMP:20260419T145116
CREATED:20250706T184541Z
LAST-MODIFIED:20250804T193027Z
UID:10001022-1754386200-1754389800@yorkshireofedina.com
SUMMARY:Music Relaxation
DESCRIPTION:
URL:https://yorkshireofedina.com/event-calendar/scenic-relaxation-57/
LOCATION:TV/ Soda Shop
CATEGORIES:Memory Care
END:VEVENT
BEGIN:VEVENT
DTSTART;TZID=America/Chicago:20250805T100000
DTEND;TZID=America/Chicago:20250805T110000
DTSTAMP:20260419T145117
CREATED:20250706T184541Z
LAST-MODIFIED:20250804T193027Z
UID:10001023-1754388000-1754391600@yorkshireofedina.com
SUMMARY:Worship Service
DESCRIPTION:
URL:https://yorkshireofedina.com/event-calendar/worship-service-23/
LOCATION:TV/ Soda Shop
CATEGORIES:Memory Care
END:VEVENT
BEGIN:VEVENT
DTSTART;TZID=America/Chicago:20250805T100000
DTEND;TZID=America/Chicago:20250805T110000
DTSTAMP:20260419T145117
CREATED:20250706T184541Z
LAST-MODIFIED:20250804T193027Z
UID:10001024-1754388000-1754391600@yorkshireofedina.com
SUMMARY:Coffee Club
DESCRIPTION:
URL:https://yorkshireofedina.com/event-calendar/coffee-club-57/
LOCATION:TV/ Soda Shop
CATEGORIES:Memory Care
END:VEVENT
BEGIN:VEVENT
DTSTART;TZID=America/Chicago:20250805T110000
DTEND;TZID=America/Chicago:20250805T120000
DTSTAMP:20260419T145117
CREATED:20250706T184541Z
LAST-MODIFIED:20250804T193027Z
UID:10001025-1754391600-1754395200@yorkshireofedina.com
SUMMARY:Exercise
DESCRIPTION:
URL:https://yorkshireofedina.com/event-calendar/exercise-88/
LOCATION:TV/ Soda Shop
CATEGORIES:Memory Care
END:VEVENT
BEGIN:VEVENT
DTSTART;TZID=America/Chicago:20250805T113000
DTEND;TZID=America/Chicago:20250805T123000
DTSTAMP:20260419T145117
CREATED:20250711T190032Z
LAST-MODIFIED:20250804T193027Z
UID:10001099-1754393400-1754397000@yorkshireofedina.com
SUMMARY:Oshibori
DESCRIPTION:
URL:https://yorkshireofedina.com/event-calendar/oshibori-17/
LOCATION:Dining Room
CATEGORIES:Memory Care
END:VEVENT
BEGIN:VEVENT
DTSTART;TZID=America/Chicago:20250805T130000
DTEND;TZID=America/Chicago:20250805T140000
DTSTAMP:20260419T145117
CREATED:20250706T184541Z
LAST-MODIFIED:20250804T220025Z
UID:10001026-1754398800-1754402400@yorkshireofedina.com
SUMMARY:Grip Games Competition
DESCRIPTION:
URL:https://yorkshireofedina.com/event-calendar/grip-games-competition-3/
LOCATION:Community Room
CATEGORIES:Assisted Living,Independent Living,Memory Care
END:VEVENT
BEGIN:VEVENT
DTSTART;TZID=America/Chicago:20250805T140000
DTEND;TZID=America/Chicago:20250805T150000
DTSTAMP:20260419T145117
CREATED:20250707T184601Z
LAST-MODIFIED:20250805T193040Z
UID:10001032-1754402400-1754406000@yorkshireofedina.com
SUMMARY:Bingo
DESCRIPTION:
URL:https://yorkshireofedina.com/event-calendar/bingo-41/
LOCATION:Garden Room
CATEGORIES:Memory Care
END:VEVENT
BEGIN:VEVENT
DTSTART;TZID=America/Chicago:20250805T153000
DTEND;TZID=America/Chicago:20250805T163000
DTSTAMP:20260419T145117
CREATED:20250707T184601Z
LAST-MODIFIED:20250805T193040Z
UID:10001033-1754407800-1754411400@yorkshireofedina.com
SUMMARY:Cookie Baking/ Popcorn Social
DESCRIPTION:
URL:https://yorkshireofedina.com/event-calendar/cookie-baking-popcorn-social-6/
LOCATION:Garden Room
CATEGORIES:Memory Care
END:VEVENT
BEGIN:VEVENT
DTSTART;TZID=America/Chicago:20250805T163000
DTEND;TZID=America/Chicago:20250805T173000
DTSTAMP:20260419T145117
CREATED:20250715T191533Z
LAST-MODIFIED:20250805T193040Z
UID:10001163-1754411400-1754415000@yorkshireofedina.com
SUMMARY:Oshibori
DESCRIPTION:
URL:https://yorkshireofedina.com/event-calendar/oshibori-39/
LOCATION:Dining Room
CATEGORIES:Memory Care
END:VEVENT
BEGIN:VEVENT
DTSTART;TZID=America/Chicago:20250805T170000
DTEND;TZID=America/Chicago:20250805T180000
DTSTAMP:20260419T145117
CREATED:20250707T184601Z
LAST-MODIFIED:20250721T214554Z
UID:10001034-1754413200-1754416800@yorkshireofedina.com
SUMMARY:Family Council
DESCRIPTION:1st Tuesday of Feb and August every year at 5pm
URL:https://yorkshireofedina.com/event-calendar/family-council/
LOCATION:Community Room
CATEGORIES:Assisted Living,Independent Living,Memory Care
END:VEVENT
BEGIN:VEVENT
DTSTART;TZID=America/Chicago:20250805T180000
DTEND;TZID=America/Chicago:20250805T190000
DTSTAMP:20260419T145117
CREATED:20250707T184601Z
LAST-MODIFIED:20250805T193040Z
UID:10001035-1754416800-1754420400@yorkshireofedina.com
SUMMARY:Arts and Crafts with Suzie
DESCRIPTION:
URL:https://yorkshireofedina.com/event-calendar/arts-and-crafts-with-suzie-12/
CATEGORIES:Memory Care
END:VEVENT
BEGIN:VEVENT
DTSTART;TZID=America/Chicago:20250805T184500
DTEND;TZID=America/Chicago:20250805T194500
DTSTAMP:20260419T145117
CREATED:20250707T184601Z
LAST-MODIFIED:20250805T193040Z
UID:10001036-1754419500-1754423100@yorkshireofedina.com
SUMMARY:Puzzles with Suzie
DESCRIPTION:
URL:https://yorkshireofedina.com/event-calendar/puzzles-with-suzie-12/
CATEGORIES:Memory Care
END:VEVENT
END:VCALENDAR