BEGIN:VCALENDAR
VERSION:2.0
PRODID:-//Yorkshire of Edina - ECPv6.11.2.1//NONSGML v1.0//EN
CALSCALE:GREGORIAN
METHOD:PUBLISH
X-ORIGINAL-URL:https://yorkshireofedina.com
X-WR-CALDESC:Events for Yorkshire of Edina
REFRESH-INTERVAL;VALUE=DURATION:PT1H
X-Robots-Tag:noindex
X-PUBLISHED-TTL:PT1H
BEGIN:VTIMEZONE
TZID:America/Chicago
BEGIN:DAYLIGHT
TZOFFSETFROM:-0600
TZOFFSETTO:-0500
TZNAME:CDT
DTSTART:20250309T080000
END:DAYLIGHT
BEGIN:STANDARD
TZOFFSETFROM:-0500
TZOFFSETTO:-0600
TZNAME:CST
DTSTART:20251102T070000
END:STANDARD
END:VTIMEZONE
BEGIN:VEVENT
DTSTART;TZID=America/Chicago:20250807T093000
DTEND;TZID=America/Chicago:20250807T103000
DTSTAMP:20260419T145354
CREATED:20250708T184717Z
LAST-MODIFIED:20250806T193028Z
UID:10001047-1754559000-1754562600@yorkshireofedina.com
SUMMARY:Music Relaxation
DESCRIPTION:
URL:https://yorkshireofedina.com/event-calendar/music-relaxation/
LOCATION:TV/ Soda Shop
CATEGORIES:Memory Care
END:VEVENT
BEGIN:VEVENT
DTSTART;TZID=America/Chicago:20250807T100000
DTEND;TZID=America/Chicago:20250807T110000
DTSTAMP:20260419T145354
CREATED:20250708T184717Z
LAST-MODIFIED:20250806T193028Z
UID:10001048-1754560800-1754564400@yorkshireofedina.com
SUMMARY:Worship Service
DESCRIPTION:
URL:https://yorkshireofedina.com/event-calendar/worship-service-24/
LOCATION:TV/ Soda Shop
CATEGORIES:Memory Care
END:VEVENT
BEGIN:VEVENT
DTSTART;TZID=America/Chicago:20250807T100000
DTEND;TZID=America/Chicago:20250807T110000
DTSTAMP:20260419T145354
CREATED:20250708T184717Z
LAST-MODIFIED:20250806T193028Z
UID:10001049-1754560800-1754564400@yorkshireofedina.com
SUMMARY:Coffee Club
DESCRIPTION:
URL:https://yorkshireofedina.com/event-calendar/coffee-club-59/
LOCATION:TV/ Soda Shop
CATEGORIES:Memory Care
END:VEVENT
BEGIN:VEVENT
DTSTART;TZID=America/Chicago:20250807T104500
DTEND;TZID=America/Chicago:20250807T114500
DTSTAMP:20260419T145354
CREATED:20250708T184717Z
LAST-MODIFIED:20250806T193028Z
UID:10001050-1754563500-1754567100@yorkshireofedina.com
SUMMARY:Animal Therapy - Howie & Piper
DESCRIPTION:
URL:https://yorkshireofedina.com/event-calendar/animal-therapy-howie-piper-4/
LOCATION:TV/ Soda Shop
CATEGORIES:Memory Care
END:VEVENT
BEGIN:VEVENT
DTSTART;TZID=America/Chicago:20250807T110000
DTEND;TZID=America/Chicago:20250807T120000
DTSTAMP:20260419T145354
CREATED:20250708T184717Z
LAST-MODIFIED:20250806T193028Z
UID:10001051-1754564400-1754568000@yorkshireofedina.com
SUMMARY:Exercise
DESCRIPTION:
URL:https://yorkshireofedina.com/event-calendar/exercise-90/
LOCATION:TV/ Soda Shop
CATEGORIES:Memory Care
END:VEVENT
BEGIN:VEVENT
DTSTART;TZID=America/Chicago:20250807T113000
DTEND;TZID=America/Chicago:20250807T123000
DTSTAMP:20260419T145354
CREATED:20250711T190033Z
LAST-MODIFIED:20250806T193027Z
UID:10001101-1754566200-1754569800@yorkshireofedina.com
SUMMARY:Oshibori
DESCRIPTION:
URL:https://yorkshireofedina.com/event-calendar/oshibori-19/
LOCATION:Dining Room
CATEGORIES:Memory Care
END:VEVENT
BEGIN:VEVENT
DTSTART;TZID=America/Chicago:20250807T140000
DTEND;TZID=America/Chicago:20250807T150000
DTSTAMP:20260419T145354
CREATED:20250708T191811Z
LAST-MODIFIED:20250807T193038Z
UID:10001057-1754575200-1754578800@yorkshireofedina.com
SUMMARY:Live Virtual Programming: The Incredible Life of John B. Jones
DESCRIPTION:
URL:https://yorkshireofedina.com/event-calendar/live-virtual-programming-3/
LOCATION:Community Room
CATEGORIES:Assisted Living,Independent Living,Memory Care
END:VEVENT
BEGIN:VEVENT
DTSTART;TZID=America/Chicago:20250807T140000
DTEND;TZID=America/Chicago:20250807T150000
DTSTAMP:20260419T145354
CREATED:20250709T184606Z
LAST-MODIFIED:20250731T191528Z
UID:10001060-1754575200-1754578800@yorkshireofedina.com
SUMMARY:Sing Along\, Dance and Ice Cream Social
DESCRIPTION:
URL:https://yorkshireofedina.com/event-calendar/sing-along-dance-and-ice-cream-socials-11/
LOCATION:TV/ Soda Shop
CATEGORIES:Memory Care
END:VEVENT
BEGIN:VEVENT
DTSTART;TZID=America/Chicago:20250807T150000
DTEND;TZID=America/Chicago:20250807T160000
DTSTAMP:20260419T145354
CREATED:20250709T184606Z
LAST-MODIFIED:20250807T193038Z
UID:10001061-1754578800-1754582400@yorkshireofedina.com
SUMMARY:Trivia
DESCRIPTION:
URL:https://yorkshireofedina.com/event-calendar/trivia-17/
LOCATION:Garden Room
CATEGORIES:Memory Care
END:VEVENT
BEGIN:VEVENT
DTSTART;TZID=America/Chicago:20250807T163000
DTEND;TZID=America/Chicago:20250807T173000
DTSTAMP:20260419T145354
CREATED:20250715T191534Z
LAST-MODIFIED:20250807T193038Z
UID:10001165-1754584200-1754587800@yorkshireofedina.com
SUMMARY:Oshibori
DESCRIPTION:
URL:https://yorkshireofedina.com/event-calendar/oshibori-41/
LOCATION:Dining Room
CATEGORIES:Memory Care
END:VEVENT
BEGIN:VEVENT
DTSTART;TZID=America/Chicago:20250807T180000
DTEND;TZID=America/Chicago:20250807T190000
DTSTAMP:20260419T145354
CREATED:20250709T184606Z
LAST-MODIFIED:20250807T193038Z
UID:10001062-1754589600-1754593200@yorkshireofedina.com
SUMMARY:Activity with Aides
DESCRIPTION:
URL:https://yorkshireofedina.com/event-calendar/sweep-six-12/
LOCATION:TV/ Soda Shop
CATEGORIES:Memory Care
END:VEVENT
BEGIN:VEVENT
DTSTART;TZID=America/Chicago:20250807T184500
DTEND;TZID=America/Chicago:20250807T194500
DTSTAMP:20260419T145354
CREATED:20250709T184606Z
LAST-MODIFIED:20250807T193038Z
UID:10001063-1754592300-1754595900@yorkshireofedina.com
SUMMARY:Activity with Aides
DESCRIPTION:
URL:https://yorkshireofedina.com/event-calendar/who-am-i-12/
LOCATION:TV/ Soda Shop
CATEGORIES:Memory Care
END:VEVENT
END:VCALENDAR