BEGIN:VCALENDAR
VERSION:2.0
PRODID:-//Yorkshire of Edina - ECPv6.11.2.1//NONSGML v1.0//EN
CALSCALE:GREGORIAN
METHOD:PUBLISH
X-ORIGINAL-URL:https://yorkshireofedina.com
X-WR-CALDESC:Events for Yorkshire of Edina
REFRESH-INTERVAL;VALUE=DURATION:PT1H
X-Robots-Tag:noindex
X-PUBLISHED-TTL:PT1H
BEGIN:VTIMEZONE
TZID:America/Chicago
BEGIN:DAYLIGHT
TZOFFSETFROM:-0600
TZOFFSETTO:-0500
TZNAME:CDT
DTSTART:20250309T080000
END:DAYLIGHT
BEGIN:STANDARD
TZOFFSETFROM:-0500
TZOFFSETTO:-0600
TZNAME:CST
DTSTART:20251102T070000
END:STANDARD
END:VTIMEZONE
BEGIN:VEVENT
DTSTART;TZID=America/Chicago:20250808T093000
DTEND;TZID=America/Chicago:20250808T103000
DTSTAMP:20260419T145356
CREATED:20250709T184606Z
LAST-MODIFIED:20250807T193038Z
UID:10001064-1754645400-1754649000@yorkshireofedina.com
SUMMARY:Music Relaxation
DESCRIPTION:
URL:https://yorkshireofedina.com/event-calendar/music-relaxation-2/
LOCATION:TV/ Soda Shop
CATEGORIES:Memory Care
END:VEVENT
BEGIN:VEVENT
DTSTART;TZID=America/Chicago:20250808T100000
DTEND;TZID=America/Chicago:20250808T110000
DTSTAMP:20260419T145356
CREATED:20250709T184607Z
LAST-MODIFIED:20250807T193038Z
UID:10001065-1754647200-1754650800@yorkshireofedina.com
SUMMARY:Coffee Club
DESCRIPTION:
URL:https://yorkshireofedina.com/event-calendar/coffee-club-60/
LOCATION:TV/ Soda Shop
CATEGORIES:Memory Care
END:VEVENT
BEGIN:VEVENT
DTSTART;TZID=America/Chicago:20250808T103000
DTEND;TZID=America/Chicago:20250808T113000
DTSTAMP:20260419T145356
CREATED:20250709T184607Z
LAST-MODIFIED:20250807T193038Z
UID:10001066-1754649000-1754652600@yorkshireofedina.com
SUMMARY:Devotion / Spiritual Sing Along
DESCRIPTION:
URL:https://yorkshireofedina.com/event-calendar/devotion-spiritual-sing-along-12/
LOCATION:TV/ Soda Shop
CATEGORIES:Memory Care
END:VEVENT
BEGIN:VEVENT
DTSTART;TZID=America/Chicago:20250808T110000
DTEND;TZID=America/Chicago:20250808T120000
DTSTAMP:20260419T145356
CREATED:20250709T184607Z
LAST-MODIFIED:20250807T193038Z
UID:10001067-1754650800-1754654400@yorkshireofedina.com
SUMMARY:Exercise
DESCRIPTION:
URL:https://yorkshireofedina.com/event-calendar/exercise-91/
LOCATION:TV/ Soda Shop
CATEGORIES:Memory Care
END:VEVENT
BEGIN:VEVENT
DTSTART;TZID=America/Chicago:20250808T113000
DTEND;TZID=America/Chicago:20250808T123000
DTSTAMP:20260419T145356
CREATED:20250711T190033Z
LAST-MODIFIED:20250807T193038Z
UID:10001102-1754652600-1754656200@yorkshireofedina.com
SUMMARY:Oshibori
DESCRIPTION:
URL:https://yorkshireofedina.com/event-calendar/oshibori-20/
LOCATION:Dining Room
CATEGORIES:Memory Care
END:VEVENT
BEGIN:VEVENT
DTSTART;TZID=America/Chicago:20250808T133000
DTEND;TZID=America/Chicago:20250808T143000
DTSTAMP:20260419T145356
CREATED:20250709T184607Z
LAST-MODIFIED:20250807T193038Z
UID:10001068-1754659800-1754663400@yorkshireofedina.com
SUMMARY:Live Music (Jim K @ 1:30)/ Happy Hour
DESCRIPTION:
URL:https://yorkshireofedina.com/event-calendar/live-music-jim-k-130-happy-hour-2/
LOCATION:TV/ Soda Shop
CATEGORIES:Memory Care
END:VEVENT
BEGIN:VEVENT
DTSTART;TZID=America/Chicago:20250808T163000
DTEND;TZID=America/Chicago:20250808T173000
DTSTAMP:20260419T145356
CREATED:20250715T191534Z
LAST-MODIFIED:20250808T193026Z
UID:10001166-1754670600-1754674200@yorkshireofedina.com
SUMMARY:Oshibori
DESCRIPTION:
URL:https://yorkshireofedina.com/event-calendar/oshibori-42/
LOCATION:Dining Room
CATEGORIES:Memory Care
END:VEVENT
BEGIN:VEVENT
DTSTART;TZID=America/Chicago:20250808T180000
DTEND;TZID=America/Chicago:20250808T184500
DTSTAMP:20260419T145356
CREATED:20250710T190037Z
LAST-MODIFIED:20250808T193026Z
UID:10001075-1754676000-1754678700@yorkshireofedina.com
SUMMARY:Activity with Aides
DESCRIPTION:
URL:https://yorkshireofedina.com/event-calendar/yoga-with-lisa-31/
LOCATION:TV/ Soda Shop
CATEGORIES:Memory Care
END:VEVENT
BEGIN:VEVENT
DTSTART;TZID=America/Chicago:20250808T184500
DTEND;TZID=America/Chicago:20250808T194500
DTSTAMP:20260419T145356
CREATED:20250710T190037Z
LAST-MODIFIED:20250808T193026Z
UID:10001076-1754678700-1754682300@yorkshireofedina.com
SUMMARY:Activity with Aides
DESCRIPTION:
URL:https://yorkshireofedina.com/event-calendar/armchair-travel-32/
LOCATION:TV/Soda Shop
CATEGORIES:Memory Care
END:VEVENT
END:VCALENDAR