BEGIN:VCALENDAR
VERSION:2.0
PRODID:-//Yorkshire of Edina - ECPv6.11.2.1//NONSGML v1.0//EN
CALSCALE:GREGORIAN
METHOD:PUBLISH
X-WR-CALNAME:Yorkshire of Edina
X-ORIGINAL-URL:https://yorkshireofedina.com
X-WR-CALDESC:Events for Yorkshire of Edina
REFRESH-INTERVAL;VALUE=DURATION:PT1H
X-Robots-Tag:noindex
X-PUBLISHED-TTL:PT1H
BEGIN:VTIMEZONE
TZID:America/Chicago
BEGIN:DAYLIGHT
TZOFFSETFROM:-0600
TZOFFSETTO:-0500
TZNAME:CDT
DTSTART:20250309T080000
END:DAYLIGHT
BEGIN:STANDARD
TZOFFSETFROM:-0500
TZOFFSETTO:-0600
TZNAME:CST
DTSTART:20251102T070000
END:STANDARD
END:VTIMEZONE
BEGIN:VEVENT
DTSTART;TZID=America/Chicago:20250814T093000
DTEND;TZID=America/Chicago:20250814T103000
DTSTAMP:20260419T145116
CREATED:20250715T191536Z
LAST-MODIFIED:20250813T201557Z
UID:10001174-1755163800-1755167400@yorkshireofedina.com
SUMMARY:Music Relaxation
DESCRIPTION:
URL:https://yorkshireofedina.com/event-calendar/music-relaxation-6/
LOCATION:TV/ Soda Shop
CATEGORIES:Memory Care
END:VEVENT
BEGIN:VEVENT
DTSTART;TZID=America/Chicago:20250814T100000
DTEND;TZID=America/Chicago:20250814T110000
DTSTAMP:20260419T145116
CREATED:20250715T191536Z
LAST-MODIFIED:20250813T201557Z
UID:10001175-1755165600-1755169200@yorkshireofedina.com
SUMMARY:Worship Service
DESCRIPTION:
URL:https://yorkshireofedina.com/event-calendar/worship-service-26/
LOCATION:TV/ Soda Shop
CATEGORIES:Memory Care
END:VEVENT
BEGIN:VEVENT
DTSTART;TZID=America/Chicago:20250814T100000
DTEND;TZID=America/Chicago:20250814T110000
DTSTAMP:20260419T145116
CREATED:20250715T191536Z
LAST-MODIFIED:20250813T201557Z
UID:10001176-1755165600-1755169200@yorkshireofedina.com
SUMMARY:Coffee Club
DESCRIPTION:
URL:https://yorkshireofedina.com/event-calendar/coffee-club-64/
LOCATION:TV/ Soda Shop
CATEGORIES:Memory Care
END:VEVENT
BEGIN:VEVENT
DTSTART;TZID=America/Chicago:20250814T104500
DTEND;TZID=America/Chicago:20250814T114500
DTSTAMP:20260419T145116
CREATED:20250715T191536Z
LAST-MODIFIED:20250813T201557Z
UID:10001177-1755168300-1755171900@yorkshireofedina.com
SUMMARY:Catholic Communion
DESCRIPTION:
URL:https://yorkshireofedina.com/event-calendar/catholic-communion-11/
LOCATION:TV/ Soda Shop
CATEGORIES:Memory Care
END:VEVENT
BEGIN:VEVENT
DTSTART;TZID=America/Chicago:20250814T110000
DTEND;TZID=America/Chicago:20250814T120000
DTSTAMP:20260419T145116
CREATED:20250715T191536Z
LAST-MODIFIED:20250813T201557Z
UID:10001178-1755169200-1755172800@yorkshireofedina.com
SUMMARY:Exercise
DESCRIPTION:
URL:https://yorkshireofedina.com/event-calendar/exercise-98/
LOCATION:TV/ Soda Shop
CATEGORIES:Memory Care
END:VEVENT
BEGIN:VEVENT
DTSTART;TZID=America/Chicago:20250814T113000
DTEND;TZID=America/Chicago:20250814T123000
DTSTAMP:20260419T145116
CREATED:20250715T191536Z
LAST-MODIFIED:20250813T201557Z
UID:10001179-1755171000-1755174600@yorkshireofedina.com
SUMMARY:Oshibori
DESCRIPTION:
URL:https://yorkshireofedina.com/event-calendar/oshibori-46/
LOCATION:Dining Room
CATEGORIES:Memory Care
END:VEVENT
BEGIN:VEVENT
DTSTART;TZID=America/Chicago:20250814T140000
DTEND;TZID=America/Chicago:20250814T150000
DTSTAMP:20260419T145116
CREATED:20250715T191536Z
LAST-MODIFIED:20250813T201553Z
UID:10001180-1755180000-1755183600@yorkshireofedina.com
SUMMARY:Sing Along\, Dance and Ice Cream Social
DESCRIPTION:
URL:https://yorkshireofedina.com/event-calendar/sing-along-dance-and-ice-cream-social/
LOCATION:TV/ Soda Shop
CATEGORIES:Memory Care
END:VEVENT
BEGIN:VEVENT
DTSTART;TZID=America/Chicago:20250814T150000
DTEND;TZID=America/Chicago:20250814T160000
DTSTAMP:20260419T145116
CREATED:20250716T191537Z
LAST-MODIFIED:20250814T201546Z
UID:10001190-1755183600-1755187200@yorkshireofedina.com
SUMMARY:Trivia
DESCRIPTION:
URL:https://yorkshireofedina.com/event-calendar/trivia-18/
LOCATION:Garden Room
CATEGORIES:Memory Care
END:VEVENT
BEGIN:VEVENT
DTSTART;TZID=America/Chicago:20250814T163000
DTEND;TZID=America/Chicago:20250814T173000
DTSTAMP:20260419T145116
CREATED:20250716T191537Z
LAST-MODIFIED:20250814T201546Z
UID:10001191-1755189000-1755192600@yorkshireofedina.com
SUMMARY:Oshibori
DESCRIPTION:
URL:https://yorkshireofedina.com/event-calendar/oshibori-47/
LOCATION:Dining Room
CATEGORIES:Memory Care
END:VEVENT
BEGIN:VEVENT
DTSTART;TZID=America/Chicago:20250814T180000
DTEND;TZID=America/Chicago:20250814T190000
DTSTAMP:20260419T145116
CREATED:20250716T191537Z
LAST-MODIFIED:20250814T201546Z
UID:10001192-1755194400-1755198000@yorkshireofedina.com
SUMMARY:Sweep Six
DESCRIPTION:
URL:https://yorkshireofedina.com/event-calendar/sweep-six-13/
LOCATION:TV/ Soda Shop
CATEGORIES:Memory Care
END:VEVENT
BEGIN:VEVENT
DTSTART;TZID=America/Chicago:20250814T184500
DTEND;TZID=America/Chicago:20250814T194500
DTSTAMP:20260419T145116
CREATED:20250716T191537Z
LAST-MODIFIED:20250814T201546Z
UID:10001193-1755197100-1755200700@yorkshireofedina.com
SUMMARY:Who Am I?
DESCRIPTION:
URL:https://yorkshireofedina.com/event-calendar/who-am-i-13/
LOCATION:TV/ Soda Shop
CATEGORIES:Memory Care
END:VEVENT
END:VCALENDAR