BEGIN:VCALENDAR
VERSION:2.0
PRODID:-//Yorkshire of Edina - ECPv6.11.2.1//NONSGML v1.0//EN
CALSCALE:GREGORIAN
METHOD:PUBLISH
X-ORIGINAL-URL:https://yorkshireofedina.com
X-WR-CALDESC:Events for Yorkshire of Edina
REFRESH-INTERVAL;VALUE=DURATION:PT1H
X-Robots-Tag:noindex
X-PUBLISHED-TTL:PT1H
BEGIN:VTIMEZONE
TZID:America/Chicago
BEGIN:DAYLIGHT
TZOFFSETFROM:-0600
TZOFFSETTO:-0500
TZNAME:CDT
DTSTART:20250309T080000
END:DAYLIGHT
BEGIN:STANDARD
TZOFFSETFROM:-0500
TZOFFSETTO:-0600
TZNAME:CST
DTSTART:20251102T070000
END:STANDARD
END:VTIMEZONE
BEGIN:VEVENT
DTSTART;TZID=America/Chicago:20250815T093000
DTEND;TZID=America/Chicago:20250815T103000
DTSTAMP:20260419T145559
CREATED:20250716T191538Z
LAST-MODIFIED:20250814T201546Z
UID:10001194-1755250200-1755253800@yorkshireofedina.com
SUMMARY:Music Relaxation
DESCRIPTION:
URL:https://yorkshireofedina.com/event-calendar/music-relaxation-7/
LOCATION:TV/ Soda Shop
CATEGORIES:Memory Care
END:VEVENT
BEGIN:VEVENT
DTSTART;TZID=America/Chicago:20250815T100000
DTEND;TZID=America/Chicago:20250815T110000
DTSTAMP:20260419T145559
CREATED:20250716T191538Z
LAST-MODIFIED:20250814T201546Z
UID:10001195-1755252000-1755255600@yorkshireofedina.com
SUMMARY:Coffee Club
DESCRIPTION:
URL:https://yorkshireofedina.com/event-calendar/coffee-club-65/
LOCATION:TV/ Soda Shop
CATEGORIES:Memory Care
END:VEVENT
BEGIN:VEVENT
DTSTART;TZID=America/Chicago:20250815T103000
DTEND;TZID=America/Chicago:20250815T113000
DTSTAMP:20260419T145559
CREATED:20250716T191538Z
LAST-MODIFIED:20250814T201546Z
UID:10001196-1755253800-1755257400@yorkshireofedina.com
SUMMARY:Devotion / Spiritual Sing Along
DESCRIPTION:
URL:https://yorkshireofedina.com/event-calendar/devotion-spiritual-sing-along-13/
LOCATION:TV/ Soda Shop
CATEGORIES:Memory Care
END:VEVENT
BEGIN:VEVENT
DTSTART;TZID=America/Chicago:20250815T110000
DTEND;TZID=America/Chicago:20250815T120000
DTSTAMP:20260419T145559
CREATED:20250716T191538Z
LAST-MODIFIED:20250814T201546Z
UID:10001197-1755255600-1755259200@yorkshireofedina.com
SUMMARY:Exercise
DESCRIPTION:
URL:https://yorkshireofedina.com/event-calendar/exercise-99/
LOCATION:TV/ Soda Shop
CATEGORIES:Memory Care
END:VEVENT
BEGIN:VEVENT
DTSTART;TZID=America/Chicago:20250815T113000
DTEND;TZID=America/Chicago:20250815T123000
DTSTAMP:20260419T145559
CREATED:20250716T191538Z
LAST-MODIFIED:20250814T201546Z
UID:10001198-1755257400-1755261000@yorkshireofedina.com
SUMMARY:Oshibori
DESCRIPTION:
URL:https://yorkshireofedina.com/event-calendar/oshibori-48/
LOCATION:Dining Room
CATEGORIES:Memory Care
END:VEVENT
BEGIN:VEVENT
DTSTART;TZID=America/Chicago:20250815T134500
DTEND;TZID=America/Chicago:20250815T144500
DTSTAMP:20260419T145559
CREATED:20250716T191538Z
LAST-MODIFIED:20250814T201546Z
UID:10001199-1755265500-1755269100@yorkshireofedina.com
SUMMARY:Live Music/ Happy Hour
DESCRIPTION:
URL:https://yorkshireofedina.com/event-calendar/live-music-happy-hour-11/
LOCATION:TV/ Soda Shop
CATEGORIES:Memory Care
END:VEVENT
BEGIN:VEVENT
DTSTART;TZID=America/Chicago:20250815T163000
DTEND;TZID=America/Chicago:20250815T173000
DTSTAMP:20260419T145559
CREATED:20250717T191534Z
LAST-MODIFIED:20250815T201736Z
UID:10001206-1755275400-1755279000@yorkshireofedina.com
SUMMARY:Oshibori
DESCRIPTION:
URL:https://yorkshireofedina.com/event-calendar/oshibori-49/
LOCATION:Dining Room
CATEGORIES:Memory Care
END:VEVENT
BEGIN:VEVENT
DTSTART;TZID=America/Chicago:20250815T180000
DTEND;TZID=America/Chicago:20250815T184500
DTSTAMP:20260419T145559
CREATED:20250717T191534Z
LAST-MODIFIED:20250815T201736Z
UID:10001207-1755280800-1755283500@yorkshireofedina.com
SUMMARY:Yoga with Lisa
DESCRIPTION:
URL:https://yorkshireofedina.com/event-calendar/yoga-with-lisa-34/
LOCATION:TV/ Soda Shop
CATEGORIES:Memory Care
END:VEVENT
BEGIN:VEVENT
DTSTART;TZID=America/Chicago:20250815T184500
DTEND;TZID=America/Chicago:20250815T194500
DTSTAMP:20260419T145559
CREATED:20250717T191534Z
LAST-MODIFIED:20250815T201736Z
UID:10001208-1755283500-1755287100@yorkshireofedina.com
SUMMARY:Armchair Travel
DESCRIPTION:
URL:https://yorkshireofedina.com/event-calendar/armchair-travel-35/
LOCATION:TV/Soda Shop
CATEGORIES:Memory Care
END:VEVENT
END:VCALENDAR