BEGIN:VCALENDAR
VERSION:2.0
PRODID:-//Yorkshire of Edina - ECPv6.11.2.1//NONSGML v1.0//EN
CALSCALE:GREGORIAN
METHOD:PUBLISH
X-ORIGINAL-URL:https://yorkshireofedina.com
X-WR-CALDESC:Events for Yorkshire of Edina
REFRESH-INTERVAL;VALUE=DURATION:PT1H
X-Robots-Tag:noindex
X-PUBLISHED-TTL:PT1H
BEGIN:VTIMEZONE
TZID:America/Chicago
BEGIN:DAYLIGHT
TZOFFSETFROM:-0600
TZOFFSETTO:-0500
TZNAME:CDT
DTSTART:20250309T080000
END:DAYLIGHT
BEGIN:STANDARD
TZOFFSETFROM:-0500
TZOFFSETTO:-0600
TZNAME:CST
DTSTART:20251102T070000
END:STANDARD
END:VTIMEZONE
BEGIN:VEVENT
DTSTART;TZID=America/Chicago:20250816T104500
DTEND;TZID=America/Chicago:20250816T114500
DTSTAMP:20260419T145513
CREATED:20250717T191534Z
LAST-MODIFIED:20250815T201736Z
UID:10001209-1755341100-1755344700@yorkshireofedina.com
SUMMARY:Exercise
DESCRIPTION:
URL:https://yorkshireofedina.com/event-calendar/exercise-100/
LOCATION:TV/ Soda Shop
CATEGORIES:Memory Care
END:VEVENT
BEGIN:VEVENT
DTSTART;TZID=America/Chicago:20250816T143000
DTEND;TZID=America/Chicago:20250816T153000
DTSTAMP:20260419T145513
CREATED:20250718T191535Z
LAST-MODIFIED:20250816T201621Z
UID:10001218-1755354600-1755358200@yorkshireofedina.com
SUMMARY:Sweep Six with Suzie
DESCRIPTION:
URL:https://yorkshireofedina.com/event-calendar/painting-with-suzie-7/
LOCATION:Garden Room
CATEGORIES:Memory Care
END:VEVENT
BEGIN:VEVENT
DTSTART;TZID=America/Chicago:20250816T153000
DTEND;TZID=America/Chicago:20250816T163000
DTSTAMP:20260419T145513
CREATED:20250718T191536Z
LAST-MODIFIED:20250816T201621Z
UID:10001219-1755358200-1755361800@yorkshireofedina.com
SUMMARY:Painting with Suzie
DESCRIPTION:
URL:https://yorkshireofedina.com/event-calendar/sweep-six-with-suzie-7/
LOCATION:Garden Room
CATEGORIES:Memory Care
END:VEVENT
END:VCALENDAR