BEGIN:VCALENDAR
VERSION:2.0
PRODID:-//Yorkshire of Edina - ECPv6.11.2.1//NONSGML v1.0//EN
CALSCALE:GREGORIAN
METHOD:PUBLISH
X-ORIGINAL-URL:https://yorkshireofedina.com
X-WR-CALDESC:Events for Yorkshire of Edina
REFRESH-INTERVAL;VALUE=DURATION:PT1H
X-Robots-Tag:noindex
X-PUBLISHED-TTL:PT1H
BEGIN:VTIMEZONE
TZID:America/Chicago
BEGIN:DAYLIGHT
TZOFFSETFROM:-0600
TZOFFSETTO:-0500
TZNAME:CDT
DTSTART:20250309T080000
END:DAYLIGHT
BEGIN:STANDARD
TZOFFSETFROM:-0500
TZOFFSETTO:-0600
TZNAME:CST
DTSTART:20251102T070000
END:STANDARD
END:VTIMEZONE
BEGIN:VEVENT
DTSTART;TZID=America/Chicago:20250902T093000
DTEND;TZID=America/Chicago:20250902T103000
DTSTAMP:20260419T145558
CREATED:20250803T193037Z
LAST-MODIFIED:20250901T204526Z
UID:10001439-1756805400-1756809000@yorkshireofedina.com
SUMMARY:Music Relaxation
DESCRIPTION:
URL:https://yorkshireofedina.com/event-calendar/music-relaxation-19/
LOCATION:TV/ Soda Shop
CATEGORIES:Memory Care
END:VEVENT
BEGIN:VEVENT
DTSTART;TZID=America/Chicago:20250902T100000
DTEND;TZID=America/Chicago:20250902T110000
DTSTAMP:20260419T145558
CREATED:20250803T193037Z
LAST-MODIFIED:20250901T204526Z
UID:10001440-1756807200-1756810800@yorkshireofedina.com
SUMMARY:Worship Service
DESCRIPTION:
URL:https://yorkshireofedina.com/event-calendar/worship-service-31/
LOCATION:TV/ Soda Shop
CATEGORIES:Memory Care
END:VEVENT
BEGIN:VEVENT
DTSTART;TZID=America/Chicago:20250902T100000
DTEND;TZID=America/Chicago:20250902T110000
DTSTAMP:20260419T145558
CREATED:20250803T193037Z
LAST-MODIFIED:20250901T204526Z
UID:10001441-1756807200-1756810800@yorkshireofedina.com
SUMMARY:Coffee Social
DESCRIPTION:
URL:https://yorkshireofedina.com/event-calendar/coffee-club-77/
LOCATION:TV/ Soda Shop
CATEGORIES:Memory Care
END:VEVENT
BEGIN:VEVENT
DTSTART;TZID=America/Chicago:20250902T110000
DTEND;TZID=America/Chicago:20250902T120000
DTSTAMP:20260419T145558
CREATED:20250803T193037Z
LAST-MODIFIED:20250901T204526Z
UID:10001442-1756810800-1756814400@yorkshireofedina.com
SUMMARY:Exercise
DESCRIPTION:
URL:https://yorkshireofedina.com/event-calendar/exercise-118/
LOCATION:TV/ Soda Shop
CATEGORIES:Memory Care
END:VEVENT
BEGIN:VEVENT
DTSTART;TZID=America/Chicago:20250902T113000
DTEND;TZID=America/Chicago:20250902T123000
DTSTAMP:20260419T145558
CREATED:20250803T193037Z
LAST-MODIFIED:20250901T204526Z
UID:10001443-1756812600-1756816200@yorkshireofedina.com
SUMMARY:Oshibori
DESCRIPTION:
URL:https://yorkshireofedina.com/event-calendar/oshibori-72/
LOCATION:Dining Room
CATEGORIES:Memory Care
END:VEVENT
BEGIN:VEVENT
DTSTART;TZID=America/Chicago:20250902T130000
DTEND;TZID=America/Chicago:20250902T140000
DTSTAMP:20260419T145558
CREATED:20250803T193037Z
LAST-MODIFIED:20250901T231526Z
UID:10001444-1756818000-1756821600@yorkshireofedina.com
SUMMARY:Grip Games Competition
DESCRIPTION:
URL:https://yorkshireofedina.com/event-calendar/grip-games-competition-7/
LOCATION:Community Room
CATEGORIES:Assisted Living,Independent Living,Memory Care
END:VEVENT
BEGIN:VEVENT
DTSTART;TZID=America/Chicago:20250902T140000
DTEND;TZID=America/Chicago:20250902T150000
DTSTAMP:20260419T145558
CREATED:20250803T193037Z
LAST-MODIFIED:20250901T204526Z
UID:10001445-1756821600-1756825200@yorkshireofedina.com
SUMMARY:Bingo
DESCRIPTION:
URL:https://yorkshireofedina.com/event-calendar/bingo-55/
LOCATION:Garden Room
CATEGORIES:Memory Care
END:VEVENT
BEGIN:VEVENT
DTSTART;TZID=America/Chicago:20250902T153000
DTEND;TZID=America/Chicago:20250902T163000
DTSTAMP:20260419T145558
CREATED:20250804T193036Z
LAST-MODIFIED:20250902T210044Z
UID:10001451-1756827000-1756830600@yorkshireofedina.com
SUMMARY:Cookie Baking/ Popcorn Social
DESCRIPTION:
URL:https://yorkshireofedina.com/event-calendar/cookie-baking-popcorn-social-10/
LOCATION:Garden Room
CATEGORIES:Memory Care
END:VEVENT
BEGIN:VEVENT
DTSTART;TZID=America/Chicago:20250902T163000
DTEND;TZID=America/Chicago:20250902T173000
DTSTAMP:20260419T145558
CREATED:20250804T193037Z
LAST-MODIFIED:20250902T210044Z
UID:10001452-1756830600-1756834200@yorkshireofedina.com
SUMMARY:Oshibori
DESCRIPTION:
URL:https://yorkshireofedina.com/event-calendar/oshibori-73/
LOCATION:Dining Room
CATEGORIES:Memory Care
END:VEVENT
BEGIN:VEVENT
DTSTART;TZID=America/Chicago:20250902T180000
DTEND;TZID=America/Chicago:20250902T190000
DTSTAMP:20260419T145558
CREATED:20250804T193037Z
LAST-MODIFIED:20250902T210044Z
UID:10001453-1756836000-1756839600@yorkshireofedina.com
SUMMARY:Activity with Aides
DESCRIPTION:
URL:https://yorkshireofedina.com/event-calendar/arts-and-crafts-with-suzie-16/
CATEGORIES:Memory Care
END:VEVENT
BEGIN:VEVENT
DTSTART;TZID=America/Chicago:20250902T184500
DTEND;TZID=America/Chicago:20250902T194500
DTSTAMP:20260419T145558
CREATED:20250804T193037Z
LAST-MODIFIED:20250902T210044Z
UID:10001454-1756838700-1756842300@yorkshireofedina.com
SUMMARY:Activity with Aides
DESCRIPTION:
URL:https://yorkshireofedina.com/event-calendar/puzzles-with-suzie-16/
CATEGORIES:Memory Care
END:VEVENT
END:VCALENDAR