BEGIN:VCALENDAR
VERSION:2.0
PRODID:-//Yorkshire of Edina - ECPv6.11.2.1//NONSGML v1.0//EN
CALSCALE:GREGORIAN
METHOD:PUBLISH
X-ORIGINAL-URL:https://yorkshireofedina.com
X-WR-CALDESC:Events for Yorkshire of Edina
REFRESH-INTERVAL;VALUE=DURATION:PT1H
X-Robots-Tag:noindex
X-PUBLISHED-TTL:PT1H
BEGIN:VTIMEZONE
TZID:America/Chicago
BEGIN:DAYLIGHT
TZOFFSETFROM:-0600
TZOFFSETTO:-0500
TZNAME:CDT
DTSTART:20250309T080000
END:DAYLIGHT
BEGIN:STANDARD
TZOFFSETFROM:-0500
TZOFFSETTO:-0600
TZNAME:CST
DTSTART:20251102T070000
END:STANDARD
END:VTIMEZONE
BEGIN:VEVENT
DTSTART;TZID=America/Chicago:20250905T093000
DTEND;TZID=America/Chicago:20250905T103000
DTSTAMP:20260419T161327
CREATED:20250806T193037Z
LAST-MODIFIED:20250904T210026Z
UID:10001485-1757064600-1757068200@yorkshireofedina.com
SUMMARY:Music Relaxation
DESCRIPTION:
URL:https://yorkshireofedina.com/event-calendar/music-relaxation-22/
LOCATION:TV/ Soda Shop
CATEGORIES:Memory Care
END:VEVENT
BEGIN:VEVENT
DTSTART;TZID=America/Chicago:20250905T100000
DTEND;TZID=America/Chicago:20250905T110000
DTSTAMP:20260419T161327
CREATED:20250806T193037Z
LAST-MODIFIED:20250904T210026Z
UID:10001486-1757066400-1757070000@yorkshireofedina.com
SUMMARY:Coffee Social
DESCRIPTION:
URL:https://yorkshireofedina.com/event-calendar/coffee-club-80/
LOCATION:TV/ Soda Shop
CATEGORIES:Memory Care
END:VEVENT
BEGIN:VEVENT
DTSTART;TZID=America/Chicago:20250905T103000
DTEND;TZID=America/Chicago:20250905T113000
DTSTAMP:20260419T161327
CREATED:20250806T193037Z
LAST-MODIFIED:20250904T210026Z
UID:10001487-1757068200-1757071800@yorkshireofedina.com
SUMMARY:Devotion / Spiritual Sing Along
DESCRIPTION:
URL:https://yorkshireofedina.com/event-calendar/devotion-spiritual-sing-along-16/
LOCATION:TV/ Soda Shop
CATEGORIES:Memory Care
END:VEVENT
BEGIN:VEVENT
DTSTART;TZID=America/Chicago:20250905T110000
DTEND;TZID=America/Chicago:20250905T120000
DTSTAMP:20260419T161327
CREATED:20250806T193037Z
LAST-MODIFIED:20250904T210026Z
UID:10001488-1757070000-1757073600@yorkshireofedina.com
SUMMARY:Exercise
DESCRIPTION:
URL:https://yorkshireofedina.com/event-calendar/exercise-121/
LOCATION:TV/ Soda Shop
CATEGORIES:Memory Care
END:VEVENT
BEGIN:VEVENT
DTSTART;TZID=America/Chicago:20250905T113000
DTEND;TZID=America/Chicago:20250905T123000
DTSTAMP:20260419T161327
CREATED:20250806T193037Z
LAST-MODIFIED:20250904T210026Z
UID:10001489-1757071800-1757075400@yorkshireofedina.com
SUMMARY:Oshibori
DESCRIPTION:
URL:https://yorkshireofedina.com/event-calendar/oshibori-78/
LOCATION:Dining Room
CATEGORIES:Memory Care
END:VEVENT
BEGIN:VEVENT
DTSTART;TZID=America/Chicago:20250905T134500
DTEND;TZID=America/Chicago:20250905T144500
DTSTAMP:20260419T161327
CREATED:20250806T193037Z
LAST-MODIFIED:20250904T210026Z
UID:10001490-1757079900-1757083500@yorkshireofedina.com
SUMMARY:Live Music/ Happy Hour
DESCRIPTION:
URL:https://yorkshireofedina.com/event-calendar/live-music-happy-hour-14/
LOCATION:TV/ Soda Shop
CATEGORIES:Memory Care
END:VEVENT
BEGIN:VEVENT
DTSTART;TZID=America/Chicago:20250905T163000
DTEND;TZID=America/Chicago:20250905T173000
DTSTAMP:20260419T161327
CREATED:20250807T193049Z
LAST-MODIFIED:20250905T211528Z
UID:10001497-1757089800-1757093400@yorkshireofedina.com
SUMMARY:Oshibori
DESCRIPTION:
URL:https://yorkshireofedina.com/event-calendar/oshibori-79/
LOCATION:Dining Room
CATEGORIES:Memory Care
END:VEVENT
BEGIN:VEVENT
DTSTART;TZID=America/Chicago:20250905T180000
DTEND;TZID=America/Chicago:20250905T184500
DTSTAMP:20260419T161327
CREATED:20250807T193049Z
LAST-MODIFIED:20250905T211528Z
UID:10001498-1757095200-1757097900@yorkshireofedina.com
SUMMARY:Yoga with Lisa
DESCRIPTION:
URL:https://yorkshireofedina.com/event-calendar/yoga-with-lisa-41/
LOCATION:TV/ Soda Shop
CATEGORIES:Memory Care
END:VEVENT
BEGIN:VEVENT
DTSTART;TZID=America/Chicago:20250905T184500
DTEND;TZID=America/Chicago:20250905T194500
DTSTAMP:20260419T161327
CREATED:20250807T193049Z
LAST-MODIFIED:20250905T211528Z
UID:10001499-1757097900-1757101500@yorkshireofedina.com
SUMMARY:Armchair Travel
DESCRIPTION:
URL:https://yorkshireofedina.com/event-calendar/armchair-travel-42/
LOCATION:TV/Soda Shop
CATEGORIES:Memory Care
END:VEVENT
END:VCALENDAR