BEGIN:VCALENDAR
VERSION:2.0
PRODID:-//Yorkshire of Edina - ECPv6.11.2.1//NONSGML v1.0//EN
CALSCALE:GREGORIAN
METHOD:PUBLISH
X-ORIGINAL-URL:https://yorkshireofedina.com
X-WR-CALDESC:Events for Yorkshire of Edina
REFRESH-INTERVAL;VALUE=DURATION:PT1H
X-Robots-Tag:noindex
X-PUBLISHED-TTL:PT1H
BEGIN:VTIMEZONE
TZID:America/Chicago
BEGIN:DAYLIGHT
TZOFFSETFROM:-0600
TZOFFSETTO:-0500
TZNAME:CDT
DTSTART:20250309T080000
END:DAYLIGHT
BEGIN:STANDARD
TZOFFSETFROM:-0500
TZOFFSETTO:-0600
TZNAME:CST
DTSTART:20251102T070000
END:STANDARD
END:VTIMEZONE
BEGIN:VEVENT
DTSTART;VALUE=DATE:20250909
DTEND;VALUE=DATE:20250910
DTSTAMP:20260419T185517
CREATED:20250905T211528Z
LAST-MODIFIED:20250908T234526Z
UID:10001952-1757376000-1757462399@yorkshireofedina.com
SUMMARY:Dress Up: Hat Day
DESCRIPTION:
URL:https://yorkshireofedina.com/event-calendar/dress-up-hat-day/
CATEGORIES:Assisted Living,Independent Living,Memory Care
END:VEVENT
BEGIN:VEVENT
DTSTART;TZID=America/Chicago:20250909T093000
DTEND;TZID=America/Chicago:20250909T103000
DTSTAMP:20260419T185517
CREATED:20250810T200054Z
LAST-MODIFIED:20250908T211526Z
UID:10001528-1757410200-1757413800@yorkshireofedina.com
SUMMARY:Music Relaxation
DESCRIPTION:
URL:https://yorkshireofedina.com/event-calendar/music-relaxation-24/
LOCATION:Near Nurse Station
CATEGORIES:Memory Care
END:VEVENT
BEGIN:VEVENT
DTSTART;TZID=America/Chicago:20250909T100000
DTEND;TZID=America/Chicago:20250909T110000
DTSTAMP:20260419T185517
CREATED:20250810T200054Z
LAST-MODIFIED:20250908T211526Z
UID:10001529-1757412000-1757415600@yorkshireofedina.com
SUMMARY:Worship Service
DESCRIPTION:
URL:https://yorkshireofedina.com/event-calendar/worship-service-33/
LOCATION:TV Room
CATEGORIES:Memory Care
END:VEVENT
BEGIN:VEVENT
DTSTART;TZID=America/Chicago:20250909T100000
DTEND;TZID=America/Chicago:20250909T110000
DTSTAMP:20260419T185517
CREATED:20250810T200054Z
LAST-MODIFIED:20250908T211526Z
UID:10001530-1757412000-1757415600@yorkshireofedina.com
SUMMARY:Coffee Social
DESCRIPTION:
URL:https://yorkshireofedina.com/event-calendar/coffee-club-82/
LOCATION:TV Room
CATEGORIES:Memory Care
END:VEVENT
BEGIN:VEVENT
DTSTART;TZID=America/Chicago:20250909T110000
DTEND;TZID=America/Chicago:20250909T120000
DTSTAMP:20260419T185517
CREATED:20250810T200054Z
LAST-MODIFIED:20250908T211526Z
UID:10001531-1757415600-1757419200@yorkshireofedina.com
SUMMARY:Ageing With Strength
DESCRIPTION:
URL:https://yorkshireofedina.com/event-calendar/exercise-126/
LOCATION:TV Room
CATEGORIES:Memory Care
END:VEVENT
BEGIN:VEVENT
DTSTART;TZID=America/Chicago:20250909T113000
DTEND;TZID=America/Chicago:20250909T123000
DTSTAMP:20260419T185517
CREATED:20250810T200054Z
LAST-MODIFIED:20250908T211526Z
UID:10001532-1757417400-1757421000@yorkshireofedina.com
SUMMARY:Oshibori
DESCRIPTION:
URL:https://yorkshireofedina.com/event-calendar/oshibori-82/
LOCATION:Dining Room 4th Floor
CATEGORIES:Memory Care
END:VEVENT
BEGIN:VEVENT
DTSTART;TZID=America/Chicago:20250909T140000
DTEND;TZID=America/Chicago:20250909T150000
DTSTAMP:20260419T185517
CREATED:20250810T200055Z
LAST-MODIFIED:20250908T211525Z
UID:10001533-1757426400-1757430000@yorkshireofedina.com
SUMMARY:Bingo
DESCRIPTION:
URL:https://yorkshireofedina.com/event-calendar/bingo-57/
LOCATION:Garden Room
CATEGORIES:Memory Care
END:VEVENT
BEGIN:VEVENT
DTSTART;TZID=America/Chicago:20250909T153000
DTEND;TZID=America/Chicago:20250909T163000
DTSTAMP:20260419T185517
CREATED:20250811T201609Z
LAST-MODIFIED:20250909T211608Z
UID:10001539-1757431800-1757435400@yorkshireofedina.com
SUMMARY:Cookie Baking/ Popcorn Social
DESCRIPTION:
URL:https://yorkshireofedina.com/event-calendar/cookie-baking-popcorn-social-11/
LOCATION:Garden Room
CATEGORIES:Memory Care
END:VEVENT
BEGIN:VEVENT
DTSTART;TZID=America/Chicago:20250909T163000
DTEND;TZID=America/Chicago:20250909T173000
DTSTAMP:20260419T185517
CREATED:20250811T201609Z
LAST-MODIFIED:20250909T211608Z
UID:10001540-1757435400-1757439000@yorkshireofedina.com
SUMMARY:Oshibori
DESCRIPTION:
URL:https://yorkshireofedina.com/event-calendar/oshibori-83/
LOCATION:Dining Room 4th Floor
CATEGORIES:Memory Care
END:VEVENT
BEGIN:VEVENT
DTSTART;TZID=America/Chicago:20250909T180000
DTEND;TZID=America/Chicago:20250909T190000
DTSTAMP:20260419T185517
CREATED:20250811T201609Z
LAST-MODIFIED:20250909T211608Z
UID:10001541-1757440800-1757444400@yorkshireofedina.com
SUMMARY:Activity with Aides
DESCRIPTION:
URL:https://yorkshireofedina.com/event-calendar/arts-and-crafts-with-suzie-17/
LOCATION:TV Room
CATEGORIES:Memory Care
END:VEVENT
BEGIN:VEVENT
DTSTART;TZID=America/Chicago:20250909T184500
DTEND;TZID=America/Chicago:20250909T194500
DTSTAMP:20260419T185517
CREATED:20250811T201609Z
LAST-MODIFIED:20250909T211608Z
UID:10001542-1757443500-1757447100@yorkshireofedina.com
SUMMARY:Activity with Aides
DESCRIPTION:
URL:https://yorkshireofedina.com/event-calendar/puzzles-with-suzie-17/
LOCATION:TV Room
CATEGORIES:Memory Care
END:VEVENT
END:VCALENDAR