BEGIN:VCALENDAR
VERSION:2.0
PRODID:-//Yorkshire of Edina - ECPv6.11.2.1//NONSGML v1.0//EN
CALSCALE:GREGORIAN
METHOD:PUBLISH
X-WR-CALNAME:Yorkshire of Edina
X-ORIGINAL-URL:https://yorkshireofedina.com
X-WR-CALDESC:Events for Yorkshire of Edina
REFRESH-INTERVAL;VALUE=DURATION:PT1H
X-Robots-Tag:noindex
X-PUBLISHED-TTL:PT1H
BEGIN:VTIMEZONE
TZID:America/Chicago
BEGIN:DAYLIGHT
TZOFFSETFROM:-0600
TZOFFSETTO:-0500
TZNAME:CDT
DTSTART:20250309T080000
END:DAYLIGHT
BEGIN:STANDARD
TZOFFSETFROM:-0500
TZOFFSETTO:-0600
TZNAME:CST
DTSTART:20251102T070000
END:STANDARD
END:VTIMEZONE
BEGIN:VEVENT
DTSTART;VALUE=DATE:20250911
DTEND;VALUE=DATE:20250912
DTSTAMP:20260419T215743
CREATED:20250905T211529Z
LAST-MODIFIED:20250910T221526Z
UID:10001954-1757548800-1757635199@yorkshireofedina.com
SUMMARY:Dress Up: Patriotic Colors
DESCRIPTION:
URL:https://yorkshireofedina.com/event-calendar/dress-up-patriotic-colors/
CATEGORIES:Assisted Living,Independent Living,Memory Care
END:VEVENT
BEGIN:VEVENT
DTSTART;TZID=America/Chicago:20250911T093000
DTEND;TZID=America/Chicago:20250911T103000
DTSTAMP:20260419T215743
CREATED:20250812T201555Z
LAST-MODIFIED:20250910T211619Z
UID:10001557-1757583000-1757586600@yorkshireofedina.com
SUMMARY:Music Relaxation
DESCRIPTION:
URL:https://yorkshireofedina.com/event-calendar/music-relaxation-26/
LOCATION:Near Nurse Station
CATEGORIES:Memory Care
END:VEVENT
BEGIN:VEVENT
DTSTART;TZID=America/Chicago:20250911T100000
DTEND;TZID=America/Chicago:20250911T110000
DTSTAMP:20260419T215743
CREATED:20250812T201555Z
LAST-MODIFIED:20250910T211619Z
UID:10001558-1757584800-1757588400@yorkshireofedina.com
SUMMARY:Worship Service
DESCRIPTION:
URL:https://yorkshireofedina.com/event-calendar/worship-service-34/
LOCATION:TV Room
CATEGORIES:Memory Care
END:VEVENT
BEGIN:VEVENT
DTSTART;TZID=America/Chicago:20250911T100000
DTEND;TZID=America/Chicago:20250911T110000
DTSTAMP:20260419T215743
CREATED:20250812T201555Z
LAST-MODIFIED:20250910T211620Z
UID:10001559-1757584800-1757588400@yorkshireofedina.com
SUMMARY:Coffee Social
DESCRIPTION:
URL:https://yorkshireofedina.com/event-calendar/coffee-club-84/
LOCATION:TV Room
CATEGORIES:Memory Care
END:VEVENT
BEGIN:VEVENT
DTSTART;TZID=America/Chicago:20250911T104500
DTEND;TZID=America/Chicago:20250911T114500
DTSTAMP:20260419T215743
CREATED:20250812T201555Z
LAST-MODIFIED:20250910T211620Z
UID:10001560-1757587500-1757591100@yorkshireofedina.com
SUMMARY:Catholic Communion
DESCRIPTION:
URL:https://yorkshireofedina.com/event-calendar/catholic-communion-15/
LOCATION:TV Room
CATEGORIES:Memory Care
END:VEVENT
BEGIN:VEVENT
DTSTART;TZID=America/Chicago:20250911T110000
DTEND;TZID=America/Chicago:20250911T120000
DTSTAMP:20260419T215743
CREATED:20250812T201555Z
LAST-MODIFIED:20250910T211620Z
UID:10001561-1757588400-1757592000@yorkshireofedina.com
SUMMARY:Aging With Strength
DESCRIPTION:
URL:https://yorkshireofedina.com/event-calendar/exercise-128/
LOCATION:TV Room
CATEGORIES:Memory Care
END:VEVENT
BEGIN:VEVENT
DTSTART;TZID=America/Chicago:20250911T113000
DTEND;TZID=America/Chicago:20250911T123000
DTSTAMP:20260419T215743
CREATED:20250812T201556Z
LAST-MODIFIED:20250910T211618Z
UID:10001562-1757590200-1757593800@yorkshireofedina.com
SUMMARY:Oshibori
DESCRIPTION:
URL:https://yorkshireofedina.com/event-calendar/oshibori-86/
LOCATION:Dining Room 4th Floor
CATEGORIES:Memory Care
END:VEVENT
BEGIN:VEVENT
DTSTART;TZID=America/Chicago:20250911T131500
DTEND;TZID=America/Chicago:20250911T153000
DTSTAMP:20260419T215743
CREATED:20250814T201556Z
LAST-MODIFIED:20250910T211618Z
UID:10001589-1757596500-1757604600@yorkshireofedina.com
SUMMARY:Park Outing
DESCRIPTION:
URL:https://yorkshireofedina.com/event-calendar/mc-outing-tentative/
CATEGORIES:Memory Care
END:VEVENT
BEGIN:VEVENT
DTSTART;TZID=America/Chicago:20250911T140000
DTEND;TZID=America/Chicago:20250911T150000
DTSTAMP:20260419T215743
CREATED:20250812T201556Z
LAST-MODIFIED:20250904T210026Z
UID:10001563-1757599200-1757602800@yorkshireofedina.com
SUMMARY:Sing Along\, Dance and Ice Cream Social
DESCRIPTION:
URL:https://yorkshireofedina.com/event-calendar/sing-along-dance-and-ice-cream-social-5/
LOCATION:TV/ Soda Shop
CATEGORIES:Memory Care
END:VEVENT
BEGIN:VEVENT
DTSTART;TZID=America/Chicago:20250911T150000
DTEND;TZID=America/Chicago:20250911T160000
DTSTAMP:20260419T215743
CREATED:20250812T201556Z
LAST-MODIFIED:20250910T211618Z
UID:10001564-1757602800-1757606400@yorkshireofedina.com
SUMMARY:Trivia /| Ice cream Social
DESCRIPTION:
URL:https://yorkshireofedina.com/event-calendar/trivia-25/
LOCATION:4th Floor in TV Room
CATEGORIES:Memory Care
END:VEVENT
BEGIN:VEVENT
DTSTART;TZID=America/Chicago:20250911T163000
DTEND;TZID=America/Chicago:20250911T173000
DTSTAMP:20260419T215743
CREATED:20250813T201604Z
LAST-MODIFIED:20250911T211527Z
UID:10001574-1757608200-1757611800@yorkshireofedina.com
SUMMARY:Oshibori
DESCRIPTION:
URL:https://yorkshireofedina.com/event-calendar/oshibori-87/
LOCATION:Dining Room 4th Floor
CATEGORIES:Memory Care
END:VEVENT
BEGIN:VEVENT
DTSTART;TZID=America/Chicago:20250911T180000
DTEND;TZID=America/Chicago:20250911T190000
DTSTAMP:20260419T215743
CREATED:20250813T201604Z
LAST-MODIFIED:20250911T211528Z
UID:10001575-1757613600-1757617200@yorkshireofedina.com
SUMMARY:Sweep Six with Lisa
DESCRIPTION:
URL:https://yorkshireofedina.com/event-calendar/sweep-six-17/
LOCATION:TV Room
CATEGORIES:Memory Care
END:VEVENT
BEGIN:VEVENT
DTSTART;TZID=America/Chicago:20250911T184500
DTEND;TZID=America/Chicago:20250911T194500
DTSTAMP:20260419T215743
CREATED:20250813T201605Z
LAST-MODIFIED:20250911T211528Z
UID:10001576-1757616300-1757619900@yorkshireofedina.com
SUMMARY:Who Am I? with Lisa
DESCRIPTION:
URL:https://yorkshireofedina.com/event-calendar/who-am-i-17/
LOCATION:4th Floor in TV Room
CATEGORIES:Memory Care
END:VEVENT
END:VCALENDAR