BEGIN:VCALENDAR
VERSION:2.0
PRODID:-//Yorkshire of Edina - ECPv6.11.2.1//NONSGML v1.0//EN
CALSCALE:GREGORIAN
METHOD:PUBLISH
X-WR-CALNAME:Yorkshire of Edina
X-ORIGINAL-URL:https://yorkshireofedina.com
X-WR-CALDESC:Events for Yorkshire of Edina
REFRESH-INTERVAL;VALUE=DURATION:PT1H
X-Robots-Tag:noindex
X-PUBLISHED-TTL:PT1H
BEGIN:VTIMEZONE
TZID:America/Chicago
BEGIN:DAYLIGHT
TZOFFSETFROM:-0600
TZOFFSETTO:-0500
TZNAME:CDT
DTSTART:20250309T080000
END:DAYLIGHT
BEGIN:STANDARD
TZOFFSETFROM:-0500
TZOFFSETTO:-0600
TZNAME:CST
DTSTART:20251102T070000
END:STANDARD
END:VTIMEZONE
BEGIN:VEVENT
DTSTART;TZID=America/Chicago:20250915T093000
DTEND;TZID=America/Chicago:20250915T103000
DTSTAMP:20260420T042615
CREATED:20250816T201631Z
LAST-MODIFIED:20250914T213032Z
UID:10001650-1757928600-1757932200@yorkshireofedina.com
SUMMARY:Music Relaxation
DESCRIPTION:
URL:https://yorkshireofedina.com/event-calendar/music-relaxation-28/
LOCATION:Near Nurse Station
CATEGORIES:Memory Care
END:VEVENT
BEGIN:VEVENT
DTSTART;TZID=America/Chicago:20250915T100000
DTEND;TZID=America/Chicago:20250915T110000
DTSTAMP:20260420T042615
CREATED:20250816T201631Z
LAST-MODIFIED:20250914T213032Z
UID:10001651-1757930400-1757934000@yorkshireofedina.com
SUMMARY:Coffee Social
DESCRIPTION:
URL:https://yorkshireofedina.com/event-calendar/coffee-club-86/
LOCATION:TV Room
CATEGORIES:Memory Care
END:VEVENT
BEGIN:VEVENT
DTSTART;TZID=America/Chicago:20250915T110000
DTEND;TZID=America/Chicago:20250915T120000
DTSTAMP:20260420T042615
CREATED:20250816T201631Z
LAST-MODIFIED:20250914T213032Z
UID:10001652-1757934000-1757937600@yorkshireofedina.com
SUMMARY:Aging With Strength
DESCRIPTION:
URL:https://yorkshireofedina.com/event-calendar/exercise-132/
LOCATION:TV Room
CATEGORIES:Memory Care
END:VEVENT
BEGIN:VEVENT
DTSTART;TZID=America/Chicago:20250915T113000
DTEND;TZID=America/Chicago:20250915T123000
DTSTAMP:20260420T042615
CREATED:20250816T201631Z
LAST-MODIFIED:20250914T213032Z
UID:10001653-1757935800-1757939400@yorkshireofedina.com
SUMMARY:Oshibori
DESCRIPTION:
URL:https://yorkshireofedina.com/event-calendar/oshibori-90/
LOCATION:Dining Room
CATEGORIES:Memory Care
END:VEVENT
BEGIN:VEVENT
DTSTART;TZID=America/Chicago:20250915T140000
DTEND;TZID=America/Chicago:20250915T153000
DTSTAMP:20260420T042615
CREATED:20250816T201631Z
LAST-MODIFIED:20250914T213032Z
UID:10001654-1757944800-1757950200@yorkshireofedina.com
SUMMARY:Puzzles
DESCRIPTION:
URL:https://yorkshireofedina.com/event-calendar/puzzles-18/
LOCATION:Garden Room
CATEGORIES:Memory Care
END:VEVENT
BEGIN:VEVENT
DTSTART;TZID=America/Chicago:20250915T153000
DTEND;TZID=America/Chicago:20250915T163000
DTSTAMP:20260420T042615
CREATED:20250817T201957Z
LAST-MODIFIED:20250914T213032Z
UID:10001661-1757950200-1757953800@yorkshireofedina.com
SUMMARY:Manicure/ Hand Massages
DESCRIPTION:
URL:https://yorkshireofedina.com/event-calendar/manicure-hand-massages-35/
LOCATION:Garden Room
CATEGORIES:Memory Care
END:VEVENT
BEGIN:VEVENT
DTSTART;TZID=America/Chicago:20250915T163000
DTEND;TZID=America/Chicago:20250915T173000
DTSTAMP:20260420T042615
CREATED:20250817T201957Z
LAST-MODIFIED:20250915T213027Z
UID:10001662-1757953800-1757957400@yorkshireofedina.com
SUMMARY:Oshibori
DESCRIPTION:
URL:https://yorkshireofedina.com/event-calendar/oshibori-91/
LOCATION:Dining Room
CATEGORIES:Memory Care
END:VEVENT
BEGIN:VEVENT
DTSTART;TZID=America/Chicago:20250915T180000
DTEND;TZID=America/Chicago:20250915T190000
DTSTAMP:20260420T042615
CREATED:20250817T202009Z
LAST-MODIFIED:20250915T213027Z
UID:10001663-1757959200-1757962800@yorkshireofedina.com
SUMMARY:Activity with Aides
DESCRIPTION:
URL:https://yorkshireofedina.com/event-calendar/trivia-with-suzie-18/
LOCATION:TV Room
CATEGORIES:Memory Care
END:VEVENT
BEGIN:VEVENT
DTSTART;TZID=America/Chicago:20250915T184500
DTEND;TZID=America/Chicago:20250915T193000
DTSTAMP:20260420T042615
CREATED:20250817T202009Z
LAST-MODIFIED:20250915T213027Z
UID:10001664-1757961900-1757964600@yorkshireofedina.com
SUMMARY:Activity with Aides
DESCRIPTION:
URL:https://yorkshireofedina.com/event-calendar/bowling-with-suzie-18/
LOCATION:TV Room
CATEGORIES:Memory Care
END:VEVENT
END:VCALENDAR