BEGIN:VCALENDAR
VERSION:2.0
PRODID:-//Yorkshire of Edina - ECPv6.11.2.1//NONSGML v1.0//EN
CALSCALE:GREGORIAN
METHOD:PUBLISH
X-ORIGINAL-URL:https://yorkshireofedina.com
X-WR-CALDESC:Events for Yorkshire of Edina
REFRESH-INTERVAL;VALUE=DURATION:PT1H
X-Robots-Tag:noindex
X-PUBLISHED-TTL:PT1H
BEGIN:VTIMEZONE
TZID:America/Chicago
BEGIN:DAYLIGHT
TZOFFSETFROM:-0600
TZOFFSETTO:-0500
TZNAME:CDT
DTSTART:20250309T080000
END:DAYLIGHT
BEGIN:STANDARD
TZOFFSETFROM:-0500
TZOFFSETTO:-0600
TZNAME:CST
DTSTART:20251102T070000
END:STANDARD
END:VTIMEZONE
BEGIN:VEVENT
DTSTART;TZID=America/Chicago:20250920T104500
DTEND;TZID=America/Chicago:20250920T114500
DTSTAMP:20260419T214002
CREATED:20250821T203039Z
LAST-MODIFIED:20250919T220025Z
UID:10001735-1758365100-1758368700@yorkshireofedina.com
SUMMARY:Exercise
DESCRIPTION:
URL:https://yorkshireofedina.com/event-calendar/exercise-137/
LOCATION:TV Room
CATEGORIES:Memory Care
END:VEVENT
BEGIN:VEVENT
DTSTART;TZID=America/Chicago:20250920T143000
DTEND;TZID=America/Chicago:20250920T154500
DTSTAMP:20260419T214002
CREATED:20250821T203039Z
LAST-MODIFIED:20250919T220025Z
UID:10001736-1758378600-1758383100@yorkshireofedina.com
SUMMARY:Yoga with Lisa
DESCRIPTION:
URL:https://yorkshireofedina.com/event-calendar/yoga-with-lisa-47/
LOCATION:TV Room
CATEGORIES:Memory Care
END:VEVENT
BEGIN:VEVENT
DTSTART;TZID=America/Chicago:20250920T153000
DTEND;TZID=America/Chicago:20250920T163000
DTSTAMP:20260419T214002
CREATED:20250821T203039Z
LAST-MODIFIED:20250919T220025Z
UID:10001737-1758382200-1758385800@yorkshireofedina.com
SUMMARY:Armchair Travel
DESCRIPTION:
URL:https://yorkshireofedina.com/event-calendar/armchair-travel-48/
LOCATION:TV Room
CATEGORIES:Memory Care
END:VEVENT
END:VCALENDAR