BEGIN:VCALENDAR
VERSION:2.0
PRODID:-//Yorkshire of Edina - ECPv6.11.2.1//NONSGML v1.0//EN
CALSCALE:GREGORIAN
METHOD:PUBLISH
X-WR-CALNAME:Yorkshire of Edina
X-ORIGINAL-URL:https://yorkshireofedina.com
X-WR-CALDESC:Events for Yorkshire of Edina
REFRESH-INTERVAL;VALUE=DURATION:PT1H
X-Robots-Tag:noindex
X-PUBLISHED-TTL:PT1H
BEGIN:VTIMEZONE
TZID:America/Chicago
BEGIN:DAYLIGHT
TZOFFSETFROM:-0600
TZOFFSETTO:-0500
TZNAME:CDT
DTSTART:20250309T080000
END:DAYLIGHT
BEGIN:STANDARD
TZOFFSETFROM:-0500
TZOFFSETTO:-0600
TZNAME:CST
DTSTART:20251102T070000
END:STANDARD
END:VTIMEZONE
BEGIN:VEVENT
DTSTART;TZID=America/Chicago:20250923T093000
DTEND;TZID=America/Chicago:20250923T103000
DTSTAMP:20260419T170757
CREATED:20250824T203039Z
LAST-MODIFIED:20250922T220029Z
UID:10001768-1758619800-1758623400@yorkshireofedina.com
SUMMARY:Music Relaxation
DESCRIPTION:
URL:https://yorkshireofedina.com/event-calendar/music-relaxation-34/
LOCATION:Near Nurse Station
CATEGORIES:Memory Care
END:VEVENT
BEGIN:VEVENT
DTSTART;TZID=America/Chicago:20250923T100000
DTEND;TZID=America/Chicago:20250923T110000
DTSTAMP:20260419T170757
CREATED:20250824T203039Z
LAST-MODIFIED:20250922T220029Z
UID:10001769-1758621600-1758625200@yorkshireofedina.com
SUMMARY:Worship Service
DESCRIPTION:
URL:https://yorkshireofedina.com/event-calendar/worship-service-37/
LOCATION:TV Room
CATEGORIES:Memory Care
END:VEVENT
BEGIN:VEVENT
DTSTART;TZID=America/Chicago:20250923T100000
DTEND;TZID=America/Chicago:20250923T110000
DTSTAMP:20260419T170757
CREATED:20250824T203039Z
LAST-MODIFIED:20250922T220029Z
UID:10001770-1758621600-1758625200@yorkshireofedina.com
SUMMARY:Coffee Social
DESCRIPTION:
URL:https://yorkshireofedina.com/event-calendar/coffee-social-2/
LOCATION:TV Room
CATEGORIES:Memory Care
END:VEVENT
BEGIN:VEVENT
DTSTART;TZID=America/Chicago:20250923T110000
DTEND;TZID=America/Chicago:20250923T120000
DTSTAMP:20260419T170757
CREATED:20250824T203039Z
LAST-MODIFIED:20250922T220029Z
UID:10001771-1758625200-1758628800@yorkshireofedina.com
SUMMARY:Aging With Strength
DESCRIPTION:
URL:https://yorkshireofedina.com/event-calendar/exercise-141/
LOCATION:TV Room
CATEGORIES:Memory Care
END:VEVENT
BEGIN:VEVENT
DTSTART;TZID=America/Chicago:20250923T113000
DTEND;TZID=America/Chicago:20250923T123000
DTSTAMP:20260419T170757
CREATED:20250824T203039Z
LAST-MODIFIED:20250922T220029Z
UID:10001772-1758627000-1758630600@yorkshireofedina.com
SUMMARY:Oshibori
DESCRIPTION:
URL:https://yorkshireofedina.com/event-calendar/oshibori-102/
LOCATION:Dining Room
CATEGORIES:Memory Care
END:VEVENT
BEGIN:VEVENT
DTSTART;TZID=America/Chicago:20250923T140000
DTEND;TZID=America/Chicago:20250923T143000
DTSTAMP:20260419T170757
CREATED:20250824T203039Z
LAST-MODIFIED:20250827T204539Z
UID:10001773-1758636000-1758637800@yorkshireofedina.com
SUMMARY:Oktoberfest: Live Music w. Michael Larson
DESCRIPTION:
URL:https://yorkshireofedina.com/event-calendar/oktoberfest-live-music-w-michael-larson/
LOCATION:TV/ Soda Shop
CATEGORIES:Memory Care
END:VEVENT
BEGIN:VEVENT
DTSTART;TZID=America/Chicago:20250923T140000
DTEND;TZID=America/Chicago:20250923T150000
DTSTAMP:20260419T170757
CREATED:20250824T203039Z
LAST-MODIFIED:20250922T220029Z
UID:10001774-1758636000-1758639600@yorkshireofedina.com
SUMMARY:Bingo
DESCRIPTION:
URL:https://yorkshireofedina.com/event-calendar/bingo-63/
LOCATION:Garden Room
CATEGORIES:Memory Care
END:VEVENT
BEGIN:VEVENT
DTSTART;TZID=America/Chicago:20250923T153000
DTEND;TZID=America/Chicago:20250923T163000
DTSTAMP:20260419T170757
CREATED:20250824T203039Z
LAST-MODIFIED:20250922T220029Z
UID:10001775-1758641400-1758645000@yorkshireofedina.com
SUMMARY:Cookie Baking/ Popcorn Social
DESCRIPTION:
URL:https://yorkshireofedina.com/event-calendar/cookie-baking-popcorn-social-13/
LOCATION:Garden Room
CATEGORIES:Memory Care
END:VEVENT
BEGIN:VEVENT
DTSTART;TZID=America/Chicago:20250923T160000
DTEND;TZID=America/Chicago:20250923T180000
DTSTAMP:20260419T170757
CREATED:20250828T204549Z
LAST-MODIFIED:20250923T220036Z
UID:10001831-1758643200-1758650400@yorkshireofedina.com
SUMMARY:Fundraising Family Cook Out 4-6pm (in Parking Lot)
DESCRIPTION:
URL:https://yorkshireofedina.com/event-calendar/fundraising-cook-out-event-4-6pm/
LOCATION:Parking Lot
CATEGORIES:Assisted Living,Independent Living,Memory Care
END:VEVENT
BEGIN:VEVENT
DTSTART;TZID=America/Chicago:20250923T163000
DTEND;TZID=America/Chicago:20250923T173000
DTSTAMP:20260419T170757
CREATED:20250825T203048Z
LAST-MODIFIED:20250923T220036Z
UID:10001783-1758645000-1758648600@yorkshireofedina.com
SUMMARY:Oshibori
DESCRIPTION:
URL:https://yorkshireofedina.com/event-calendar/oshibori-103/
LOCATION:Dining Room
CATEGORIES:Memory Care
END:VEVENT
BEGIN:VEVENT
DTSTART;TZID=America/Chicago:20250923T180000
DTEND;TZID=America/Chicago:20250923T190000
DTSTAMP:20260419T170757
CREATED:20250825T203048Z
LAST-MODIFIED:20250923T220036Z
UID:10001784-1758650400-1758654000@yorkshireofedina.com
SUMMARY:Activity with Aides
DESCRIPTION:
URL:https://yorkshireofedina.com/event-calendar/arts-and-crafts-with-suzie-19/
LOCATION:TV Room
CATEGORIES:Memory Care
END:VEVENT
BEGIN:VEVENT
DTSTART;TZID=America/Chicago:20250923T184500
DTEND;TZID=America/Chicago:20250923T194500
DTSTAMP:20260419T170757
CREATED:20250825T203048Z
LAST-MODIFIED:20250918T214613Z
UID:10001785-1758653100-1758656700@yorkshireofedina.com
SUMMARY:Activity with Aides
DESCRIPTION:
URL:https://yorkshireofedina.com/event-calendar/puzzles-with-suzie-19/
LOCATION:TV Room
CATEGORIES:Memory Care
END:VEVENT
END:VCALENDAR