BEGIN:VCALENDAR
VERSION:2.0
PRODID:-//Yorkshire of Edina - ECPv6.11.2.1//NONSGML v1.0//EN
CALSCALE:GREGORIAN
METHOD:PUBLISH
X-WR-CALNAME:Yorkshire of Edina
X-ORIGINAL-URL:https://yorkshireofedina.com
X-WR-CALDESC:Events for Yorkshire of Edina
REFRESH-INTERVAL;VALUE=DURATION:PT1H
X-Robots-Tag:noindex
X-PUBLISHED-TTL:PT1H
BEGIN:VTIMEZONE
TZID:America/Chicago
BEGIN:DAYLIGHT
TZOFFSETFROM:-0600
TZOFFSETTO:-0500
TZNAME:CDT
DTSTART:20250309T080000
END:DAYLIGHT
BEGIN:STANDARD
TZOFFSETFROM:-0500
TZOFFSETTO:-0600
TZNAME:CST
DTSTART:20251102T070000
END:STANDARD
END:VTIMEZONE
BEGIN:VEVENT
DTSTART;TZID=America/Chicago:20250927T100000
DTEND;TZID=America/Chicago:20250927T110000
DTSTAMP:20260419T094754
CREATED:20250919T220027Z
LAST-MODIFIED:20250926T220116Z
UID:10002157-1758967200-1758970800@yorkshireofedina.com
SUMMARY:Music Relaxation by Aides
DESCRIPTION:
URL:https://yorkshireofedina.com/event-calendar/music-relaxation-by-aides/
LOCATION:Near Nurse Station
CATEGORIES:Memory Care
END:VEVENT
BEGIN:VEVENT
DTSTART;TZID=America/Chicago:20250927T104500
DTEND;TZID=America/Chicago:20250927T114500
DTSTAMP:20260419T094754
CREATED:20250828T204550Z
LAST-MODIFIED:20250918T214648Z
UID:10001835-1758969900-1758973500@yorkshireofedina.com
SUMMARY:Exercise
DESCRIPTION:
URL:https://yorkshireofedina.com/event-calendar/exercise-145/
LOCATION:TV Room
CATEGORIES:Memory Care
END:VEVENT
BEGIN:VEVENT
DTSTART;TZID=America/Chicago:20250927T143000
DTEND;TZID=America/Chicago:20250927T153000
DTSTAMP:20260419T094754
CREATED:20250828T204550Z
LAST-MODIFIED:20250926T220116Z
UID:10001836-1758983400-1758987000@yorkshireofedina.com
SUMMARY:Movie (by Aides)
DESCRIPTION:
URL:https://yorkshireofedina.com/event-calendar/sweep-six-with-suzie-10/
LOCATION:Near Nurse Station
CATEGORIES:Memory Care
END:VEVENT
BEGIN:VEVENT
DTSTART;TZID=America/Chicago:20250927T180000
DTEND;TZID=America/Chicago:20250927T190000
DTSTAMP:20260419T094754
CREATED:20250828T204550Z
LAST-MODIFIED:20250927T220048Z
UID:10001837-1758996000-1758999600@yorkshireofedina.com
SUMMARY:Music Relaxation (by Aides)
DESCRIPTION:
URL:https://yorkshireofedina.com/event-calendar/painting-with-suzie-10/
LOCATION:Near Nurse Station
CATEGORIES:Memory Care
END:VEVENT
END:VCALENDAR