BEGIN:VCALENDAR
VERSION:2.0
PRODID:-//Yorkshire of Edina - ECPv6.11.2.1//NONSGML v1.0//EN
CALSCALE:GREGORIAN
METHOD:PUBLISH
X-WR-CALNAME:Yorkshire of Edina
X-ORIGINAL-URL:https://yorkshireofedina.com
X-WR-CALDESC:Events for Yorkshire of Edina
REFRESH-INTERVAL;VALUE=DURATION:PT1H
X-Robots-Tag:noindex
X-PUBLISHED-TTL:PT1H
BEGIN:VTIMEZONE
TZID:America/Chicago
BEGIN:DAYLIGHT
TZOFFSETFROM:-0600
TZOFFSETTO:-0500
TZNAME:CDT
DTSTART:20250309T080000
END:DAYLIGHT
BEGIN:STANDARD
TZOFFSETFROM:-0500
TZOFFSETTO:-0600
TZNAME:CST
DTSTART:20251102T070000
END:STANDARD
END:VTIMEZONE
BEGIN:VEVENT
DTSTART;TZID=America/Chicago:20250930T093000
DTEND;TZID=America/Chicago:20250930T103000
DTSTAMP:20260419T081635
CREATED:20250831T204536Z
LAST-MODIFIED:20250929T220028Z
UID:10001874-1759224600-1759228200@yorkshireofedina.com
SUMMARY:Music Relaxation
DESCRIPTION:
URL:https://yorkshireofedina.com/event-calendar/music-relaxation-39/
LOCATION:Near Nurse Station
CATEGORIES:Memory Care
END:VEVENT
BEGIN:VEVENT
DTSTART;TZID=America/Chicago:20250930T100000
DTEND;TZID=America/Chicago:20250930T110000
DTSTAMP:20260419T081635
CREATED:20250831T204536Z
LAST-MODIFIED:20250929T220028Z
UID:10001875-1759226400-1759230000@yorkshireofedina.com
SUMMARY:Coffee Social
DESCRIPTION:
URL:https://yorkshireofedina.com/event-calendar/coffee-social-7/
LOCATION:TV Room
CATEGORIES:Memory Care
END:VEVENT
BEGIN:VEVENT
DTSTART;TZID=America/Chicago:20250930T100000
DTEND;TZID=America/Chicago:20250930T110000
DTSTAMP:20260419T081635
CREATED:20250831T204536Z
LAST-MODIFIED:20250929T220028Z
UID:10001876-1759226400-1759230000@yorkshireofedina.com
SUMMARY:Worship Service
DESCRIPTION:
URL:https://yorkshireofedina.com/event-calendar/worship-service-39/
LOCATION:TV Room
CATEGORIES:Memory Care
END:VEVENT
BEGIN:VEVENT
DTSTART;TZID=America/Chicago:20250930T110000
DTEND;TZID=America/Chicago:20250930T120000
DTSTAMP:20260419T081635
CREATED:20250831T204536Z
LAST-MODIFIED:20250929T220028Z
UID:10001877-1759230000-1759233600@yorkshireofedina.com
SUMMARY:Aging With Strength
DESCRIPTION:
URL:https://yorkshireofedina.com/event-calendar/exercise-148/
LOCATION:TV Room
CATEGORIES:Memory Care
END:VEVENT
BEGIN:VEVENT
DTSTART;TZID=America/Chicago:20250930T113000
DTEND;TZID=America/Chicago:20250930T123000
DTSTAMP:20260419T081635
CREATED:20250831T204536Z
LAST-MODIFIED:20250929T220028Z
UID:10001878-1759231800-1759235400@yorkshireofedina.com
SUMMARY:Oshibori
DESCRIPTION:
URL:https://yorkshireofedina.com/event-calendar/lunch-on-the-patio-2/
LOCATION:Dining Room
CATEGORIES:Memory Care
END:VEVENT
BEGIN:VEVENT
DTSTART;TZID=America/Chicago:20250930T140000
DTEND;TZID=America/Chicago:20250930T150000
DTSTAMP:20260419T081635
CREATED:20250831T204536Z
LAST-MODIFIED:20250929T220028Z
UID:10001879-1759240800-1759244400@yorkshireofedina.com
SUMMARY:Bingo
DESCRIPTION:
URL:https://yorkshireofedina.com/event-calendar/bingo-66/
LOCATION:Garden Room
CATEGORIES:Memory Care
END:VEVENT
BEGIN:VEVENT
DTSTART;TZID=America/Chicago:20250930T153000
DTEND;TZID=America/Chicago:20250930T163000
DTSTAMP:20260419T081635
CREATED:20250831T204536Z
LAST-MODIFIED:20250929T220028Z
UID:10001880-1759246200-1759249800@yorkshireofedina.com
SUMMARY:Cookie Baking/ Popcorn Social
DESCRIPTION:
URL:https://yorkshireofedina.com/event-calendar/cookie-baking-popcorn-social-14/
LOCATION:Garden Room
CATEGORIES:Memory Care
END:VEVENT
BEGIN:VEVENT
DTSTART;TZID=America/Chicago:20250930T163000
DTEND;TZID=America/Chicago:20250930T173000
DTSTAMP:20260419T081635
CREATED:20250901T204535Z
LAST-MODIFIED:20250930T220027Z
UID:10001887-1759249800-1759253400@yorkshireofedina.com
SUMMARY:Oshibori
DESCRIPTION:
URL:https://yorkshireofedina.com/event-calendar/oshibori-111/
LOCATION:Dining Room
CATEGORIES:Memory Care
END:VEVENT
BEGIN:VEVENT
DTSTART;TZID=America/Chicago:20250930T180000
DTEND;TZID=America/Chicago:20250930T190000
DTSTAMP:20260419T081635
CREATED:20250901T204535Z
LAST-MODIFIED:20250930T220027Z
UID:10001888-1759255200-1759258800@yorkshireofedina.com
SUMMARY:Activity with Aides
DESCRIPTION:
URL:https://yorkshireofedina.com/event-calendar/arts-and-crafts-with-suzie-20/
LOCATION:TV Room
CATEGORIES:Memory Care
END:VEVENT
BEGIN:VEVENT
DTSTART;TZID=America/Chicago:20250930T184500
DTEND;TZID=America/Chicago:20250930T194500
DTSTAMP:20260419T081635
CREATED:20250901T204535Z
LAST-MODIFIED:20250918T214711Z
UID:10001889-1759257900-1759261500@yorkshireofedina.com
SUMMARY:Activity with Aides
DESCRIPTION:
URL:https://yorkshireofedina.com/event-calendar/puzzles-with-suzie-20/
LOCATION:TV Room
CATEGORIES:Memory Care
END:VEVENT
END:VCALENDAR