BEGIN:VCALENDAR
VERSION:2.0
PRODID:-//Yorkshire of Edina - ECPv6.11.2.1//NONSGML v1.0//EN
CALSCALE:GREGORIAN
METHOD:PUBLISH
X-ORIGINAL-URL:https://yorkshireofedina.com
X-WR-CALDESC:Events for Yorkshire of Edina
REFRESH-INTERVAL;VALUE=DURATION:PT1H
X-Robots-Tag:noindex
X-PUBLISHED-TTL:PT1H
BEGIN:VTIMEZONE
TZID:America/Chicago
BEGIN:DAYLIGHT
TZOFFSETFROM:-0600
TZOFFSETTO:-0500
TZNAME:CDT
DTSTART:20250309T080000
END:DAYLIGHT
BEGIN:STANDARD
TZOFFSETFROM:-0500
TZOFFSETTO:-0600
TZNAME:CST
DTSTART:20251102T070000
END:STANDARD
END:VTIMEZONE
BEGIN:VEVENT
DTSTART;TZID=America/Chicago:20251005T093000
DTEND;TZID=America/Chicago:20251005T103000
DTSTAMP:20260419T081648
CREATED:20250905T211538Z
LAST-MODIFIED:20251004T221527Z
UID:10001956-1759656600-1759660200@yorkshireofedina.com
SUMMARY:Church Service on TV
DESCRIPTION:
URL:https://yorkshireofedina.com/event-calendar/church-service-on-tv-22/
LOCATION:TV Room
CATEGORIES:Memory Care
END:VEVENT
BEGIN:VEVENT
DTSTART;TZID=America/Chicago:20251005T103000
DTEND;TZID=America/Chicago:20251005T113000
DTSTAMP:20260419T081648
CREATED:20250905T211538Z
LAST-MODIFIED:20251004T221527Z
UID:10001957-1759660200-1759663800@yorkshireofedina.com
SUMMARY:Exercise
DESCRIPTION:
URL:https://yorkshireofedina.com/event-calendar/exercise-154/
LOCATION:TV Room
CATEGORIES:Memory Care
END:VEVENT
BEGIN:VEVENT
DTSTART;TZID=America/Chicago:20251005T103000
DTEND;TZID=America/Chicago:20251005T113000
DTSTAMP:20260419T081648
CREATED:20250905T211538Z
LAST-MODIFIED:20251004T221527Z
UID:10001958-1759660200-1759663800@yorkshireofedina.com
SUMMARY:Sing-A-Long
DESCRIPTION:
URL:https://yorkshireofedina.com/event-calendar/sing-a-long-10/
LOCATION:TV Room
CATEGORIES:Memory Care
END:VEVENT
BEGIN:VEVENT
DTSTART;TZID=America/Chicago:20251005T143000
DTEND;TZID=America/Chicago:20251005T153000
DTSTAMP:20260419T081648
CREATED:20250905T211538Z
LAST-MODIFIED:20251004T221527Z
UID:10001959-1759674600-1759678200@yorkshireofedina.com
SUMMARY:Coloring With Lisa
DESCRIPTION:
URL:https://yorkshireofedina.com/event-calendar/coloring-with-lisa-12/
LOCATION:Garden Room
CATEGORIES:Memory Care
END:VEVENT
BEGIN:VEVENT
DTSTART;TZID=America/Chicago:20251005T153000
DTEND;TZID=America/Chicago:20251005T163000
DTSTAMP:20260419T081648
CREATED:20250905T211538Z
LAST-MODIFIED:20251004T221527Z
UID:10001960-1759678200-1759681800@yorkshireofedina.com
SUMMARY:Activity with Lisa
DESCRIPTION:
URL:https://yorkshireofedina.com/event-calendar/activity-with-lisa-12/
LOCATION:Garden Room
CATEGORIES:Memory Care
END:VEVENT
END:VCALENDAR