BEGIN:VCALENDAR
VERSION:2.0
PRODID:-//Yorkshire of Edina - ECPv6.11.2.1//NONSGML v1.0//EN
CALSCALE:GREGORIAN
METHOD:PUBLISH
X-ORIGINAL-URL:https://yorkshireofedina.com
X-WR-CALDESC:Events for Yorkshire of Edina
REFRESH-INTERVAL;VALUE=DURATION:PT1H
X-Robots-Tag:noindex
X-PUBLISHED-TTL:PT1H
BEGIN:VTIMEZONE
TZID:America/Chicago
BEGIN:DAYLIGHT
TZOFFSETFROM:-0600
TZOFFSETTO:-0500
TZNAME:CDT
DTSTART:20250309T080000
END:DAYLIGHT
BEGIN:STANDARD
TZOFFSETFROM:-0500
TZOFFSETTO:-0600
TZNAME:CST
DTSTART:20251102T070000
END:STANDARD
END:VTIMEZONE
BEGIN:VEVENT
DTSTART;TZID=America/Chicago:20251006T093000
DTEND;TZID=America/Chicago:20251006T103000
DTSTAMP:20260419T081650
CREATED:20250906T211535Z
LAST-MODIFIED:20251005T221526Z
UID:10001967-1759743000-1759746600@yorkshireofedina.com
SUMMARY:Music Relaxation
DESCRIPTION:
URL:https://yorkshireofedina.com/event-calendar/music-relaxation-43/
LOCATION:Near Nurse Station
CATEGORIES:Memory Care
END:VEVENT
BEGIN:VEVENT
DTSTART;TZID=America/Chicago:20251006T100000
DTEND;TZID=America/Chicago:20251006T110000
DTSTAMP:20260419T081650
CREATED:20250906T211535Z
LAST-MODIFIED:20251005T221526Z
UID:10001968-1759744800-1759748400@yorkshireofedina.com
SUMMARY:Coffee Social
DESCRIPTION:
URL:https://yorkshireofedina.com/event-calendar/coffee-social-11/
LOCATION:TV Room
CATEGORIES:Memory Care
END:VEVENT
BEGIN:VEVENT
DTSTART;TZID=America/Chicago:20251006T110000
DTEND;TZID=America/Chicago:20251006T120000
DTSTAMP:20260419T081650
CREATED:20250906T211535Z
LAST-MODIFIED:20251005T221526Z
UID:10001969-1759748400-1759752000@yorkshireofedina.com
SUMMARY:Aging Into Strength
DESCRIPTION:
URL:https://yorkshireofedina.com/event-calendar/aging-with-strength/
LOCATION:TV Room
CATEGORIES:Memory Care
END:VEVENT
BEGIN:VEVENT
DTSTART;TZID=America/Chicago:20251006T113000
DTEND;TZID=America/Chicago:20251006T123000
DTSTAMP:20260419T081650
CREATED:20250906T211535Z
LAST-MODIFIED:20251005T221526Z
UID:10001970-1759750200-1759753800@yorkshireofedina.com
SUMMARY:Oshibori
DESCRIPTION:
URL:https://yorkshireofedina.com/event-calendar/oshibori-116/
LOCATION:Dining Room
CATEGORIES:Memory Care
END:VEVENT
BEGIN:VEVENT
DTSTART;TZID=America/Chicago:20251006T140000
DTEND;TZID=America/Chicago:20251006T153000
DTSTAMP:20260419T081650
CREATED:20250906T211535Z
LAST-MODIFIED:20251005T221526Z
UID:10001971-1759759200-1759764600@yorkshireofedina.com
SUMMARY:Puzzles
DESCRIPTION:
URL:https://yorkshireofedina.com/event-calendar/puzzles-21/
LOCATION:Garden Room
CATEGORIES:Memory Care
END:VEVENT
BEGIN:VEVENT
DTSTART;TZID=America/Chicago:20251006T153000
DTEND;TZID=America/Chicago:20251006T163000
DTSTAMP:20260419T081650
CREATED:20250906T211536Z
LAST-MODIFIED:20251005T221526Z
UID:10001972-1759764600-1759768200@yorkshireofedina.com
SUMMARY:Manicure/ Hand Massages
DESCRIPTION:
URL:https://yorkshireofedina.com/event-calendar/manicure-hand-massages-41/
LOCATION:Garden Room
CATEGORIES:Memory Care
END:VEVENT
BEGIN:VEVENT
DTSTART;TZID=America/Chicago:20251006T163000
DTEND;TZID=America/Chicago:20251006T173000
DTSTAMP:20260419T081650
CREATED:20250907T211537Z
LAST-MODIFIED:20251006T221527Z
UID:10001976-1759768200-1759771800@yorkshireofedina.com
SUMMARY:Oshibori
DESCRIPTION:
URL:https://yorkshireofedina.com/event-calendar/oshibori-117/
LOCATION:Dining Room
CATEGORIES:Memory Care
END:VEVENT
BEGIN:VEVENT
DTSTART;TZID=America/Chicago:20251006T180000
DTEND;TZID=America/Chicago:20251006T190000
DTSTAMP:20260419T081650
CREATED:20250907T211537Z
LAST-MODIFIED:20251006T221527Z
UID:10001977-1759773600-1759777200@yorkshireofedina.com
SUMMARY:Activity with Aides
DESCRIPTION:
URL:https://yorkshireofedina.com/event-calendar/trivia-with-suzie-21/
LOCATION:TV Room
CATEGORIES:Memory Care
END:VEVENT
BEGIN:VEVENT
DTSTART;TZID=America/Chicago:20251006T184500
DTEND;TZID=America/Chicago:20251006T193000
DTSTAMP:20260419T081650
CREATED:20250907T211537Z
LAST-MODIFIED:20250918T214809Z
UID:10001978-1759776300-1759779000@yorkshireofedina.com
SUMMARY:Activity with Aides
DESCRIPTION:
URL:https://yorkshireofedina.com/event-calendar/bowling-with-suzie-21/
LOCATION:TV Room
CATEGORIES:Memory Care
END:VEVENT
END:VCALENDAR