BEGIN:VCALENDAR
VERSION:2.0
PRODID:-//Yorkshire of Edina - ECPv6.11.2.1//NONSGML v1.0//EN
CALSCALE:GREGORIAN
METHOD:PUBLISH
X-ORIGINAL-URL:https://yorkshireofedina.com
X-WR-CALDESC:Events for Yorkshire of Edina
REFRESH-INTERVAL;VALUE=DURATION:PT1H
X-Robots-Tag:noindex
X-PUBLISHED-TTL:PT1H
BEGIN:VTIMEZONE
TZID:America/Chicago
BEGIN:DAYLIGHT
TZOFFSETFROM:-0600
TZOFFSETTO:-0500
TZNAME:CDT
DTSTART:20250309T080000
END:DAYLIGHT
BEGIN:STANDARD
TZOFFSETFROM:-0500
TZOFFSETTO:-0600
TZNAME:CST
DTSTART:20251102T070000
END:STANDARD
END:VTIMEZONE
BEGIN:VEVENT
DTSTART;TZID=America/Chicago:20251007T093000
DTEND;TZID=America/Chicago:20251007T103000
DTSTAMP:20260419T081649
CREATED:20250907T211537Z
LAST-MODIFIED:20251006T221527Z
UID:10001979-1759829400-1759833000@yorkshireofedina.com
SUMMARY:Music Relaxation
DESCRIPTION:
URL:https://yorkshireofedina.com/event-calendar/music-relaxation-44/
LOCATION:Near Nurse Station
CATEGORIES:Memory Care
END:VEVENT
BEGIN:VEVENT
DTSTART;TZID=America/Chicago:20251007T100000
DTEND;TZID=America/Chicago:20251007T110000
DTSTAMP:20260419T081649
CREATED:20250907T211537Z
LAST-MODIFIED:20251006T221527Z
UID:10001980-1759831200-1759834800@yorkshireofedina.com
SUMMARY:Coffee Social
DESCRIPTION:
URL:https://yorkshireofedina.com/event-calendar/coffee-social-12/
LOCATION:TV Room
CATEGORIES:Memory Care
END:VEVENT
BEGIN:VEVENT
DTSTART;TZID=America/Chicago:20251007T100000
DTEND;TZID=America/Chicago:20251007T110000
DTSTAMP:20260419T081649
CREATED:20250907T211537Z
LAST-MODIFIED:20251006T221527Z
UID:10001981-1759831200-1759834800@yorkshireofedina.com
SUMMARY:Worship Service
DESCRIPTION:
URL:https://yorkshireofedina.com/event-calendar/worship-service-42/
LOCATION:TV Room
CATEGORIES:Memory Care
END:VEVENT
BEGIN:VEVENT
DTSTART;TZID=America/Chicago:20251007T110000
DTEND;TZID=America/Chicago:20251007T120000
DTSTAMP:20260419T081649
CREATED:20250907T211537Z
LAST-MODIFIED:20251006T221527Z
UID:10001982-1759834800-1759838400@yorkshireofedina.com
SUMMARY:Aging Into Strength
DESCRIPTION:
URL:https://yorkshireofedina.com/event-calendar/aging-with-strength-2/
LOCATION:TV Room
CATEGORIES:Memory Care
END:VEVENT
BEGIN:VEVENT
DTSTART;TZID=America/Chicago:20251007T113000
DTEND;TZID=America/Chicago:20251007T123000
DTSTAMP:20260419T081649
CREATED:20250907T211537Z
LAST-MODIFIED:20251006T221527Z
UID:10001983-1759836600-1759840200@yorkshireofedina.com
SUMMARY:Oshibori
DESCRIPTION:
URL:https://yorkshireofedina.com/event-calendar/oshibori-118/
LOCATION:Dining Room
CATEGORIES:Memory Care
END:VEVENT
BEGIN:VEVENT
DTSTART;TZID=America/Chicago:20251007T140000
DTEND;TZID=America/Chicago:20251007T150000
DTSTAMP:20260419T081649
CREATED:20250907T211537Z
LAST-MODIFIED:20251002T220025Z
UID:10001984-1759845600-1759849200@yorkshireofedina.com
SUMMARY:Bingo
DESCRIPTION:
URL:https://yorkshireofedina.com/event-calendar/bingo-69/
LOCATION:Garden Room
CATEGORIES:Memory Care
END:VEVENT
BEGIN:VEVENT
DTSTART;TZID=America/Chicago:20251007T143000
DTEND;TZID=America/Chicago:20251007T153000
DTSTAMP:20260419T081649
CREATED:20250907T211537Z
LAST-MODIFIED:20251007T010026Z
UID:10001985-1759847400-1759851000@yorkshireofedina.com
SUMMARY:The Singing Cowboy (Todd A.) Concert
DESCRIPTION:
URL:https://yorkshireofedina.com/event-calendar/the-singing-cowboy-todd-a-concert/
LOCATION:Bistro
CATEGORIES:Assisted Living,Independent Living,Memory Care
END:VEVENT
BEGIN:VEVENT
DTSTART;TZID=America/Chicago:20251007T153000
DTEND;TZID=America/Chicago:20251007T163000
DTSTAMP:20260419T081649
CREATED:20250907T211537Z
LAST-MODIFIED:20251006T221528Z
UID:10001986-1759851000-1759854600@yorkshireofedina.com
SUMMARY:Cookie Baking/ Popcorn Social
DESCRIPTION:
URL:https://yorkshireofedina.com/event-calendar/cookie-baking-popcorn-social-15/
LOCATION:Garden Room
CATEGORIES:Memory Care
END:VEVENT
BEGIN:VEVENT
DTSTART;TZID=America/Chicago:20251007T163000
DTEND;TZID=America/Chicago:20251007T173000
DTSTAMP:20260419T081649
CREATED:20250908T211536Z
LAST-MODIFIED:20251006T221528Z
UID:10001994-1759854600-1759858200@yorkshireofedina.com
SUMMARY:Oshibori
DESCRIPTION:
URL:https://yorkshireofedina.com/event-calendar/oshibori-119/
LOCATION:Dining Room
CATEGORIES:Memory Care
END:VEVENT
BEGIN:VEVENT
DTSTART;TZID=America/Chicago:20251007T180000
DTEND;TZID=America/Chicago:20251007T190000
DTSTAMP:20260419T081649
CREATED:20250908T211537Z
LAST-MODIFIED:20251007T223038Z
UID:10001995-1759860000-1759863600@yorkshireofedina.com
SUMMARY:Activity with Aides
DESCRIPTION:
URL:https://yorkshireofedina.com/event-calendar/arts-and-crafts-with-suzie-21/
LOCATION:TV Room
CATEGORIES:Memory Care
END:VEVENT
BEGIN:VEVENT
DTSTART;TZID=America/Chicago:20251007T184500
DTEND;TZID=America/Chicago:20251007T194500
DTSTAMP:20260419T081649
CREATED:20250908T211537Z
LAST-MODIFIED:20250918T214820Z
UID:10001996-1759862700-1759866300@yorkshireofedina.com
SUMMARY:Activity with Aides
DESCRIPTION:
URL:https://yorkshireofedina.com/event-calendar/puzzles-with-suzie-21/
LOCATION:TV Room
CATEGORIES:Memory Care
END:VEVENT
END:VCALENDAR