BEGIN:VCALENDAR
VERSION:2.0
PRODID:-//Yorkshire of Edina - ECPv6.11.2.1//NONSGML v1.0//EN
CALSCALE:GREGORIAN
METHOD:PUBLISH
X-ORIGINAL-URL:https://yorkshireofedina.com
X-WR-CALDESC:Events for Yorkshire of Edina
REFRESH-INTERVAL;VALUE=DURATION:PT1H
X-Robots-Tag:noindex
X-PUBLISHED-TTL:PT1H
BEGIN:VTIMEZONE
TZID:America/Chicago
BEGIN:DAYLIGHT
TZOFFSETFROM:-0600
TZOFFSETTO:-0500
TZNAME:CDT
DTSTART:20250309T080000
END:DAYLIGHT
BEGIN:STANDARD
TZOFFSETFROM:-0500
TZOFFSETTO:-0600
TZNAME:CST
DTSTART:20251102T070000
END:STANDARD
END:VTIMEZONE
BEGIN:VEVENT
DTSTART;TZID=America/Chicago:20251008T093000
DTEND;TZID=America/Chicago:20251008T103000
DTSTAMP:20260419T081651
CREATED:20250908T211537Z
LAST-MODIFIED:20251007T223038Z
UID:10001997-1759915800-1759919400@yorkshireofedina.com
SUMMARY:Music Relaxation
DESCRIPTION:
URL:https://yorkshireofedina.com/event-calendar/music-relaxation-45/
LOCATION:Near Nurse Station
CATEGORIES:Memory Care
END:VEVENT
BEGIN:VEVENT
DTSTART;TZID=America/Chicago:20251008T100000
DTEND;TZID=America/Chicago:20251008T110000
DTSTAMP:20260419T081651
CREATED:20250908T211537Z
LAST-MODIFIED:20251007T223038Z
UID:10001998-1759917600-1759921200@yorkshireofedina.com
SUMMARY:Coffee Social
DESCRIPTION:
URL:https://yorkshireofedina.com/event-calendar/coffee-social-13/
LOCATION:TV Room
CATEGORIES:Memory Care
END:VEVENT
BEGIN:VEVENT
DTSTART;TZID=America/Chicago:20251008T110000
DTEND;TZID=America/Chicago:20251008T120000
DTSTAMP:20260419T081651
CREATED:20250908T211537Z
LAST-MODIFIED:20251007T223038Z
UID:10001999-1759921200-1759924800@yorkshireofedina.com
SUMMARY:Aging Into Strength
DESCRIPTION:
URL:https://yorkshireofedina.com/event-calendar/aging-with-strength-3/
LOCATION:TV Room
CATEGORIES:Memory Care
END:VEVENT
BEGIN:VEVENT
DTSTART;TZID=America/Chicago:20251008T113000
DTEND;TZID=America/Chicago:20251008T123000
DTSTAMP:20260419T081651
CREATED:20250908T211537Z
LAST-MODIFIED:20251007T223038Z
UID:10002000-1759923000-1759926600@yorkshireofedina.com
SUMMARY:Oshibori
DESCRIPTION:
URL:https://yorkshireofedina.com/event-calendar/oshibori-120/
LOCATION:Dining Room
CATEGORIES:Memory Care
END:VEVENT
BEGIN:VEVENT
DTSTART;TZID=America/Chicago:20251008T140000
DTEND;TZID=America/Chicago:20251008T150000
DTSTAMP:20260419T081651
CREATED:20250908T211537Z
LAST-MODIFIED:20251007T223038Z
UID:10002001-1759932000-1759935600@yorkshireofedina.com
SUMMARY:Classroom Experience - Time Slips by Danielle & Ajibola
DESCRIPTION:
URL:https://yorkshireofedina.com/event-calendar/classroom-experience-20/
LOCATION:Garden Room
CATEGORIES:Memory Care
END:VEVENT
BEGIN:VEVENT
DTSTART;TZID=America/Chicago:20251008T153000
DTEND;TZID=America/Chicago:20251008T163000
DTSTAMP:20260419T081651
CREATED:20250908T211537Z
LAST-MODIFIED:20251007T223038Z
UID:10002002-1759937400-1759941000@yorkshireofedina.com
SUMMARY:Manicure/ Hand Massages
DESCRIPTION:
URL:https://yorkshireofedina.com/event-calendar/manicure-hand-massages-42/
LOCATION:Garden Room
CATEGORIES:Memory Care
END:VEVENT
BEGIN:VEVENT
DTSTART;TZID=America/Chicago:20251008T163000
DTEND;TZID=America/Chicago:20251008T173000
DTSTAMP:20260419T081651
CREATED:20250909T211619Z
LAST-MODIFIED:20251007T223038Z
UID:10002009-1759941000-1759944600@yorkshireofedina.com
SUMMARY:Oshibori
DESCRIPTION:
URL:https://yorkshireofedina.com/event-calendar/oshibori-121/
LOCATION:Dining Room
CATEGORIES:Memory Care
END:VEVENT
BEGIN:VEVENT
DTSTART;TZID=America/Chicago:20251008T180000
DTEND;TZID=America/Chicago:20251008T190000
DTSTAMP:20260419T081651
CREATED:20250909T211620Z
LAST-MODIFIED:20251008T224525Z
UID:10002010-1759946400-1759950000@yorkshireofedina.com
SUMMARY:Yoga with Lisa
DESCRIPTION:
URL:https://yorkshireofedina.com/event-calendar/yoga-with-lisa-53/
LOCATION:TV Room
CATEGORIES:Memory Care
END:VEVENT
BEGIN:VEVENT
DTSTART;TZID=America/Chicago:20251008T184500
DTEND;TZID=America/Chicago:20251008T190000
DTSTAMP:20260419T081651
CREATED:20250909T211620Z
LAST-MODIFIED:20251008T224525Z
UID:10002011-1759949100-1759950000@yorkshireofedina.com
SUMMARY:Armchair Travel
DESCRIPTION:
URL:https://yorkshireofedina.com/event-calendar/armchair-travel-54/
LOCATION:TV Room
CATEGORIES:Memory Care
END:VEVENT
END:VCALENDAR