BEGIN:VCALENDAR
VERSION:2.0
PRODID:-//Yorkshire of Edina - ECPv6.11.2.1//NONSGML v1.0//EN
CALSCALE:GREGORIAN
METHOD:PUBLISH
X-WR-CALNAME:Yorkshire of Edina
X-ORIGINAL-URL:https://yorkshireofedina.com
X-WR-CALDESC:Events for Yorkshire of Edina
REFRESH-INTERVAL;VALUE=DURATION:PT1H
X-Robots-Tag:noindex
X-PUBLISHED-TTL:PT1H
BEGIN:VTIMEZONE
TZID:America/Chicago
BEGIN:DAYLIGHT
TZOFFSETFROM:-0600
TZOFFSETTO:-0500
TZNAME:CDT
DTSTART:20250309T080000
END:DAYLIGHT
BEGIN:STANDARD
TZOFFSETFROM:-0500
TZOFFSETTO:-0600
TZNAME:CST
DTSTART:20251102T070000
END:STANDARD
END:VTIMEZONE
BEGIN:VEVENT
DTSTART;TZID=America/Chicago:20251009T093000
DTEND;TZID=America/Chicago:20251009T103000
DTSTAMP:20260419T081633
CREATED:20250909T211620Z
LAST-MODIFIED:20251008T224526Z
UID:10002012-1760002200-1760005800@yorkshireofedina.com
SUMMARY:Music Relaxation
DESCRIPTION:
URL:https://yorkshireofedina.com/event-calendar/music-relaxation-46/
LOCATION:Near Nurse Station
CATEGORIES:Memory Care
END:VEVENT
BEGIN:VEVENT
DTSTART;TZID=America/Chicago:20251009T100000
DTEND;TZID=America/Chicago:20251009T110000
DTSTAMP:20260419T081633
CREATED:20250909T211620Z
LAST-MODIFIED:20251008T224526Z
UID:10002013-1760004000-1760007600@yorkshireofedina.com
SUMMARY:Coffee Social
DESCRIPTION:
URL:https://yorkshireofedina.com/event-calendar/coffee-social-14/
LOCATION:TV Room
CATEGORIES:Memory Care
END:VEVENT
BEGIN:VEVENT
DTSTART;TZID=America/Chicago:20251009T100000
DTEND;TZID=America/Chicago:20251009T110000
DTSTAMP:20260419T081633
CREATED:20250909T211621Z
LAST-MODIFIED:20251008T224526Z
UID:10002014-1760004000-1760007600@yorkshireofedina.com
SUMMARY:Worship Service
DESCRIPTION:
URL:https://yorkshireofedina.com/event-calendar/worship-service-43/
LOCATION:TV Room
CATEGORIES:Memory Care
END:VEVENT
BEGIN:VEVENT
DTSTART;TZID=America/Chicago:20251009T104500
DTEND;TZID=America/Chicago:20251009T114500
DTSTAMP:20260419T081633
CREATED:20250909T211621Z
LAST-MODIFIED:20251008T224526Z
UID:10002015-1760006700-1760010300@yorkshireofedina.com
SUMMARY:Catholic Communion
DESCRIPTION:
URL:https://yorkshireofedina.com/event-calendar/catholic-communion-19/
LOCATION:TV Room
CATEGORIES:Memory Care
END:VEVENT
BEGIN:VEVENT
DTSTART;TZID=America/Chicago:20251009T110000
DTEND;TZID=America/Chicago:20251009T120000
DTSTAMP:20260419T081633
CREATED:20250909T211621Z
LAST-MODIFIED:20251008T224526Z
UID:10002016-1760007600-1760011200@yorkshireofedina.com
SUMMARY:Aging Into Strength
DESCRIPTION:
URL:https://yorkshireofedina.com/event-calendar/aging-with-strength-4/
LOCATION:TV Room
CATEGORIES:Memory Care
END:VEVENT
BEGIN:VEVENT
DTSTART;TZID=America/Chicago:20251009T113000
DTEND;TZID=America/Chicago:20251009T123000
DTSTAMP:20260419T081633
CREATED:20250909T211621Z
LAST-MODIFIED:20251008T224526Z
UID:10002017-1760009400-1760013000@yorkshireofedina.com
SUMMARY:Oshibori
DESCRIPTION:
URL:https://yorkshireofedina.com/event-calendar/oshibori-122/
LOCATION:Dining Room
CATEGORIES:Memory Care
END:VEVENT
BEGIN:VEVENT
DTSTART;TZID=America/Chicago:20251009T140000
DTEND;TZID=America/Chicago:20251009T150000
DTSTAMP:20260419T081633
CREATED:20250909T211621Z
LAST-MODIFIED:20251008T224526Z
UID:10002018-1760018400-1760022000@yorkshireofedina.com
SUMMARY:Sing Along\, Dance and Ice Cream Social
DESCRIPTION:
URL:https://yorkshireofedina.com/event-calendar/sing-along-dance-and-ice-cream-social-9/
LOCATION:TV Room
CATEGORIES:Memory Care
END:VEVENT
BEGIN:VEVENT
DTSTART;TZID=America/Chicago:20251009T150000
DTEND;TZID=America/Chicago:20251009T160000
DTSTAMP:20260419T081633
CREATED:20250909T211621Z
LAST-MODIFIED:20251008T224526Z
UID:10002019-1760022000-1760025600@yorkshireofedina.com
SUMMARY:Trivia
DESCRIPTION:
URL:https://yorkshireofedina.com/event-calendar/trivia-30/
LOCATION:Garden Room
CATEGORIES:Memory Care
END:VEVENT
BEGIN:VEVENT
DTSTART;TZID=America/Chicago:20251009T163000
DTEND;TZID=America/Chicago:20251009T173000
DTSTAMP:20260419T081633
CREATED:20250910T211629Z
LAST-MODIFIED:20251008T224537Z
UID:10002026-1760027400-1760031000@yorkshireofedina.com
SUMMARY:Oshibori
DESCRIPTION:
URL:https://yorkshireofedina.com/event-calendar/oshibori-123/
LOCATION:Dining Room
CATEGORIES:Memory Care
END:VEVENT
BEGIN:VEVENT
DTSTART;TZID=America/Chicago:20251009T180000
DTEND;TZID=America/Chicago:20251009T190000
DTSTAMP:20260419T081633
CREATED:20250910T211629Z
LAST-MODIFIED:20251009T224525Z
UID:10002027-1760032800-1760036400@yorkshireofedina.com
SUMMARY:Sweep Six with Lisa
DESCRIPTION:
URL:https://yorkshireofedina.com/event-calendar/sweep-six-with-lisa/
LOCATION:TV Room
CATEGORIES:Memory Care
END:VEVENT
BEGIN:VEVENT
DTSTART;TZID=America/Chicago:20251009T184500
DTEND;TZID=America/Chicago:20251009T194500
DTSTAMP:20260419T081633
CREATED:20250910T211630Z
LAST-MODIFIED:20251009T224526Z
UID:10002028-1760035500-1760039100@yorkshireofedina.com
SUMMARY:Who Am I? with Lisa
DESCRIPTION:
URL:https://yorkshireofedina.com/event-calendar/who-am-i-with-lisa/
LOCATION:TV Room
CATEGORIES:Memory Care
END:VEVENT
END:VCALENDAR