BEGIN:VCALENDAR
VERSION:2.0
PRODID:-//Yorkshire of Edina - ECPv6.11.2.1//NONSGML v1.0//EN
CALSCALE:GREGORIAN
METHOD:PUBLISH
X-WR-CALNAME:Yorkshire of Edina
X-ORIGINAL-URL:https://yorkshireofedina.com
X-WR-CALDESC:Events for Yorkshire of Edina
REFRESH-INTERVAL;VALUE=DURATION:PT1H
X-Robots-Tag:noindex
X-PUBLISHED-TTL:PT1H
BEGIN:VTIMEZONE
TZID:America/Chicago
BEGIN:DAYLIGHT
TZOFFSETFROM:-0600
TZOFFSETTO:-0500
TZNAME:CDT
DTSTART:20250309T080000
END:DAYLIGHT
BEGIN:STANDARD
TZOFFSETFROM:-0500
TZOFFSETTO:-0600
TZNAME:CST
DTSTART:20251102T070000
END:STANDARD
END:VTIMEZONE
BEGIN:VEVENT
DTSTART;TZID=America/Chicago:20251010T093000
DTEND;TZID=America/Chicago:20251010T103000
DTSTAMP:20260419T081640
CREATED:20250910T211630Z
LAST-MODIFIED:20251009T224526Z
UID:10002029-1760088600-1760092200@yorkshireofedina.com
SUMMARY:Music Relaxation
DESCRIPTION:
URL:https://yorkshireofedina.com/event-calendar/music-relaxation-47/
LOCATION:Near Nurse Station
CATEGORIES:Memory Care
END:VEVENT
BEGIN:VEVENT
DTSTART;TZID=America/Chicago:20251010T100000
DTEND;TZID=America/Chicago:20251010T110000
DTSTAMP:20260419T081640
CREATED:20250910T211630Z
LAST-MODIFIED:20251009T224526Z
UID:10002030-1760090400-1760094000@yorkshireofedina.com
SUMMARY:Coffee Social
DESCRIPTION:
URL:https://yorkshireofedina.com/event-calendar/coffee-social-15/
LOCATION:TV Room
CATEGORIES:Memory Care
END:VEVENT
BEGIN:VEVENT
DTSTART;TZID=America/Chicago:20251010T103000
DTEND;TZID=America/Chicago:20251010T113000
DTSTAMP:20260419T081640
CREATED:20250910T211630Z
LAST-MODIFIED:20251009T224526Z
UID:10002031-1760092200-1760095800@yorkshireofedina.com
SUMMARY:Devotion / Spiritual Sing Along
DESCRIPTION:
URL:https://yorkshireofedina.com/event-calendar/devotion-spiritual-sing-along-21/
LOCATION:TV Room
CATEGORIES:Memory Care
END:VEVENT
BEGIN:VEVENT
DTSTART;TZID=America/Chicago:20251010T110000
DTEND;TZID=America/Chicago:20251010T120000
DTSTAMP:20260419T081640
CREATED:20250910T211630Z
LAST-MODIFIED:20251009T224526Z
UID:10002032-1760094000-1760097600@yorkshireofedina.com
SUMMARY:Aging Into Strength
DESCRIPTION:
URL:https://yorkshireofedina.com/event-calendar/aging-with-strength-5/
LOCATION:TV Room
CATEGORIES:Memory Care
END:VEVENT
BEGIN:VEVENT
DTSTART;TZID=America/Chicago:20251010T113000
DTEND;TZID=America/Chicago:20251010T123000
DTSTAMP:20260419T081640
CREATED:20250910T211630Z
LAST-MODIFIED:20251009T224526Z
UID:10002033-1760095800-1760099400@yorkshireofedina.com
SUMMARY:Oshibori
DESCRIPTION:
URL:https://yorkshireofedina.com/event-calendar/oshibori-124/
LOCATION:Dining Room
CATEGORIES:Memory Care
END:VEVENT
BEGIN:VEVENT
DTSTART;TZID=America/Chicago:20251010T134500
DTEND;TZID=America/Chicago:20251010T144500
DTSTAMP:20260419T081640
CREATED:20250910T211630Z
LAST-MODIFIED:20251009T224526Z
UID:10002034-1760103900-1760107500@yorkshireofedina.com
SUMMARY:Live Music/ Happy Hour
DESCRIPTION:
URL:https://yorkshireofedina.com/event-calendar/live-music-happy-hour-19/
LOCATION:TV Room
CATEGORIES:Memory Care
END:VEVENT
BEGIN:VEVENT
DTSTART;TZID=America/Chicago:20251010T163000
DTEND;TZID=America/Chicago:20251010T173000
DTSTAMP:20260419T081640
CREATED:20250911T211538Z
LAST-MODIFIED:20251009T224526Z
UID:10002042-1760113800-1760117400@yorkshireofedina.com
SUMMARY:Oshibori
DESCRIPTION:
URL:https://yorkshireofedina.com/event-calendar/oshibori-125/
LOCATION:Dining Room
CATEGORIES:Memory Care
END:VEVENT
BEGIN:VEVENT
DTSTART;TZID=America/Chicago:20251010T180000
DTEND;TZID=America/Chicago:20251010T184500
DTSTAMP:20260419T081640
CREATED:20250911T211539Z
LAST-MODIFIED:20251010T224527Z
UID:10002043-1760119200-1760121900@yorkshireofedina.com
SUMMARY:Yoga with Lisa
DESCRIPTION:
URL:https://yorkshireofedina.com/event-calendar/yoga-with-lisa-54/
LOCATION:TV Room
CATEGORIES:Memory Care
END:VEVENT
BEGIN:VEVENT
DTSTART;TZID=America/Chicago:20251010T184500
DTEND;TZID=America/Chicago:20251010T194500
DTSTAMP:20260419T081640
CREATED:20250911T211539Z
LAST-MODIFIED:20251010T224527Z
UID:10002044-1760121900-1760125500@yorkshireofedina.com
SUMMARY:Armchair Travel
DESCRIPTION:
URL:https://yorkshireofedina.com/event-calendar/armchair-travel-55/
LOCATION:TV Room
CATEGORIES:Memory Care
END:VEVENT
END:VCALENDAR