BEGIN:VCALENDAR
VERSION:2.0
PRODID:-//Yorkshire of Edina - ECPv6.11.2.1//NONSGML v1.0//EN
CALSCALE:GREGORIAN
METHOD:PUBLISH
X-WR-CALNAME:Yorkshire of Edina
X-ORIGINAL-URL:https://yorkshireofedina.com
X-WR-CALDESC:Events for Yorkshire of Edina
REFRESH-INTERVAL;VALUE=DURATION:PT1H
X-Robots-Tag:noindex
X-PUBLISHED-TTL:PT1H
BEGIN:VTIMEZONE
TZID:America/Chicago
BEGIN:DAYLIGHT
TZOFFSETFROM:-0600
TZOFFSETTO:-0500
TZNAME:CDT
DTSTART:20250309T080000
END:DAYLIGHT
BEGIN:STANDARD
TZOFFSETFROM:-0500
TZOFFSETTO:-0600
TZNAME:CST
DTSTART:20251102T070000
END:STANDARD
END:VTIMEZONE
BEGIN:VEVENT
DTSTART;TZID=America/Chicago:20251011T100000
DTEND;TZID=America/Chicago:20251011T110000
DTSTAMP:20260419T081638
CREATED:20250919T220032Z
LAST-MODIFIED:20251010T224528Z
UID:10002161-1760176800-1760180400@yorkshireofedina.com
SUMMARY:Music Relaxation by Aides
DESCRIPTION:
URL:https://yorkshireofedina.com/event-calendar/music-relaxation-by-aides-4/
LOCATION:Near Nurse Station
CATEGORIES:Memory Care
END:VEVENT
BEGIN:VEVENT
DTSTART;TZID=America/Chicago:20251011T104500
DTEND;TZID=America/Chicago:20251011T114500
DTSTAMP:20260419T081638
CREATED:20250911T211539Z
LAST-MODIFIED:20250918T214855Z
UID:10002045-1760179500-1760183100@yorkshireofedina.com
SUMMARY:Exercise
DESCRIPTION:
URL:https://yorkshireofedina.com/event-calendar/exercise-155/
LOCATION:TV Room
CATEGORIES:Memory Care
END:VEVENT
BEGIN:VEVENT
DTSTART;TZID=America/Chicago:20251011T143000
DTEND;TZID=America/Chicago:20251011T153000
DTSTAMP:20260419T081638
CREATED:20250911T211539Z
LAST-MODIFIED:20251010T224528Z
UID:10002046-1760193000-1760196600@yorkshireofedina.com
SUMMARY:Movie (by Aides)
DESCRIPTION:
URL:https://yorkshireofedina.com/event-calendar/sweep-six-with-suzie-11/
LOCATION:Near Nurse Station
CATEGORIES:Memory Care
END:VEVENT
BEGIN:VEVENT
DTSTART;TZID=America/Chicago:20251011T180000
DTEND;TZID=America/Chicago:20251011T190000
DTSTAMP:20260419T081638
CREATED:20250911T211539Z
LAST-MODIFIED:20251011T230032Z
UID:10002047-1760205600-1760209200@yorkshireofedina.com
SUMMARY:Music Relaxation (by Aides)
DESCRIPTION:
URL:https://yorkshireofedina.com/event-calendar/painting-with-suzie-11/
LOCATION:Near Nurse Station
CATEGORIES:Memory Care
END:VEVENT
END:VCALENDAR