BEGIN:VCALENDAR
VERSION:2.0
PRODID:-//Yorkshire of Edina - ECPv6.11.2.1//NONSGML v1.0//EN
CALSCALE:GREGORIAN
METHOD:PUBLISH
X-WR-CALNAME:Yorkshire of Edina
X-ORIGINAL-URL:https://yorkshireofedina.com
X-WR-CALDESC:Events for Yorkshire of Edina
REFRESH-INTERVAL;VALUE=DURATION:PT1H
X-Robots-Tag:noindex
X-PUBLISHED-TTL:PT1H
BEGIN:VTIMEZONE
TZID:America/Chicago
BEGIN:DAYLIGHT
TZOFFSETFROM:-0600
TZOFFSETTO:-0500
TZNAME:CDT
DTSTART:20250309T080000
END:DAYLIGHT
BEGIN:STANDARD
TZOFFSETFROM:-0500
TZOFFSETTO:-0600
TZNAME:CST
DTSTART:20251102T070000
END:STANDARD
END:VTIMEZONE
BEGIN:VEVENT
DTSTART;TZID=America/Chicago:20251012T093000
DTEND;TZID=America/Chicago:20251012T103000
DTSTAMP:20260419T081638
CREATED:20250912T211541Z
LAST-MODIFIED:20250918T214855Z
UID:10002054-1760261400-1760265000@yorkshireofedina.com
SUMMARY:Church Service on TV
DESCRIPTION:
URL:https://yorkshireofedina.com/event-calendar/church-service-on-tv-23/
LOCATION:TV Room
CATEGORIES:Memory Care
END:VEVENT
BEGIN:VEVENT
DTSTART;TZID=America/Chicago:20251012T093000
DTEND;TZID=America/Chicago:20251012T103000
DTSTAMP:20260419T081638
CREATED:20250919T220032Z
LAST-MODIFIED:20251011T230032Z
UID:10002162-1760261400-1760265000@yorkshireofedina.com
SUMMARY:Music Relaxation (by Aides)
DESCRIPTION:
URL:https://yorkshireofedina.com/event-calendar/music-relaxation-by-aides-5/
LOCATION:Near Nurse Station
CATEGORIES:Memory Care
END:VEVENT
BEGIN:VEVENT
DTSTART;TZID=America/Chicago:20251012T103000
DTEND;TZID=America/Chicago:20251012T113000
DTSTAMP:20260419T081638
CREATED:20250912T211541Z
LAST-MODIFIED:20250918T214855Z
UID:10002055-1760265000-1760268600@yorkshireofedina.com
SUMMARY:Exercise
DESCRIPTION:
URL:https://yorkshireofedina.com/event-calendar/exercise-156/
LOCATION:TV Room
CATEGORIES:Memory Care
END:VEVENT
BEGIN:VEVENT
DTSTART;TZID=America/Chicago:20251012T140000
DTEND;TZID=America/Chicago:20251012T150000
DTSTAMP:20260419T081638
CREATED:20250912T211541Z
LAST-MODIFIED:20251011T230032Z
UID:10002056-1760277600-1760281200@yorkshireofedina.com
SUMMARY:Movie (by Aides)
DESCRIPTION:
URL:https://yorkshireofedina.com/event-calendar/sing-along-with-aides/
LOCATION:TV Room
CATEGORIES:Memory Care
END:VEVENT
BEGIN:VEVENT
DTSTART;TZID=America/Chicago:20251012T153000
DTEND;TZID=America/Chicago:20251012T163000
DTSTAMP:20260419T081638
CREATED:20250912T211541Z
LAST-MODIFIED:20250918T214907Z
UID:10002057-1760283000-1760286600@yorkshireofedina.com
SUMMARY:Activity with Aides
DESCRIPTION:
URL:https://yorkshireofedina.com/event-calendar/activity-with-aides/
LOCATION:TV Room
CATEGORIES:Memory Care
END:VEVENT
BEGIN:VEVENT
DTSTART;TZID=America/Chicago:20251012T180000
DTEND;TZID=America/Chicago:20251012T190000
DTSTAMP:20260419T081638
CREATED:20250919T220032Z
LAST-MODIFIED:20251012T230052Z
UID:10002163-1760292000-1760295600@yorkshireofedina.com
SUMMARY:Music Relaxation (by Aides)
DESCRIPTION:
URL:https://yorkshireofedina.com/event-calendar/music-relaxation-by-aides-6/
LOCATION:Near Nurse Station
CATEGORIES:Memory Care
END:VEVENT
END:VCALENDAR