BEGIN:VCALENDAR
VERSION:2.0
PRODID:-//Yorkshire of Edina - ECPv6.11.2.1//NONSGML v1.0//EN
CALSCALE:GREGORIAN
METHOD:PUBLISH
X-ORIGINAL-URL:https://yorkshireofedina.com
X-WR-CALDESC:Events for Yorkshire of Edina
REFRESH-INTERVAL;VALUE=DURATION:PT1H
X-Robots-Tag:noindex
X-PUBLISHED-TTL:PT1H
BEGIN:VTIMEZONE
TZID:America/Chicago
BEGIN:DAYLIGHT
TZOFFSETFROM:-0600
TZOFFSETTO:-0500
TZNAME:CDT
DTSTART:20250309T080000
END:DAYLIGHT
BEGIN:STANDARD
TZOFFSETFROM:-0500
TZOFFSETTO:-0600
TZNAME:CST
DTSTART:20251102T070000
END:STANDARD
END:VTIMEZONE
BEGIN:VEVENT
DTSTART;TZID=America/Chicago:20251013T093000
DTEND;TZID=America/Chicago:20251013T103000
DTSTAMP:20260419T081730
CREATED:20250913T211537Z
LAST-MODIFIED:20251012T230052Z
UID:10002064-1760347800-1760351400@yorkshireofedina.com
SUMMARY:Music Relaxation
DESCRIPTION:
URL:https://yorkshireofedina.com/event-calendar/music-relaxation-48/
LOCATION:Near Nurse Station
CATEGORIES:Memory Care
END:VEVENT
BEGIN:VEVENT
DTSTART;TZID=America/Chicago:20251013T100000
DTEND;TZID=America/Chicago:20251013T110000
DTSTAMP:20260419T081730
CREATED:20250913T211537Z
LAST-MODIFIED:20251012T230052Z
UID:10002065-1760349600-1760353200@yorkshireofedina.com
SUMMARY:Coffee Social
DESCRIPTION:
URL:https://yorkshireofedina.com/event-calendar/coffee-social-16/
LOCATION:TV Room
CATEGORIES:Memory Care
END:VEVENT
BEGIN:VEVENT
DTSTART;TZID=America/Chicago:20251013T103000
DTEND;TZID=America/Chicago:20251013T133000
DTSTAMP:20260419T081730
CREATED:20251002T220027Z
LAST-MODIFIED:20251013T011554Z
UID:10002345-1760351400-1760362200@yorkshireofedina.com
SUMMARY:Vaccine Clinic
DESCRIPTION:
URL:https://yorkshireofedina.com/event-calendar/vaccine-clinic/
LOCATION:Community Room
CATEGORIES:Assisted Living,Independent Living,Memory Care
END:VEVENT
BEGIN:VEVENT
DTSTART;TZID=America/Chicago:20251013T110000
DTEND;TZID=America/Chicago:20251013T120000
DTSTAMP:20260419T081730
CREATED:20250913T211538Z
LAST-MODIFIED:20251012T230052Z
UID:10002066-1760353200-1760356800@yorkshireofedina.com
SUMMARY:Aging Into Strength
DESCRIPTION:
URL:https://yorkshireofedina.com/event-calendar/aging-with-strength-6/
LOCATION:TV Room
CATEGORIES:Memory Care
END:VEVENT
BEGIN:VEVENT
DTSTART;TZID=America/Chicago:20251013T113000
DTEND;TZID=America/Chicago:20251013T123000
DTSTAMP:20260419T081730
CREATED:20250913T211538Z
LAST-MODIFIED:20251012T230052Z
UID:10002067-1760355000-1760358600@yorkshireofedina.com
SUMMARY:Oshibori
DESCRIPTION:
URL:https://yorkshireofedina.com/event-calendar/oshibori-126/
LOCATION:Dining Room
CATEGORIES:Memory Care
END:VEVENT
BEGIN:VEVENT
DTSTART;TZID=America/Chicago:20251013T140000
DTEND;TZID=America/Chicago:20251013T153000
DTSTAMP:20260419T081730
CREATED:20250913T211538Z
LAST-MODIFIED:20251012T230052Z
UID:10002068-1760364000-1760369400@yorkshireofedina.com
SUMMARY:Puzzles
DESCRIPTION:
URL:https://yorkshireofedina.com/event-calendar/puzzles-22/
LOCATION:Garden Room
CATEGORIES:Memory Care
END:VEVENT
BEGIN:VEVENT
DTSTART;TZID=America/Chicago:20251013T153000
DTEND;TZID=America/Chicago:20251013T163000
DTSTAMP:20260419T081730
CREATED:20250913T211538Z
LAST-MODIFIED:20251012T230052Z
UID:10002069-1760369400-1760373000@yorkshireofedina.com
SUMMARY:Manicure/ Hand Massages
DESCRIPTION:
URL:https://yorkshireofedina.com/event-calendar/manicure-hand-massages-43/
LOCATION:Garden Room
CATEGORIES:Memory Care
END:VEVENT
BEGIN:VEVENT
DTSTART;TZID=America/Chicago:20251013T163000
DTEND;TZID=America/Chicago:20251013T173000
DTSTAMP:20260419T081730
CREATED:20250914T213039Z
LAST-MODIFIED:20251012T230052Z
UID:10002074-1760373000-1760376600@yorkshireofedina.com
SUMMARY:Oshibori
DESCRIPTION:
URL:https://yorkshireofedina.com/event-calendar/oshibori-127/
LOCATION:Dining Room
CATEGORIES:Memory Care
END:VEVENT
BEGIN:VEVENT
DTSTART;TZID=America/Chicago:20251013T180000
DTEND;TZID=America/Chicago:20251013T190000
DTSTAMP:20260419T081730
CREATED:20250914T213039Z
LAST-MODIFIED:20251013T230329Z
UID:10002075-1760378400-1760382000@yorkshireofedina.com
SUMMARY:Activity with Aides
DESCRIPTION:
URL:https://yorkshireofedina.com/event-calendar/activity-with-aides-2/
LOCATION:TV Room
CATEGORIES:Memory Care
END:VEVENT
BEGIN:VEVENT
DTSTART;TZID=America/Chicago:20251013T184500
DTEND;TZID=America/Chicago:20251013T193000
DTSTAMP:20260419T081730
CREATED:20250914T213039Z
LAST-MODIFIED:20250918T214919Z
UID:10002076-1760381100-1760383800@yorkshireofedina.com
SUMMARY:Activity with Aides
DESCRIPTION:
URL:https://yorkshireofedina.com/event-calendar/activity-with-aides-3/
LOCATION:TV Room
CATEGORIES:Memory Care
END:VEVENT
END:VCALENDAR