BEGIN:VCALENDAR
VERSION:2.0
PRODID:-//Yorkshire of Edina - ECPv6.11.2.1//NONSGML v1.0//EN
CALSCALE:GREGORIAN
METHOD:PUBLISH
X-WR-CALNAME:Yorkshire of Edina
X-ORIGINAL-URL:https://yorkshireofedina.com
X-WR-CALDESC:Events for Yorkshire of Edina
REFRESH-INTERVAL;VALUE=DURATION:PT1H
X-Robots-Tag:noindex
X-PUBLISHED-TTL:PT1H
BEGIN:VTIMEZONE
TZID:America/Chicago
BEGIN:DAYLIGHT
TZOFFSETFROM:-0600
TZOFFSETTO:-0500
TZNAME:CDT
DTSTART:20250309T080000
END:DAYLIGHT
BEGIN:STANDARD
TZOFFSETFROM:-0500
TZOFFSETTO:-0600
TZNAME:CST
DTSTART:20251102T070000
END:STANDARD
END:VTIMEZONE
BEGIN:VEVENT
DTSTART;TZID=America/Chicago:20251015T093000
DTEND;TZID=America/Chicago:20251015T103000
DTSTAMP:20260419T081634
CREATED:20250915T213044Z
LAST-MODIFIED:20251014T231538Z
UID:10002093-1760520600-1760524200@yorkshireofedina.com
SUMMARY:Music Relaxation
DESCRIPTION:
URL:https://yorkshireofedina.com/event-calendar/music-relaxation-50/
LOCATION:Near Nurse Station
CATEGORIES:Memory Care
END:VEVENT
BEGIN:VEVENT
DTSTART;TZID=America/Chicago:20251015T100000
DTEND;TZID=America/Chicago:20251015T110000
DTSTAMP:20260419T081634
CREATED:20250915T213044Z
LAST-MODIFIED:20251014T231538Z
UID:10002094-1760522400-1760526000@yorkshireofedina.com
SUMMARY:Coffee Social
DESCRIPTION:
URL:https://yorkshireofedina.com/event-calendar/coffee-social-18/
LOCATION:TV Room
CATEGORIES:Memory Care
END:VEVENT
BEGIN:VEVENT
DTSTART;TZID=America/Chicago:20251015T110000
DTEND;TZID=America/Chicago:20251015T120000
DTSTAMP:20260419T081634
CREATED:20250915T213044Z
LAST-MODIFIED:20251014T231538Z
UID:10002095-1760526000-1760529600@yorkshireofedina.com
SUMMARY:Aging Into Strength
DESCRIPTION:
URL:https://yorkshireofedina.com/event-calendar/aging-with-strength-8/
LOCATION:TV Room
CATEGORIES:Memory Care
END:VEVENT
BEGIN:VEVENT
DTSTART;TZID=America/Chicago:20251015T113000
DTEND;TZID=America/Chicago:20251015T123000
DTSTAMP:20260419T081634
CREATED:20250915T213045Z
LAST-MODIFIED:20251014T231538Z
UID:10002096-1760527800-1760531400@yorkshireofedina.com
SUMMARY:Oshibori
DESCRIPTION:
URL:https://yorkshireofedina.com/event-calendar/oshibori-130/
LOCATION:Dining Room
CATEGORIES:Memory Care
END:VEVENT
BEGIN:VEVENT
DTSTART;TZID=America/Chicago:20251015T130000
DTEND;TZID=America/Chicago:20251015T140000
DTSTAMP:20260419T081634
CREATED:20250915T213045Z
LAST-MODIFIED:20251015T013025Z
UID:10002097-1760533200-1760536800@yorkshireofedina.com
SUMMARY:Spark Challenge Competition
DESCRIPTION:
URL:https://yorkshireofedina.com/event-calendar/spark-challenge-competition/
LOCATION:Community Room
CATEGORIES:Assisted Living,Independent Living,Memory Care
END:VEVENT
BEGIN:VEVENT
DTSTART;TZID=America/Chicago:20251015T140000
DTEND;TZID=America/Chicago:20251015T150000
DTSTAMP:20260419T081634
CREATED:20250915T213045Z
LAST-MODIFIED:20251014T231538Z
UID:10002098-1760536800-1760540400@yorkshireofedina.com
SUMMARY:Classroom Experience
DESCRIPTION:
URL:https://yorkshireofedina.com/event-calendar/classroom-experience-21/
LOCATION:Garden Room
CATEGORIES:Memory Care
END:VEVENT
BEGIN:VEVENT
DTSTART;TZID=America/Chicago:20251015T153000
DTEND;TZID=America/Chicago:20251015T163000
DTSTAMP:20260419T081634
CREATED:20250915T213046Z
LAST-MODIFIED:20251014T231538Z
UID:10002099-1760542200-1760545800@yorkshireofedina.com
SUMMARY:Manicure/ Hand Massages
DESCRIPTION:
URL:https://yorkshireofedina.com/event-calendar/manicure-hand-massages-44/
LOCATION:Garden Room
CATEGORIES:Memory Care
END:VEVENT
BEGIN:VEVENT
DTSTART;TZID=America/Chicago:20251015T163000
DTEND;TZID=America/Chicago:20251015T173000
DTSTAMP:20260419T081634
CREATED:20250915T213046Z
LAST-MODIFIED:20251014T231538Z
UID:10002100-1760545800-1760549400@yorkshireofedina.com
SUMMARY:Oshibori
DESCRIPTION:
URL:https://yorkshireofedina.com/event-calendar/oshibori-131/
LOCATION:Dining Room
CATEGORIES:Memory Care
END:VEVENT
BEGIN:VEVENT
DTSTART;TZID=America/Chicago:20251015T180000
DTEND;TZID=America/Chicago:20251015T190000
DTSTAMP:20260419T081634
CREATED:20250916T213055Z
LAST-MODIFIED:20251015T233026Z
UID:10002106-1760551200-1760554800@yorkshireofedina.com
SUMMARY:Yoga with Lisa
DESCRIPTION:
URL:https://yorkshireofedina.com/event-calendar/yoga-with-lisa-55/
LOCATION:TV Room
CATEGORIES:Memory Care
END:VEVENT
BEGIN:VEVENT
DTSTART;TZID=America/Chicago:20251015T184500
DTEND;TZID=America/Chicago:20251015T190000
DTSTAMP:20260419T081634
CREATED:20250916T213055Z
LAST-MODIFIED:20251015T233026Z
UID:10002107-1760553900-1760554800@yorkshireofedina.com
SUMMARY:Armchair Travel
DESCRIPTION:
URL:https://yorkshireofedina.com/event-calendar/armchair-travel-56/
LOCATION:TV Room
CATEGORIES:Memory Care
END:VEVENT
END:VCALENDAR